Report for Text-Template-Simple-0.84

Back
From: metabase:user:30f0bd62-2aae-11df-837a-5e0a49663a4f
Subject: PASS Text-Template-Simple-0.84 v5.15.2 NetBSD
Date: 2011-11-15T13:03:39Z

This distribution has been tested as part of the CPAN Testers
project, supporting the Perl programming language.  See
http://wiki.cpantesters.org/ for more information or email
questions to cpan-testers-discuss@perl.org


--
Dear Burak Gursoy,

This is a computer-generated report for Text-Template-Simple-0.84
on perl 5.15.2, created by CPAN-Reporter-1.2002.

Thank you for uploading your work to CPAN.  Congratulations!
All tests were successful.

Sections of this report:

    * Tester comments
    * Program output
    * Prerequisites
    * Environment and other context

------------------------------
TESTER COMMENTS
------------------------------

Additional comments from tester:

this report is from an automated smoke testing program
and was not reviewed by a human for accuracy

------------------------------
PROGRAM OUTPUT
------------------------------

Output from './Build test':

t/003-simple.t .................................. ok
t/003-taint-mode-simple.t ....................... ok
t/004-extend.t .................................. ok
t/004-taint-mode-extend.t ....................... ok
t/005-safe.t .................................... ok
t/005-taint-mode-safe.t ......................... ok
t/006-iolayer.t ................................. ok
t/006-taint-mode-iolayer.t ...................... ok
t/007-stack.t ................................... ok
t/007-taint-mode-stack.t ........................ ok
t/008-escape-delim.t ............................ ok
t/008-taint-mode-escape-delim.t ................. ok
t/009-subclass.t ................................ ok
t/009-taint-mode-subclass.t ..................... ok
t/010-subclass-define-bufvar.t .................. ok
t/010-taint-mode-subclass-define-bufvar.t ....... ok
t/011-cache-mem.t ............................... ok
t/011-taint-mode-cache-mem.t .................... ok
t/012-cache-disk.t .............................. ok
t/012-taint-mode-cache-disk.t ................... ok
t/013-cache-other.t ............................. ok
t/013-taint-mode-cache-other.t .................. ok
t/014-interface.t ............................... ok
t/014-taint-mode-interface.t .................... ok
t/015-connector.t ............................... ok
t/015-taint-mode-connector.t .................... ok
t/016-include-static.t .......................... ok
t/016-taint-mode-include-static.t ............... ok
t/017-include-dynamic.t ......................... ok
t/017-taint-mode-include-dynamic.t .............. ok
t/018-include-dynamic-recursive.t ............... ok
t/018-taint-mode-include-dynamic-recursive.t .... ok
t/019-dynamic-static-interpolate.t .............. ok
t/019-taint-mode-dynamic-static-interpolate.t ... ok
t/020-fake-include-recursive.t .................. ok
t/020-taint-mode-fake-include-recursive.t ....... ok
t/021-comment.t ................................. ok
t/021-taint-mode-comment.t ...................... ok
t/022-monolith.t ................................ ok
t/022-taint-mode-monolith.t ..................... ok
t/023-change-delims.t ........................... ok
t/023-taint-mode-change-delims.t ................ ok
t/024-include-paths.t ........................... ok
t/024-taint-mode-include-paths.t ................ ok
t/025-chomp.t ................................... ok
t/025-taint-mode-chomp.t ........................ ok
t/026-taint-mode-template-name-dollar-zero.t .... ok
t/026-template-name-dollar-zero.t ............... ok
t/027-include-param.t ........................... ok
t/027-taint-mode-include-param.t ................ ok
t/028-include-filter.t .......................... ok
t/028-taint-mode-include-filter.t ............... ok
t/029-block-filter.t ............................ ok
t/029-taint-mode-block-filter.t ................. ok
t/030-taint-mode-toke-substr.t .................. ok
t/030-toke-substr.t ............................. ok
t/031-capture-warnings.t ........................ ok
t/031-taint-mode-capture-warnings.t ............. ok
t/032-empty-includes.t .......................... ok
t/032-taint-mode-empty-includes.t ............... ok
t/033-dynamic-include-shared-vars.t ............. ok
t/033-taint-mode-dynamic-include-shared-vars.t .. ok
t/201-pod.t ..................................... skipped: Errors detected: Test::Pod is required for testing POD
t/202-pod-coverage.t ............................ ok
All tests successful.
Files=64, Tests=679, 23 wallclock secs ( 0.84 usr  0.50 sys + 17.95 cusr  3.77 csys = 23.06 CPU)
Result: PASS

------------------------------
PREREQUISITES
------------------------------

Prerequisite modules loaded:

requires:

    Module        Need Have   
    ------------- ---- -------
    Digest::MD5   1    2.51   

build_requires:

    Module        Need Have   
    ------------- ---- -------
    File::Temp    0.12 0.22   
    Test::More    0.40 0.98   

configure_requires:

    Module        Need Have   
    ------------- ---- -------
    Module::Build 0.38 0.39_01


------------------------------
ENVIRONMENT AND OTHER CONTEXT
------------------------------

Environment variables:

    AUTOMATED_TESTING = 1
    PATH = /home/sts/bin:/bin:/sbin:/usr/bin:/usr/sbin:/usr/X11R7/bin:/usr/X11R6/bin:/usr/pkg/bin:/usr/pkg/sbin:/usr/games:/usr/local/bin:/usr/local/sbin
    PERL5LIB = 
    PERL5OPT = 
    PERL5_CPANPLUS_IS_RUNNING = 7065
    PERL5_CPAN_IS_RUNNING = 7065
    PERL5_CPAN_IS_RUNNING_IN_RECURSION = 16235,7065
    PERL_CR_SMOKER_CURRENT = Text-Template-Simple-0.84
    PERL_EXTUTILS_AUTOINSTALL = --defaultdeps
    PERL_MM_USE_DEFAULT = 1
    SHELL = /usr/pkg/bin/bash
    TERM = screen
    TMPDIR = /home/sts/cpansmoke/tmp

Perl special variables (and OS-specific diagnostics, for MSWin32):

    $^X = /home/sts/cpansmoke/perl-5.15.2/bin/perl5.15.2
    $UID/$EUID = 1000 / 1000
    $GID = 100 100 0
    $EGID = 100 100 0

Perl module toolchain versions installed:

    Module              Have    
    ------------------- --------
    CPAN                1.9800  
    CPAN::Meta          2.112150
    Cwd                 3.37    
    ExtUtils::CBuilder  0.280204
    ExtUtils::Command   1.17    
    ExtUtils::Install   1.57    
    ExtUtils::MakeMaker 6.59    
    ExtUtils::Manifest  1.60    
    ExtUtils::ParseXS   3.03_01 
    File::Spec          3.34    
    JSON                n/a     
    JSON::PP            2.27200 
    Module::Build       0.39_01 
    Module::Signature   n/a     
    Parse::CPAN::Meta   1.4401  
    Test::Harness       3.23    
    Test::More          0.98    
    YAML                n/a     
    YAML::Syck          n/a     
    version             0.93    


--

Summary of my perl5 (revision 5 version 15 subversion 2) configuration:
   
  Platform:
    osname=netbsd, osvers=5.1, archname=i386-netbsd-thread-multi
    uname='netbsd cpansmoke7 5.1 netbsd 5.1 (xen3_domu) #0: sun nov 7 14:54:55 utc 2010 builds@b6.netbsd.org:homebuildsabnetbsd-5-1-releasei386201011061943z-objhomebuildsabnetbsd-5-1-releasesrcsysarchi386compilexen3_domu i386 '
    config_args='-des -Dusedevel -Dusethreads -Dprefix=/home/sts/cpansmoke/perl-5.15.2'
    hint=recommended, useposix=true, d_sigaction=define
    useithreads=define, usemultiplicity=define
    useperlio=define, d_sfio=undef, uselargefiles=define, usesocks=undef
    use64bitint=undef, use64bitall=undef, uselongdouble=undef
    usemymalloc=n, bincompat5005=undef
  Compiler:
    cc='cc', ccflags ='-fno-strict-aliasing -pipe -fstack-protector -I/usr/pkg/include',
    optimize='-O',
    cppflags='-fno-strict-aliasing -pipe -fstack-protector -I/usr/pkg/include'
    ccversion='', gccversion='4.1.3 20080704 prerelease (NetBSD nb2 20081120)', gccosandvers=''
    intsize=4, longsize=4, ptrsize=4, doublesize=8, byteorder=1234
    d_longlong=define, longlongsize=8, d_longdbl=define, longdblsize=12
    ivtype='long', ivsize=4, nvtype='double', nvsize=8, Off_t='off_t', lseeksize=8
    alignbytes=4, prototype=define
  Linker and Libraries:
    ld='cc', ldflags =' -Wl,-rpath,/usr/pkg/lib -Wl,-rpath,/usr/local/lib -fstack-protector -L/usr/pkg/lib'
    libpth=/usr/pkg/lib /lib /usr/lib
    libs=-lm -lcrypt -lutil -lc -lposix -lpthread
    perllibs=-lm -lcrypt -lutil -lc -lposix -lpthread
    libc=/lib/libc.so, so=so, useshrplib=false, libperl=libperl.a
    gnulibc_version=''
  Dynamic Linking:
    dlsrc=dl_dlopen.xs, dlext=so, d_dlsymun=undef, ccdlflags='-Wl,-E '
    cccdlflags='-DPIC -fPIC ', lddlflags='--whole-archive -shared  -L/usr/pkg/lib -fstack-protector'


Characteristics of this binary (from libperl): 
  Compile-time options: HAS_TIMES MULTIPLICITY PERLIO_LAYERS
                        PERL_DONT_CREATE_GVSV PERL_IMPLICIT_CONTEXT
                        PERL_MALLOC_WRAP PERL_PRESERVE_IVUV PERL_USE_DEVEL
                        USE_ITHREADS USE_LARGE_FILES USE_LOCALE
                        USE_LOCALE_COLLATE USE_LOCALE_CTYPE
                        USE_LOCALE_NUMERIC USE_PERLIO USE_PERL_ATOF
                        USE_REENTRANT_API
  Built under netbsd
  Compiled at Sep 11 2011 16:57:15
  %ENV:
    PERL5LIB=""
    PERL5OPT=""
    PERL5_CPANPLUS_IS_RUNNING="7065"
    PERL5_CPAN_IS_RUNNING="7065"
    PERL5_CPAN_IS_RUNNING_IN_RECURSION="16235,7065"
    PERL_CR_SMOKER_CURRENT="Text-Template-Simple-0.84"
    PERL_EXTUTILS_AUTOINSTALL="--defaultdeps"
    PERL_MM_USE_DEFAULT="1"
  @INC:
    /home/sts/cpansmoke/perl-5.15.2/lib/site_perl/5.15.2/i386-netbsd-thread-multi
    /home/sts/cpansmoke/perl-5.15.2/lib/site_perl/5.15.2
    /home/sts/cpansmoke/perl-5.15.2/lib/5.15.2/i386-netbsd-thread-multi
    /home/sts/cpansmoke/perl-5.15.2/lib/5.15.2
    .