SQL-Abstract v1.86 Perl 5 v5.29.5 darwin-thread-multi-2level
- Status
- Pass
- From
- Carlos Guevara
- Dist
-
SQL-Abstract v1.86
- Platform
- Perl 5 v5.29.5 darwin-thread-multi-2level
- Date
- 2018-11-04 02:27:55
- ID
- 3ca26a7c-dfd9-11e8-a190-aee2673264fb
This distribution has been tested as part of the CPAN Testers
project, supporting the Perl programming language. See
http://wiki.cpantesters.org/ for more information or email
questions to cpan-testers-discuss@perl.org
--
Dear Dagfinn Ilmari Mannsaker,
This is a computer-generated report for SQL-Abstract-1.86
on perl 5.29.5, created by CPAN-Reporter-1.2018.
Thank you for uploading your work to CPAN. Congratulations!
All tests were successful.
Sections of this report:
* Tester comments
* Program output
* Prerequisites
* Environment and other context
------------------------------
TESTER COMMENTS
------------------------------
Additional comments from tester:
none provided
------------------------------
PROGRAM OUTPUT
------------------------------
Output from '/usr/bin/make test':
PERL_DL_NONLAZY=1 "/Users/cpan/bin/perl-blead/bin/perl5.29.5" "-MExtUtils::Command::MM" "-MTest::Harness" "-e" "undef *Test::Harness::Switches; test_harness(0, 'blib/lib', 'blib/arch')" t/*.t t/*/*.t
t/00new.t ................. ok
t/01generate.t ............ ok
t/02where.t ............... ok
t/03values.t .............. ok
t/04modifiers.t ........... ok
t/05in_between.t .......... ok
t/06order_by.t ............ ok
t/07subqueries.t .......... ok
t/08special_ops.t ......... ok
t/09refkind.t ............. ok
t/10test.t ................ ok
t/11parser.t .............. ok
t/12confmerge.t ........... ok
t/12format_keyword.t ...... ok
t/13whitespace_keyword.t .. ok
t/14roundtrippin.t ........ ok
t/15placeholders.t ........ ok
t/16no_sideeffects.t ...... ok
t/20injection_guard.t ..... ok
t/21op_ident.t ............ ok
t/22op_value.t ............ ok
t/23_is_X_value.t ......... ok
t/dbic/bulk-insert.t ...... skipped: Test temporarily requires DBIx::Class
t/dbic/no-repeats.t ....... skipped: Test temporarily requires DBIx::Class
t/dbic/show-progress.t .... skipped: Test temporarily requires DBIx::Class
All tests successful.
Files=25, Tests=3200, 5 wallclock secs ( 0.49 usr 0.10 sys + 4.56 cusr 0.38 csys = 5.53 CPU)
Result: PASS
------------------------------
PREREQUISITES
------------------------------
Prerequisite modules loaded:
requires:
Module Need Have
------------------- -------- --------
Exporter 5.57 5.73
Hash::Merge 0.12 0.300
List::Util 0 1.50
Moo 2.000001 2.003004
MRO::Compat 0.12 0.13
perl 5.006 5.029005
Scalar::Util 0 1.50
Sub::Quote 2.000001 2.005001
Text::Balanced 2.00 2.03
build_requires:
Module Need Have
------------------- -------- --------
Storable 0 3.13
Test::Deep 0.101 1.128
Test::Exception 0.31 0.43
Test::More 0.88 1.302140
Test::Warn 0 0.36
configure_requires:
Module Need Have
------------------- -------- --------
ExtUtils::MakeMaker 0 7.34
------------------------------
ENVIRONMENT AND OTHER CONTEXT
------------------------------
Environment variables:
LC_ALL = C
NONINTERACTIVE_TESTING = 1
PATH = /Users/cpan/bin/perl-blead/bin:/Users/cpan/bin/perl-blead/bin:/Users/cpan/bin:/Users/cpan/bin/perl-blead/bin:/Users/cpan/bin:/usr/local/bin:/usr/bin:/bin:/usr/sbin:/sbin
PERL5LIB =
PERL5OPT =
PERL5_CPANPLUS_IS_RUNNING = 5920
PERL5_CPAN_IS_RUNNING = 5920
PERL_MM_USE_DEFAULT = 1
PERL_USE_UNSAFE_INC = 1
PERL_VERSION = blead
SHELL = /bin/bash
TERM = screen
TMPDIR = /Users/cpan/tmp
Perl special variables (and OS-specific diagnostics, for MSWin32):
$^X = /Users/cpan/bin/perl-blead/bin/perl5.29.5
$UID/$EUID = 503 / 503
$GID = 20 20 12 61 399 701 702 703 100
$EGID = 20 20 12 61 399 701 702 703 100
Perl module toolchain versions installed:
Module Have
------------------- --------
CPAN 2.21
CPAN::Meta 2.150010
Cwd 3.76
ExtUtils::CBuilder 0.280230
ExtUtils::Command 7.34
ExtUtils::Install 2.14
ExtUtils::MakeMaker 7.34
ExtUtils::Manifest 1.71
ExtUtils::ParseXS 3.39
File::Spec 3.76
JSON n/a
JSON::PP 2.97001
Module::Build 0.4224
Module::Signature n/a
Parse::CPAN::Meta 2.150010
Test::Harness 3.42
Test::More 1.302140
YAML n/a
YAML::Syck n/a
version 0.9924
--
Summary of my perl5 (revision 5 version 29 subversion 5) configuration:
Commit id: f196658042490a6287fc178f0bc20fd5558ac54b
Platform:
osname=darwin
osvers=18.0.0
archname=darwin-thread-multi-2level
uname='darwin cjg-mac.local 18.0.0 darwin kernel version 18.0.0: wed aug 22 20:13:40 pdt 2018; root:xnu-4903.201.2~1release_x86_64 x86_64 '
config_args='-des -Dprefix=~/bin/perl-blead -Dscriptdir=~/bin/perl-blead/bin -Dusedevel -Duse64bitall -Duseithreads'
hint=recommended
useposix=true
d_sigaction=define
useithreads=define
usemultiplicity=define
use64bitint=define
use64bitall=define
uselongdouble=undef
usemymalloc=n
default_inc_excludes_dot=define
bincompat5005=undef
Compiler:
cc='cc'
ccflags ='-fno-common -DPERL_DARWIN -mmacosx-version-min=10.14 -arch x86_64 -fno-strict-aliasing -pipe -fstack-protector-strong -DPERL_USE_SAFE_PUTENV'
optimize='-O3'
cppflags='-arch x86_64 -fno-common -DPERL_DARWIN -mmacosx-version-min=10.14 -arch x86_64 -fno-strict-aliasing -pipe -fstack-protector-strong'
ccversion=''
gccversion='4.2.1 Compatible Apple LLVM 10.0.0 (clang-1000.11.45.5)'
gccosandvers=''
intsize=4
longsize=8
ptrsize=8
doublesize=8
byteorder=12345678
doublekind=3
d_longlong=define
longlongsize=8
d_longdbl=define
longdblsize=16
longdblkind=3
ivtype='long'
ivsize=8
nvtype='double'
nvsize=8
Off_t='off_t'
lseeksize=8
alignbytes=8
prototype=define
Linker and Libraries:
ld='cc -arch x86_64'
ldflags =' -mmacosx-version-min=10.14 -arch x86_64 -fstack-protector-strong'
libpth=/Applications/Xcode.app/Contents/Developer/Toolchains/XcodeDefault.xctoolchain/usr/lib/clang/10.0.0/lib /Applications/Xcode.app/Contents/Developer/Toolchains/XcodeDefault.xctoolchain/usr/lib /Applications/Xcode.app/Contents/Developer/Platforms/MacOSX.platform/Developer/SDKs/MacOSX10.14.sdk/usr/lib /usr/lib
libs=-lpthread -ldbm -ldl -lm -lutil -lc
perllibs=-lpthread -ldl -lm -lutil -lc
libc=
so=dylib
useshrplib=false
libperl=libperl.a
gnulibc_version=''
Dynamic Linking:
dlsrc=dl_dlopen.xs
dlext=bundle
d_dlsymun=undef
ccdlflags=' '
cccdlflags=' '
lddlflags=' -mmacosx-version-min=10.14 -bundle -undefined dynamic_lookup -fstack-protector-strong'
Characteristics of this binary (from libperl):
Compile-time options:
HAS_TIMES
MULTIPLICITY
PERLIO_LAYERS
PERL_COPY_ON_WRITE
PERL_DONT_CREATE_GVSV
PERL_IMPLICIT_CONTEXT
PERL_MALLOC_WRAP
PERL_OP_PARENT
PERL_PRESERVE_IVUV
PERL_USE_DEVEL
PERL_USE_SAFE_PUTENV
USE_64_BIT_ALL
USE_64_BIT_INT
USE_ITHREADS
USE_LARGE_FILES
USE_LOCALE
USE_LOCALE_COLLATE
USE_LOCALE_CTYPE
USE_LOCALE_NUMERIC
USE_LOCALE_TIME
USE_PERLIO
USE_PERL_ATOF
USE_REENTRANT_API
Built under darwin
Compiled at Nov 3 2018 20:23:47
%ENV:
PERL5LIB=""
PERL5OPT=""
PERL5_CPANPLUS_IS_RUNNING="5920"
PERL5_CPAN_IS_RUNNING="5920"
PERL_MM_USE_DEFAULT="1"
PERL_USE_UNSAFE_INC="1"
PERL_VERSION="blead"
@INC:
/Users/cpan/bin/perl-blead/lib/site_perl/5.29.5/darwin-thread-multi-2level
/Users/cpan/bin/perl-blead/lib/site_perl/5.29.5
/Users/cpan/bin/perl-blead/lib/5.29.5/darwin-thread-multi-2level
/Users/cpan/bin/perl-blead/lib/5.29.5
.