Report for Filter-Crypto-2.02

Back
From: metabase:user:31d414ea-2aae-11df-837a-5e0a49663a4f
Subject: PASS Filter-Crypto-2.02 v5.14.3 GNU/Linux
Date: 2013-02-16T11:23:07Z

This distribution has been tested as part of the CPAN Testers
project, supporting the Perl programming language.  See
http://wiki.cpantesters.org/ for more information or email
questions to cpan-testers-discuss@perl.org


--
Dear Steve Hay,

This is a computer-generated report for Filter-Crypto-2.02
on perl 5.14.3, created by CPAN-Reporter-1.2006.

Thank you for uploading your work to CPAN.  Congratulations!
All tests were successful.

Sections of this report:

    * Tester comments
    * Program output
    * Prerequisites
    * Environment and other context

------------------------------
TESTER COMMENTS
------------------------------

Additional comments from tester:

this report is from an automated smoke testing program
and was not reviewed by a human for accuracy

------------------------------
PROGRAM OUTPUT
------------------------------

Output from '/usr/bin/make test':

make[1]: Entering directory `/home/david/cpantesting/perl-5.14.3/.cpan/build/Filter-Crypto-2.02-zrIY1s/CryptFile'
make[1]: Leaving directory `/home/david/cpantesting/perl-5.14.3/.cpan/build/Filter-Crypto-2.02-zrIY1s/CryptFile'
make[1]: Entering directory `/home/david/cpantesting/perl-5.14.3/.cpan/build/Filter-Crypto-2.02-zrIY1s/Decrypt'
make[1]: Leaving directory `/home/david/cpantesting/perl-5.14.3/.cpan/build/Filter-Crypto-2.02-zrIY1s/Decrypt'
PERL_DL_NONLAZY=1 /home/david/cpantesting/perl-5.14.3/bin/perl "-MExtUtils::Command::MM" "-e" "test_harness(0, 'inc', 'blib/lib', 'blib/arch')" t/01_constants.t t/02_function.t t/03_script.t t/04_par.t t/05_errstr.t t/06_pod.t
t/01_constants.t .. ok
t/02_function.t ... ok
t/03_script.t ..... ok
t/04_par.t ........ skipped: PAR::Filter required to test PAR::Filter::Crypto
t/05_errstr.t ..... ok
t/06_pod.t ........ ok
All tests successful.
Files=6, Tests=409, 23 wallclock secs ( 0.08 usr  0.02 sys +  7.02 cusr  2.14 csys =  9.26 CPU)
Result: PASS

------------------------------
PREREQUISITES
------------------------------

Prerequisite modules loaded:

requires:

    Module                Need  Have     
    --------------------- ----- ---------
    blib                  0     1.06     
    Exporter              0     5.64_03  
    Fcntl                 0     1.11     
    File::Temp            0     0.22     
    perl                  5.006 5.014003 
    Scalar::Util          0     1.23     
    Test::More            0     0.98     
    Test::Pod             1.00  1.45     
    Text::ParseWords      0     3.27     
    XSLoader              0     0.13     

build_requires:

    Module                Need  Have     
    --------------------- ----- ---------
    blib                  0     1.06     
    Carp                  0     1.26     
    Config                0     0        
    constant              0     1.21     
    Cwd                   0     3.40     
    ExtUtils::MakeMaker   6.59  6.64     
    File::Basename        0     2.82     
    File::Copy            0     2.21     
    File::Find            0     1.19     
    File::Path            0     2.08_01  
    File::Spec            0     3.40     
    File::Spec::Functions 0     3.40     
    FindBin               0     1.50     
    Getopt::Long          0     2.38     
    parent                0     0.225    
    Pod::Usage            1.15  1.36     
    strict                0     1.04     
    Test::More            0     0.98     
    Text::Wrap            0     2009.0305
    vars                  0     1.02     
    warnings              0     1.12     

configure_requires:

    Module                Need  Have     
    --------------------- ----- ---------
    Carp                  0     1.26     
    Config                0     0        
    constant              0     1.21     
    Cwd                   0     3.40     
    ExtUtils::MakeMaker   6.59  6.64     
    File::Basename        0     2.82     
    File::Copy            0     2.21     
    File::Find            0     1.19     
    File::Path            0     2.08_01  
    File::Spec            0     3.40     
    File::Spec::Functions 0     3.40     
    FindBin               0     1.50     
    Getopt::Long          0     2.38     
    parent                0     0.225    
    Pod::Usage            1.15  1.36     
    strict                0     1.04     
    Text::Wrap            0     2009.0305
    vars                  0     1.02     
    warnings              0     1.12     


------------------------------
ENVIRONMENT AND OTHER CONTEXT
------------------------------

Environment variables:

    AUTOMATED_TESTING = 1
    PATH = /usr/local/bin:/usr/bin:/bin:/usr/games
    PERL = 5.14.3
    PERL5LIB = 
    PERL5OPT = 
    PERL5_CPANPLUS_IS_RUNNING = 30897
    PERL5_CPAN_IS_RUNNING = 30897
    PERLVER = 5.14.3
    PERL_INLINE_DIRECTORY = /home/david/.Inline-5.14.3
    PERL_MM_USE_DEFAULT = 1
    SHELL = /bin/bash
    TERM = screen

Perl special variables (and OS-specific diagnostics, for MSWin32):

    $^X = /home/david/cpantesting/perl-5.14.3/bin/perl
    $UID/$EUID = 1000 / 1000
    $GID = 1000 1000
    $EGID = 1000 1000

Perl module toolchain versions installed:

    Module              Have     
    ------------------- ---------
    CPAN                1.9600_01
    CPAN::Meta          2.120921 
    Cwd                 3.40     
    ExtUtils::CBuilder  0.280203 
    ExtUtils::Command   1.17     
    ExtUtils::Install   1.56     
    ExtUtils::MakeMaker 6.64     
    ExtUtils::Manifest  1.60     
    ExtUtils::ParseXS   2.2210   
    File::Spec          3.40     
    JSON                2.53     
    JSON::PP            2.27200  
    Module::Build       0.4003   
    Module::Signature   n/a      
    Parse::CPAN::Meta   1.4404   
    Test::Harness       3.23     
    Test::More          0.98     
    YAML                0.84     
    YAML::Syck          1.22     
    version             0.88     


--

Summary of my perl5 (revision 5 version 14 subversion 3) configuration:
   
  Platform:
    osname=linux, osvers=2.6.32-5-xen-amd64, archname=x86_64-linux-thread-multi
    uname='linux pigsty.barnyard.co.uk 2.6.32-5-xen-amd64 #1 smp sun may 6 08:57:29 utc 2012 x86_64 gnulinux '
    config_args='-de -Dprefix=/home/david/cpantesting/perl-5.14.3 -Dusethreads -Duse64bitall'
    hint=recommended, useposix=true, d_sigaction=define
    useithreads=define, usemultiplicity=define
    useperlio=define, d_sfio=undef, uselargefiles=define, usesocks=undef
    use64bitint=define, use64bitall=define, uselongdouble=undef
    usemymalloc=n, bincompat5005=undef
  Compiler:
    cc='cc', ccflags ='-D_REENTRANT -D_GNU_SOURCE -fno-strict-aliasing -pipe -fstack-protector -I/usr/local/include -D_LARGEFILE_SOURCE -D_FILE_OFFSET_BITS=64',
    optimize='-O2',
    cppflags='-D_REENTRANT -D_GNU_SOURCE -fno-strict-aliasing -pipe -fstack-protector -I/usr/local/include'
    ccversion='', gccversion='4.1.2 20061115 (prerelease) (Debian 4.1.1-21)', gccosandvers=''
    intsize=4, longsize=8, ptrsize=8, doublesize=8, byteorder=12345678
    d_longlong=define, longlongsize=8, d_longdbl=define, longdblsize=16
    ivtype='long', ivsize=8, nvtype='double', nvsize=8, Off_t='off_t', lseeksize=8
    alignbytes=8, prototype=define
  Linker and Libraries:
    ld='cc', ldflags =' -fstack-protector -L/usr/local/lib'
    libpth=/usr/local/lib /lib /usr/lib /lib64 /usr/lib64
    libs=-lnsl -lgdbm -ldb -ldl -lm -lcrypt -lutil -lpthread -lc -lgdbm_compat
    perllibs=-lnsl -ldl -lm -lcrypt -lutil -lpthread -lc
    libc=/lib/libc-2.3.6.so, so=so, useshrplib=false, libperl=libperl.a
    gnulibc_version='2.3.6'
  Dynamic Linking:
    dlsrc=dl_dlopen.xs, dlext=so, d_dlsymun=undef, ccdlflags='-Wl,-E'
    cccdlflags='-fPIC', lddlflags='-shared -O2 -L/usr/local/lib -fstack-protector'


Characteristics of this binary (from libperl): 
  Compile-time options: MULTIPLICITY PERL_DONT_CREATE_GVSV
                        PERL_IMPLICIT_CONTEXT PERL_MALLOC_WRAP
                        PERL_PRESERVE_IVUV USE_64_BIT_ALL USE_64_BIT_INT
                        USE_ITHREADS USE_LARGE_FILES USE_PERLIO USE_PERL_ATOF
                        USE_REENTRANT_API
  Built under linux
  Compiled at Oct 15 2012 11:59:53
  %ENV:
    PERL="5.14.3"
    PERL5LIB=""
    PERL5OPT=""
    PERL5_CPANPLUS_IS_RUNNING="30897"
    PERL5_CPAN_IS_RUNNING="30897"
    PERLVER="5.14.3"
    PERL_INLINE_DIRECTORY="/home/david/.Inline-5.14.3"
    PERL_MM_USE_DEFAULT="1"
  @INC:
    /home/david/cpantesting/perl-5.14.3/lib/site_perl/5.14.3/x86_64-linux-thread-multi
    /home/david/cpantesting/perl-5.14.3/lib/site_perl/5.14.3
    /home/david/cpantesting/perl-5.14.3/lib/5.14.3/x86_64-linux-thread-multi
    /home/david/cpantesting/perl-5.14.3/lib/5.14.3
    .