IPC-Run v0.96 Perl 5 v5.27.7 OpenBSD.amd64-openbsd-multi
- Status
- Pass
- From
- Nigel Horne
- Dist
-
IPC-Run v0.96
- Platform
- Perl 5 v5.27.7 OpenBSD.amd64-openbsd-multi
- Date
- 2018-01-31 16:17:30
- ID
- 3cbe9e2e-06a2-11e8-af2b-acaf1d79aee4
This distribution has been tested as part of the CPAN Testers
project, supporting the Perl programming language. See
http://wiki.cpantesters.org/ for more information or email
questions to cpan-testers-discuss@perl.org
--
Dear Todd Rinaldo,
This is a computer-generated report for IPC-Run-0.96
on perl 5.27.7, created by CPAN-Reporter-1.2018.
Thank you for uploading your work to CPAN. Congratulations!
All tests were successful.
Sections of this report:
* Tester comments
* Program output
* Prerequisites
* Environment and other context
------------------------------
TESTER COMMENTS
------------------------------
Additional comments from tester:
none provided
------------------------------
PROGRAM OUTPUT
------------------------------
Output from '/usr/bin/make test':
PERL_DL_NONLAZY=1 "/home/njh/perl5/perlbrew/perls/perl-5.27.7-multi/bin/perl5.27.7" "-MExtUtils::Command::MM" "-MTest::Harness" "-e" "undef *Test::Harness::Switches; test_harness(0, 'blib/lib', 'blib/arch')" t/*.t
t/97_meta.t .................. skipped: Author tests not required for installation
t/98_pod.t ................... skipped: Author tests not required for installation
t/98_pod_coverage.t .......... skipped: Author tests not required for installation
t/99_perl_minimum_version.t .. skipped: Author tests not required for installation
t/adopt.t .................... skipped: adopt not implemented yet
t/bogus.t .................... ok
t/binmode.t .................. ok
t/filter.t ................... ok
t/io.t ....................... ok
t/harness.t .................. ok
t/parallel.t ................. ok
t/pty.t ...................... skipped: IO::Pty not installed
t/pump.t ..................... ok
t/kill_kill.t ................ ok
t/run.t ...................... ok
t/signal.t ................... ok
t/timer.t .................... ok
Constant subroutine IPPROTO_TCP redefined at /home/njh/perl5/perlbrew/perls/perl-5.27.7-multi/lib/5.27.7/OpenBSD.amd64-openbsd-multi/Socket.pm line 4294967295.
t/win32_compile.t ............ ok
t/windows_search_path.t ...... ok
t/timeout.t .................. ok
All tests successful.
Files=20, Tests=661, 19 wallclock secs ( 0.61 usr 0.23 sys + 9.46 cusr 3.41 csys = 13.71 CPU)
Result: PASS
------------------------------
PREREQUISITES
------------------------------
Prerequisite modules loaded:
requires:
Module Need Have
------------------- ---- --------
Test::More 0.47 1.302120
build_requires:
Module Need Have
------------------- ---- --------
ExtUtils::MakeMaker 0 7.30
configure_requires:
Module Need Have
------------------- ---- --------
ExtUtils::MakeMaker 0 7.30
------------------------------
ENVIRONMENT AND OTHER CONTEXT
------------------------------
Environment variables:
HARNESS_OPTIONS = j2:c
NONINTERACTIVE_TESTING = 1
PATH = /home/njh/perl5/perlbrew/bin:/home/njh/perl5/perlbrew/perls/perl-5.27.7-multi/bin:/home/njh/perl5/perlbrew/bin:/home/njh/perl5/perlbrew/perls/perl-5.26.1/bin:/home/njh/bin:/bin:/sbin:/usr/bin:/usr/sbin:/usr/X11R6/bin:/usr/local/bin:/usr/local/sbin:/usr/games:.
PERL5LIB =
PERL5OPT =
PERL5_CPANPLUS_IS_RUNNING = 12297
PERL5_CPAN_IS_RUNNING = 12297
PERLBREW_HOME = /home/njh/.perlbrew
PERLBREW_LIB =
PERLBREW_MANPATH = /home/njh/perl5/perlbrew/perls/perl-5.27.7-multi/man
PERLBREW_PATH = /home/njh/perl5/perlbrew/bin:/home/njh/perl5/perlbrew/perls/perl-5.27.7-multi/bin
PERLBREW_PERL = perl-5.27.7-multi
PERLBREW_ROOT = /home/njh/perl5/perlbrew
PERLBREW_SHELLRC_VERSION = 0.82
PERLBREW_VERSION = 0.82
PERL_LOCAL_LIB_ROOT =
PERL_MM_USE_DEFAULT = 1
PERL_USE_UNSAFE_INC = 1
SHELL = /usr/local/bin/bash
TERM = xterm-256color
Perl special variables (and OS-specific diagnostics, for MSWin32):
$^X = /home/njh/perl5/perlbrew/perls/perl-5.27.7-multi/bin/perl5.27.7
$UID/$EUID = 1000 / 1000
$GID = 1000 1000 0
$EGID = 1000 1000 0
Perl module toolchain versions installed:
Module Have
------------------- --------
CPAN 2.20
CPAN::Meta 2.150010
Cwd 3.71
ExtUtils::CBuilder 0.280230
ExtUtils::Command 7.30
ExtUtils::Install 2.14
ExtUtils::MakeMaker 7.30
ExtUtils::Manifest 1.70
ExtUtils::ParseXS 3.36
File::Spec 3.71
JSON n/a
JSON::PP 2.97000
Module::Build n/a
Module::Signature n/a
Parse::CPAN::Meta 2.150010
Test::Harness 3.39
Test::More 1.302120
YAML n/a
YAML::Syck n/a
version 0.9918
--
Summary of my perl5 (revision 5 version 27 subversion 7) configuration:
Platform:
osname=openbsd
osvers=6.2
archname=OpenBSD.amd64-openbsd-multi
uname='openbsd netgate1.bandsman.co.uk 6.2 generic.mp#2 amd64 '
config_args='-de -Dprefix=/home/njh/perl5/perlbrew/perls/perl-5.27.7-multi -Dusedevel -Dusemultiplicity -Dusedevel -Accflags= -Aeval:scriptdir=/home/njh/perl5/perlbrew/perls/perl-5.27.7-multi/bin'
hint=recommended
useposix=true
d_sigaction=define
useithreads=undef
usemultiplicity=define
use64bitint=define
use64bitall=define
uselongdouble=undef
usemymalloc=n
default_inc_excludes_dot=define
bincompat5005=undef
Compiler:
cc='cc'
ccflags ='-fno-strict-aliasing -pipe -fstack-protector-strong -I/usr/local/include -D_FORTIFY_SOURCE=2'
optimize='-O2'
cppflags='-fno-strict-aliasing -pipe -fstack-protector-strong -I/usr/local/include'
ccversion=''
gccversion='4.2.1 Compatible OpenBSD Clang 4.0.0 (tags/RELEASE_400/final)'
gccosandvers=''
intsize=4
longsize=8
ptrsize=8
doublesize=8
byteorder=12345678
doublekind=3
d_longlong=define
longlongsize=8
d_longdbl=define
longdblsize=16
longdblkind=3
ivtype='long'
ivsize=8
nvtype='double'
nvsize=8
Off_t='off_t'
lseeksize=8
alignbytes=8
prototype=define
Linker and Libraries:
ld='cc'
ldflags ='-Wl,-E -fstack-protector-strong -L/usr/local/lib'
libpth=/usr/lib /usr/local/lib
libs=-lpthread -lm -lutil -lc
perllibs=-lpthread -lm -lutil -lc
libc=/usr/lib/libc.so.90.0
so=so
useshrplib=false
libperl=libperl.a
gnulibc_version=''
Dynamic Linking:
dlsrc=dl_dlopen.xs
dlext=so
d_dlsymun=undef
ccdlflags=' '
cccdlflags='-DPIC -fPIC '
lddlflags='-shared -fPIC -L/usr/local/lib -fstack-protector-strong'
Characteristics of this binary (from libperl):
Compile-time options:
HAS_TIMES
MULTIPLICITY
PERLIO_LAYERS
PERL_COPY_ON_WRITE
PERL_DONT_CREATE_GVSV
PERL_IMPLICIT_CONTEXT
PERL_MALLOC_WRAP
PERL_OP_PARENT
PERL_PRESERVE_IVUV
PERL_USE_DEVEL
USE_64_BIT_ALL
USE_64_BIT_INT
USE_LARGE_FILES
USE_LOCALE
USE_LOCALE_COLLATE
USE_LOCALE_CTYPE
USE_LOCALE_NUMERIC
USE_LOCALE_TIME
USE_PERLIO
USE_PERL_ATOF
Locally applied patches:
Devel::PatchPerl 1.48
Built under openbsd
Compiled at Jan 30 2018 01:13:30
%ENV:
PERL5LIB=""
PERL5OPT=""
PERL5_CPANPLUS_IS_RUNNING="12297"
PERL5_CPAN_IS_RUNNING="12297"
PERLBREW_HOME="/home/njh/.perlbrew"
PERLBREW_LIB=""
PERLBREW_MANPATH="/home/njh/perl5/perlbrew/perls/perl-5.27.7-multi/man"
PERLBREW_PATH="/home/njh/perl5/perlbrew/bin:/home/njh/perl5/perlbrew/perls/perl-5.27.7-multi/bin"
PERLBREW_PERL="perl-5.27.7-multi"
PERLBREW_ROOT="/home/njh/perl5/perlbrew"
PERLBREW_SHELLRC_VERSION="0.82"
PERLBREW_VERSION="0.82"
PERL_LOCAL_LIB_ROOT=""
PERL_MM_USE_DEFAULT="1"
PERL_USE_UNSAFE_INC="1"
@INC:
/home/njh/perl5/perlbrew/perls/perl-5.27.7-multi/lib/site_perl/5.27.7/OpenBSD.amd64-openbsd-multi
/home/njh/perl5/perlbrew/perls/perl-5.27.7-multi/lib/site_perl/5.27.7
/home/njh/perl5/perlbrew/perls/perl-5.27.7-multi/lib/5.27.7/OpenBSD.amd64-openbsd-multi
/home/njh/perl5/perlbrew/perls/perl-5.27.7-multi/lib/5.27.7
.