CPAN-SQLite v0.215 Perl 5 v5.12.2 MSWin32-x86-multi-thread

Status
Pass
From
Alexandr Ciornii (CHORNY)
Dist
CPAN-SQLite v0.215
Platform
Perl 5 v5.12.2 MSWin32-x86-multi-thread
Date
2019-01-24 11:37:22
ID
3cd090ff-6bf4-1014-a5c7-4c7b68dce524
This distribution has been tested as part of the CPAN Testers
project, supporting the Perl programming language.  See
http://wiki.cpantesters.org/ for more information or email
questions to cpan-testers-discuss@perl.org


--
Dear Serguei Trouchelle,

This is a computer-generated report for CPAN-SQLite-0.215
on perl 5.12.2, created by CPAN-Reporter-1.2018.

Thank you for uploading your work to CPAN.  Congratulations!
All tests were successful.

Sections of this report:

    * Tester comments
    * Program output
    * Prerequisites
    * Environment and other context

------------------------------
TESTER COMMENTS
------------------------------

Additional comments from tester:

this report is from an automated smoke testing program
and was not reviewed by a human for accuracy

------------------------------
PROGRAM OUTPUT
------------------------------

Output from 'C:\strawberry\c\bin\dmake.EXE test':

C:\strawberry\perl\bin\perl.exe "-MExtUtils::Command::MM" "-MTest::Harness" "-e" "undef *Test::Harness::Switches; test_harness(0, 'blib\lib', 'blib\arch')" t/*.t
# Listing %INC
#                           AutoLoader 5.70
#                                    B 1.23
#                                 CPAN 2.16
#                         CPAN::Author 5.5002
#                         CPAN::Bundle 5.5002
#                       CPAN::CacheMgr 5.5002
#                       CPAN::Complete 5.5001
#                          CPAN::Debug 5.5001
#                   CPAN::DeferredCode 5.50
#                   CPAN::DistnameInfo 0.12
#                   CPAN::Distribution 2.16
#                    CPAN::Distroprefs 6.0001
#                   CPAN::Distrostatus 5.5
# CPAN::Exception::RecursiveDependency 5.5001
#  CPAN::Exception::yaml_not_installed 5.5
#  CPAN::Exception::yaml_process_error 5.5
#                            CPAN::FTP 5.5008
#                     CPAN::FTP::netrc 1.01
#              CPAN::HTTP::Credentials 1.9601
#                   CPAN::HandleConfig 5.5008
#                          CPAN::Index 2.12
#                        CPAN::InfoObj 5.5
#                 CPAN::LWP::UserAgent 1.9601
#                         CPAN::Module 5.5003
#                         CPAN::Prompt 5.5
#                          CPAN::Queue 5.5002
#                          CPAN::Shell 5.5006
#                         CPAN::Tarzip 5.5012
#                            CPAN::URL 5.5
#                        CPAN::Version 5.5003
#                                 Carp 1.3301
#                          Carp::Heavy 1.3301
#                  Compress::Raw::Zlib 2.03
#                       Compress::Zlib 2.03
#                               Config undef
#                                  Cwd 3.47
#                                  DBI 1.631
#                            DirHandle 1.03
#                           DynaLoader 1.10
#                              English 1.04
#                                Errno 1.11
#                             Exporter 5.70
#                      Exporter::Heavy 5.70
#                    ExtUtils::Liblist 6.98
#               ExtUtils::Liblist::Kid 6.98
#                         ExtUtils::MM 6.98
#                     ExtUtils::MM_Any 6.98
#                    ExtUtils::MM_Unix 6.98
#                   ExtUtils::MM_Win32 6.98
#                         ExtUtils::MY 6.98
#                  ExtUtils::MakeMaker 6.98
#          ExtUtils::MakeMaker::Config 6.98
#                                Fcntl 1.06
#                       File::Basename 2.78
#                           File::Copy 2.18
#                           File::Find 1.15
#                           File::Glob 1.07
#                     File::GlobMapper 1.000
#                        File::HomeDir 1.00
#                File::HomeDir::Driver 1.00
#               File::HomeDir::Windows 1.00
#                           File::Path 2.08_01
#                           File::Spec 3.47
#                File::Spec::Functions 3.47
#                     File::Spec::Unix 3.47
#                    File::Spec::Win32 3.47
#                          File::Which 1.09
#                           FileHandle 2.02
#                         Getopt::Long 2.42
#                           HTTP::Tiny 0.043
#                                   IO 1.25_02
#       IO::Compress::Adapter::Deflate 2.030
#                   IO::Compress::Base 2.030
#           IO::Compress::Base::Common 2.030
#                   IO::Compress::Gzip 2.030
#        IO::Compress::Gzip::Constants 2.030
#             IO::Compress::RawDeflate 2.030
#            IO::Compress::Zlib::Extra 2.030
#                             IO::File 1.14
#                           IO::Handle 1.28
#                         IO::Seekable 1.1
#                           IO::Socket 1.31
#                     IO::Socket::INET 1.31
#                       IO::Socket::IP 0.31
#                     IO::Socket::UNIX 1.23
#     IO::Uncompress::Adapter::Inflate 2.030
#                 IO::Uncompress::Base 2.030
#               IO::Uncompress::Gunzip 2.030
#           IO::Uncompress::RawInflate 2.030
#                           List::Util 1.39
#                               Opcode 1.15
#                                POSIX 1.19
#                                 Safe 2.35
#                         Scalar::Util 1.39
#                          SelectSaver 1.02
#                               Socket 2.018
#                               Symbol 1.07
#                        Sys::Hostname 1.11
#                     Text::ParseWords 3.27
#                           Text::Tabs 2009.0305
#                           Text::Wrap 2009.0305
#                            Tie::Hash 1.03
#              Tie::Hash::NamedCapture 0.06
#                                Win32 0.49
#                             XSLoader 0.10
#                                 base 2.18
#                                bytes 1.04
#                             constant 1.27
#                                  lib 0.62
#                             overload 1.10
#                               parent 0.228
#                                   re 0.11
#                               strict 1.04
#                                 subs 1.00
#                                 utf8 1.08
#                                 vars 1.01
#                             warnings 1.09
#                   warnings::register 1.01
t/00-all_prereqs.t ............... ok
t/00-compile.t ................... ok
# 
# Versions for all modules listed in MYMETA.json (including optional ones):
# 
# === Configure Requires ===
# 
#     Module              Want Have
#     ------------------- ---- ----
#     ExtUtils::MakeMaker  any 6.98
# 
# === Build Requires ===
# 
#     Module              Want Have
#     ------------------- ---- ----
#     ExtUtils::MakeMaker  any 6.98
# 
# === Test Requires ===
# 
#     Module              Want     Have
#     ------------------- ---- --------
#     CPAN::HandleConfig   any   5.5008
#     CPAN::Version        any   5.5003
#     Carp                 any   1.3301
#     DBD::SQLite          any     1.42
#     ExtUtils::MakeMaker  any     6.98
#     File::Copy           any     2.18
#     File::Spec           any     3.47
#     FindBin              any     1.50
#     IO::Handle           any     1.28
#     IPC::Open3           any     1.05
#     Test::Memory::Cycle  any     1.04
#     Test::More          0.94 1.001003
#     base                 any     2.18
#     lib                  any     0.62
# 
# === Test Recommends ===
# 
#     Module         Want     Have
#     ---------- -------- --------
#     CPAN::Meta 2.120900 2.141520
# 
# === Runtime Requires ===
# 
#     Module                Want    Have
#     --------------------- ---- -------
#     Archive::Tar          1.54    2.00
#     CPAN                   any    2.16
#     CPAN::DistnameInfo    0.09    0.12
#     CPAN::Index           1.93    2.12
#     Compress::Zlib         any   2.030
#     Cwd                    any    3.47
#     DBD::SQLite           1.27    1.42
#     DBI                    any   1.631
#     English                any    1.04
#     Exporter               any    5.70
#     File::Basename         any    2.78
#     File::Find             any    1.15
#     File::HomeDir          any    1.00
#     File::Path             any 2.08_01
#     File::Spec             any    3.47
#     File::Spec::Functions  any    3.47
#     Getopt::Long           any    2.42
#     HTTP::Tiny             any   0.043
#     IO::Zlib               any    1.10
#     Safe                   any    2.35
#     Scalar::Util           any    1.39
#     constant               any    1.27
#     parent                 any   0.228
#     strict                 any    1.04
#     utf8                   any    1.08
#     warnings               any    1.09
# 
t/00-report-prereqs.t ............ ok
# Testing with Perl 5.012002, C:\strawberry\perl\bin\perl.exe
#     CPAN version is 2.16
#     CPAN::DistnameInfo version is 0.12
#     CPAN::HandleConfig version is 5.5008
#     CPAN::Version version is 5.5003
#     Carp version is 1.3301
#     Compress::Zlib version is 2.03
#     Cwd version is 3.47
#     DBD::SQLite version is 1.42
#     DBI version is 1.631
#     English version is 1.04
#     Exporter version is 5.70
#     ExtUtils::MakeMaker version is 6.98
#     File::Basename version is 2.78
#     File::Copy version is 2.18
#     File::Find version is 1.15
#     File::HomeDir version is 1.00
#     File::Path version is 2.08_01
#     File::Spec version is 3.47
#     File::Spec::Functions version is 3.47
#     FindBin version is 1.50
#     Getopt::Long version is 2.42
#     HTTP::Tiny version is 0.043
#     IO::Handle version is 1.28
#     IPC::Open3 version is 1.05
#     Safe version is 2.35
#     Scalar::Util version is 1.39
#     Test::Memory::Cycle version is 1.04
#     Test::More version is 1.001003
#     base version is 2.18
#     constant version is 1.27
#     lib version is 0.62
#     parent version is 0.228
#     strict version is 1.04
#     utf8 version is 1.08
#     warnings version is 1.09
t/000-report-versions.t .......... ok
t/01basic.t ...................... ok
t/02drop.t ....................... ok
t/03info.t ....................... ok
t/04search.t ..................... ok
t/04search_everything.t .......... ok
t/05meta_new.t ................... ok
t/05meta_update.t ................ ok
t/06retrieve.t ................... ok
t/07download.t ................... ok
t/08circular_references.t ........ ok
t/author-critic.t ................ skipped: these tests are for testing by the author
t/author-eol.t ................... skipped: these tests are for testing by the author
t/author-minimum-version.t ....... skipped: these tests are for testing by the author
t/author-no-tabs.t ............... skipped: these tests are for testing by the author
t/author-pod-syntax.t ............ skipped: these tests are for testing by the author
t/release-changes_has_content.t .. skipped: these tests are for release candidate testing
t/release-distmeta.t ............. skipped: these tests are for release candidate testing
t/release-fixme.t ................ skipped: these tests are for release candidate testing
t/release-has-version.t .......... skipped: these tests are for release candidate testing
t/release-kwalitee.t ............. skipped: these tests are for release candidate testing
t/release-meta-json.t ............ skipped: these tests are for release candidate testing
t/release-pause-permissions.t .... skipped: these tests are for release candidate testing
All tests successful.
Files=26, Tests=11316, 38 wallclock secs ( 0.82 usr +  0.14 sys =  0.96 CPU)
Result: PASS

------------------------------
PREREQUISITES
------------------------------

Prerequisite modules loaded:

requires:

    Module              Need Have 
    ------------------- ---- -----
    Archive::Tar        1.54 2.00 
    Compress::Zlib      0    2.030
    CPAN::DistnameInfo  0.09 0.12 
    CPAN::Index         1.93 2.12 
    DBD::SQLite         1.27 1.42 
    File::HomeDir       0    1.00 
    File::Spec          0    3.47 
    HTTP::Tiny          0    0.043
    IO::Zlib            0    1.10 
    parent              0    0.228

build_requires:

    Module              Need Have 
    ------------------- ---- -----
    ExtUtils::MakeMaker 0    6.98 
    Test::Memory::Cycle 0    1.04 

configure_requires:

    Module              Need Have 
    ------------------- ---- -----
    ExtUtils::MakeMaker 0    6.98 


------------------------------
ENVIRONMENT AND OTHER CONTEXT
------------------------------

Environment variables:

    AUTOMATED_TESTING = 1
    COMSPEC = C:\WINDOWS\system32\cmd.exe
    NUMBER_OF_PROCESSORS = 1
    PATH = c:\Windows\system32;c:\Windows\System32\Wbem;C:\Git\cmd;C:\strawberry\c\bin;C:\strawberry\perl\site\bin;C:\strawberry\perl\bin
    PERL5LIB = 
    PERL5OPT = 
    PERL5_CPANPLUS_IS_RUNNING = 904
    PERL5_CPAN_IS_RUNNING = 904
    PERL5_CPAN_IS_RUNNING_IN_RECURSION = 1740,904
    PERL_CR_SMOKER_CURRENT = CPAN-SQLite-0.215
    PERL_CR_SMOKER_RUNONCE = 1
    PERL_EXTUTILS_AUTOINSTALL = --defaultdeps
    PERL_MM_USE_DEFAULT = 1
    PROCESSOR_IDENTIFIER = x86 Family 18 Model 1 Stepping 0, AuthenticAMD
    TEMP = C:\DOCUME~1\c\LOCALS~1\Temp
    TERM = dumb

Perl special variables (and OS-specific diagnostics, for MSWin32):

    $^X = C:\strawberry\perl\bin\perl.exe
    $UID/$EUID = 0 / 0
    $GID = 0
    $EGID = 0
    Win32::GetOSName = WinXP/.Net
    Win32::GetOSVersion = Service Pack 3, 5, 1, 2600, 2, 3, 0, 256, 1
    Win32::FsType = NTFS
    Win32::IsAdminUser = 1

Perl module toolchain versions installed:

    Module              Have    
    ------------------- --------
    CPAN                2.16    
    CPAN::Meta          2.141520
    Cwd                 3.47    
    ExtUtils::CBuilder  0.280216
    ExtUtils::Command   1.16    
    ExtUtils::Install   1.55    
    ExtUtils::MakeMaker 6.98    
    ExtUtils::Manifest  1.60    
    ExtUtils::ParseXS   3.24    
    File::Spec          3.47    
    JSON                2.90    
    JSON::PP            2.27203 
    Module::Build       0.4206  
    Module::Signature   0.66    
    Parse::CPAN::Meta   1.4414  
    Test::Harness       3.32    
    Test::More          1.001003
    YAML                0.98    
    YAML::Syck          1.27    
    version             0.9908  


--

Summary of my perl5 (revision 5 version 12 subversion 2) configuration:
   
  Platform:
    osname=MSWin32, osvers=5.1, archname=MSWin32-x86-multi-thread
    uname='Win32 strawberryperl 5.12.2.0 #1 Fri Nov  5 05:17:27 2010 i386'
    config_args='undef'
    hint=recommended, useposix=true, d_sigaction=undef
    useithreads=define, usemultiplicity=define
    useperlio=define, d_sfio=undef, uselargefiles=define, usesocks=undef
    use64bitint=undef, use64bitall=undef, uselongdouble=undef
    usemymalloc=n, bincompat5005=undef
  Compiler:
    cc='gcc', ccflags =' -s -O2 -DWIN32 -DHAVE_DES_FCRYPT  -DUSE_SITECUSTOMIZE -DPERL_IMPLICIT_CONTEXT -DPERL_IMPLICIT_SYS -fno-strict-aliasing -mms-bitfields -DPERL_MSVCRT_READFIX',
    optimize='-s -O2',
    cppflags='-DWIN32'
    ccversion='', gccversion='4.4.3', gccosandvers=''
    intsize=4, longsize=4, ptrsize=4, doublesize=8, byteorder=1234
    d_longlong=undef, longlongsize=8, d_longdbl=define, longdblsize=12
    ivtype='long', ivsize=4, nvtype='double', nvsize=8, Off_t='long long', lseeksize=8
    alignbytes=8, prototype=define
  Linker and Libraries:
    ld='g++', ldflags ='-s -L"C:\strawberry\perl\lib\CORE" -L"C:\strawberry\c\lib"'
    libpth=C:\strawberry\c\lib C:\strawberry\c\i686-w64-mingw32\lib
    libs=-lmoldname -lkernel32 -luser32 -lgdi32 -lwinspool -lcomdlg32 -ladvapi32 -lshell32 -lole32 -loleaut32 -lnetapi32 -luuid -lws2_32 -lmpr -lwinmm -lversion -lodbc32 -lodbccp32 -lcomctl32
    perllibs=-lmoldname -lkernel32 -luser32 -lgdi32 -lwinspool -lcomdlg32 -ladvapi32 -lshell32 -lole32 -loleaut32 -lnetapi32 -luuid -lws2_32 -lmpr -lwinmm -lversion -lodbc32 -lodbccp32 -lcomctl32
    libc=, so=dll, useshrplib=true, libperl=libperl512.a
    gnulibc_version=''
  Dynamic Linking:
    dlsrc=dl_win32.xs, dlext=dll, d_dlsymun=undef, ccdlflags=' '
    cccdlflags=' ', lddlflags='-mdll -s -L"C:\strawberry\perl\lib\CORE" -L"C:\strawberry\c\lib"'


Characteristics of this binary (from libperl): 
  Compile-time options: MULTIPLICITY PERL_DONT_CREATE_GVSV
                        PERL_IMPLICIT_CONTEXT PERL_IMPLICIT_SYS
                        PERL_MALLOC_WRAP PL_OP_SLAB_ALLOC USE_ITHREADS
                        USE_LARGE_FILES USE_PERLIO USE_PERL_ATOF
                        USE_SITECUSTOMIZE
  Built under MSWin32
  Compiled at Nov  5 2010 08:39:08
  %ENV:
    PERL5_CPANPLUS_IS_RUNNING="904"
    PERL5_CPAN_IS_RUNNING="904"
    PERL5_CPAN_IS_RUNNING_IN_RECURSION="1740,904"
    PERL_CR_SMOKER_CURRENT="CPAN-SQLite-0.215"
    PERL_CR_SMOKER_RUNONCE="1"
    PERL_EXTUTILS_AUTOINSTALL="--defaultdeps"
    PERL_MM_USE_DEFAULT="1"
  @INC:
    C:/strawberry/perl/site/lib
    C:/strawberry/perl/vendor/lib
    C:/strawberry/perl/lib
    .