Report for Net-OpenStack-Swift-0.08

Back
From: metabase:user:314402c4-2aae-11df-837a-5e0a49663a4f
Subject: PASS Net-OpenStack-Swift-0.08 v5.18.4 GNU/Linux
Date: 2016-03-11T11:27:28Z

This distribution has been tested as part of the CPAN Testers
project, supporting the Perl programming language.  See
http://wiki.cpantesters.org/ for more information or email
questions to cpan-testers-discuss@perl.org


--
Dear MASAAKI SAITO,

This is a computer-generated report for Net-OpenStack-Swift-0.08
on perl 5.18.4, created by CPAN-Reporter-1.2015.

Thank you for uploading your work to CPAN.  Congratulations!
All tests were successful.

Sections of this report:

    * Tester comments
    * Program output
    * Prerequisites
    * Environment and other context

------------------------------
TESTER COMMENTS
------------------------------

Additional comments from tester:

none provided

------------------------------
PROGRAM OUTPUT
------------------------------

Output from './Build test':

t/00_compile.t .... ok
t/01_util.t ....... ok
t/02_keystone.t ... ok
t/03_auth.t ....... ok
t/04_account.t .... ok
t/05_container.t .. ok
t/06_object.t ..... ok
All tests successful.
Files=7, Tests=27,  3 wallclock secs ( 0.06 usr  0.00 sys +  1.20 cusr  0.08 csys =  1.34 CPU)
Result: PASS

------------------------------
PREREQUISITES
------------------------------

Prerequisite modules loaded:

requires:

    Module                          Need      Have      
    ------------------------------- --------- ----------
    App::Rad                        0         1.05      
    Data::Validator                 0         1.07      
    Furl                            0         3.07      
    IO::Socket::SSL                 0         2.022     
    JSON                            0         2.90      
    Log::Minimal                    0         0.19      
    Mouse                           0         v2.4.5    
    namespace::clean                0         0.26      
    Parallel::Fork::BossWorkerAsync 0         0.08      
    Path::Tiny                      0         0.076     
    perl                            5.010_001 5.018004  
    Sys::CPU                        0         0.61      
    Text::ASCIITable                0         0.20      
    URI::Escape                     0         3.31      

build_requires:

    Module                          Need      Have      
    ------------------------------- --------- ----------
    Data::Section::Simple           0         0.07      
    Test::MockObject                0         1.20150527
    Test::MockObject::Extends       0         1.20150527
    Test::More                      0.98      1.001014  

configure_requires:

    Module                          Need      Have      
    ------------------------------- --------- ----------
    Module::Build                   0.38      0.4214    


------------------------------
ENVIRONMENT AND OTHER CONTEXT
------------------------------

Environment variables:

    LANG = en_US.UTF-8
    LANGUAGE = en_US:en
    PATH = /usr/local/bin:/usr/bin:/bin:/usr/local/sbin:/usr/sbin:/sbin:/home/cpansand/bin/linux-gnu:/home/cpansand/bin/sh:/home/cpansand/bin:/usr/games:/home/cpansand/devel:/home/eserte/src/srezic-misc/scripts
    PERL5LIB = /home/cpansand/.cpan/build/2016031112/Parallel-Fork-BossWorkerAsync-0.08-Wp1Qw3/blib/arch:/home/cpansand/.cpan/build/2016031112/Parallel-Fork-BossWorkerAsync-0.08-Wp1Qw3/blib/lib
    PERL5OPT = 
    PERL5_CPANPLUS_IS_RUNNING = 24947
    PERL5_CPAN_IS_RUNNING = 24947
    PERL5_CPAN_IS_RUNNING_IN_RECURSION = 24779,24947
    PERLDOC = -MPod::Perldoc::ToTextOverstrike
    PERL_BATCH = yes
    PERL_CANARY_STABILITY_NOPROMPT = 1
    PERL_CPAN_REPORTER_CONFIG = /run/user/1023/cpansmoker/2016031112/cpanreporter_000_config.ini
    PERL_EXTUTILS_AUTOINSTALL = --defaultdeps
    SHELL = /bin/zsh
    TERM = screen
    TMPDIR = /run/user/1023/cpansmoker/2016031112

Perl special variables (and OS-specific diagnostics, for MSWin32):

    $^X = /opt/perl-5.18.4/bin/perl5.18.4
    $UID/$EUID = 1023 / 1023
    $GID = 1023 1023
    $EGID = 1023 1023

Perl module toolchain versions installed:

    Module              Have    
    ------------------- --------
    CPAN                2.10    
    CPAN::Meta          2.150005
    Cwd                 3.60    
    ExtUtils::CBuilder  0.280223
    ExtUtils::Command   7.10    
    ExtUtils::Install   1.59    
    ExtUtils::MakeMaker 7.10    
    ExtUtils::Manifest  1.70    
    ExtUtils::ParseXS   3.30    
    File::Spec          3.60    
    JSON                2.90    
    JSON::PP            2.27300 
    Module::Build       0.4214  
    Module::Signature   0.79    
    Parse::CPAN::Meta   1.4417  
    Test::Harness       3.35    
    Test::More          1.001014
    YAML                1.15    
    YAML::Syck          1.29    
    version             0.9912  


--

Summary of my perl5 (revision 5 version 18 subversion 4) configuration:
   
  Platform:
    osname=linux, osvers=3.12-1-amd64, archname=x86_64-linux
    uname='linux cvrsnica-jessie 3.12-1-amd64 #1 smp debian 3.12.9-1 (2014-02-01) x86_64 gnulinux '
    config_args='-ds -e -Dprefix=/opt/perl-5.18.4'
    hint=previous, useposix=true, d_sigaction=define
    useithreads=undef, usemultiplicity=undef
    useperlio=define, d_sfio=undef, uselargefiles=define, usesocks=undef
    use64bitint=define, use64bitall=define, uselongdouble=undef
    usemymalloc=n, bincompat5005=undef
  Compiler:
    cc='cc', ccflags ='-fno-strict-aliasing -pipe -fstack-protector -I/usr/local/include -D_LARGEFILE_SOURCE -D_FILE_OFFSET_BITS=64',
    optimize='-O2',
    cppflags='-fno-strict-aliasing -pipe -fstack-protector -I/usr/local/include -fno-strict-aliasing -pipe -fstack-protector -I/usr/local/include -D_LARGEFILE_SOURCE -D_FILE_OFFSET_BITS=64'
    ccversion='', gccversion='4.9.1', gccosandvers=''
    intsize=4, longsize=8, ptrsize=8, doublesize=8, byteorder=12345678
    d_longlong=define, longlongsize=8, d_longdbl=define, longdblsize=16
    ivtype='long', ivsize=8, nvtype='double', nvsize=8, Off_t='off_t', lseeksize=8
    alignbytes=8, prototype=define
  Linker and Libraries:
    ld='cc', ldflags =' -fstack-protector -L/usr/local/lib'
    libpth=/usr/local/lib /lib/x86_64-linux-gnu /lib/../lib /usr/lib/x86_64-linux-gnu /usr/lib/../lib /lib /usr/lib
    libs=-lnsl -lgdbm -ldb -ldl -lm -lcrypt -lutil -lc -lgdbm_compat
    perllibs=-lnsl -ldl -lm -lcrypt -lutil -lc
    libc=, so=so, useshrplib=false, libperl=libperl.a
    gnulibc_version='2.19'
  Dynamic Linking:
    dlsrc=dl_dlopen.xs, dlext=so, d_dlsymun=undef, ccdlflags='-Wl,-E'
    cccdlflags='-fPIC', lddlflags='-shared -O2 -L/usr/local/lib -fstack-protector'


Characteristics of this binary (from libperl): 
  Compile-time options: HAS_TIMES PERLIO_LAYERS PERL_DONT_CREATE_GVSV
                        PERL_HASH_FUNC_ONE_AT_A_TIME_HARD PERL_MALLOC_WRAP
                        PERL_PRESERVE_IVUV PERL_SAWAMPERSAND USE_64_BIT_ALL
                        USE_64_BIT_INT USE_LARGE_FILES USE_LOCALE
                        USE_LOCALE_COLLATE USE_LOCALE_CTYPE
                        USE_LOCALE_NUMERIC USE_PERLIO USE_PERL_ATOF
  Built under linux
  Compiled at Nov 22 2014 12:09:10
  %ENV:
    PERL5LIB="/home/cpansand/.cpan/build/2016031112/Parallel-Fork-BossWorkerAsync-0.08-Wp1Qw3/blib/arch:/home/cpansand/.cpan/build/2016031112/Parallel-Fork-BossWorkerAsync-0.08-Wp1Qw3/blib/lib"
    PERL5OPT=""
    PERL5_CPANPLUS_IS_RUNNING="24947"
    PERL5_CPAN_IS_RUNNING="24947"
    PERL5_CPAN_IS_RUNNING_IN_RECURSION="24779,24947"
    PERLDOC="-MPod::Perldoc::ToTextOverstrike"
    PERL_BATCH="yes"
    PERL_CANARY_STABILITY_NOPROMPT="1"
    PERL_CPAN_REPORTER_CONFIG="/run/user/1023/cpansmoker/2016031112/cpanreporter_000_config.ini"
    PERL_EXTUTILS_AUTOINSTALL="--defaultdeps"
  @INC:
    /home/cpansand/.cpan/build/2016031112/Parallel-Fork-BossWorkerAsync-0.08-Wp1Qw3/blib/arch
    /home/cpansand/.cpan/build/2016031112/Parallel-Fork-BossWorkerAsync-0.08-Wp1Qw3/blib/lib
    /opt/perl-5.18.4/lib/site_perl/5.18.4/x86_64-linux
    /opt/perl-5.18.4/lib/site_perl/5.18.4
    /opt/perl-5.18.4/lib/5.18.4/x86_64-linux
    /opt/perl-5.18.4/lib/5.18.4
    .