Unicode-UTF8 v0.62 Perl 5 v5.30.0 amd64-netbsd-thread-multi

Status
Pass
From
Nigel Horne
Dist
Unicode-UTF8 v0.62
Platform
Perl 5 v5.30.0 amd64-netbsd-thread-multi
Date
2019-08-16 01:50:34
ID
3cde0bc0-bfc8-11e9-85b5-c89a62b887d7
This distribution has been tested as part of the CPAN Testers
project, supporting the Perl programming language.  See
http://wiki.cpantesters.org/ for more information or email
questions to cpan-testers-discuss@perl.org


--
Dear Christian Hansen,

This is a computer-generated report for Unicode-UTF8-0.62
on perl 5.30.0, created by CPAN-Reporter-1.2018.

Thank you for uploading your work to CPAN.  Congratulations!
All tests were successful.

Sections of this report:

    * Tester comments
    * Program output
    * Prerequisites
    * Environment and other context

------------------------------
TESTER COMMENTS
------------------------------

Additional comments from tester:

this report is from an automated smoke testing program
and was not reviewed by a human for accuracy

------------------------------
PROGRAM OUTPUT
------------------------------

Output from '/usr/bin/make test':

"/home/njh/perl5/perlbrew/perls/perl-5.30.0-thread/bin/perl5.30.0" "-Iinc" -MExtUtils::Command::MM -e 'cp_nonempty' -- UTF8.bs blib/arch/auto/Unicode/UTF8/UTF8.bs 644
PERL_DL_NONLAZY=1 "/home/njh/perl5/perlbrew/perls/perl-5.30.0-thread/bin/perl5.30.0" "-MExtUtils::Command::MM" "-MTest::Harness" "-e" "undef *Test::Harness::Switches; test_harness(0, 'inc', 'blib/lib', 'blib/arch')" t/*.t t/*/*.t
# Unicode::UTF8 0.62, Perl 5.030000, /home/njh/perl5/perlbrew/perls/perl-5.30.0-thread/bin/perl5.30.0
t/000_load.t ............... ok
t/010_basic.t .............. ok
t/030_native.t ............. ok
t/040_wide_characters.t .... ok
t/045_replacement.t ........ ok
t/050_noncharacters.t ...... ok
t/060_surrogates.t ......... ok
t/080_super.t .............. ok
t/090_non_shortest_form.t .. ok
t/100_incomplete.t ......... ok
t/120_fallback.t ........... ok
t/150_subwarnings.t ........ ok
t/170_steal.t .............. ok
t/200_leaks.t .............. ok
t/210_tainted.t ............ ok
t/220_magic.t .............. ok
t/999_pod.t ................ ok
All tests successful.
Files=17, Tests=12043,  7 wallclock secs ( 1.33 usr  0.27 sys +  3.72 cusr  1.57 csys =  6.89 CPU)
Result: PASS

------------------------------
PREREQUISITES
------------------------------

Prerequisite modules loaded:

requires:

    Module              Need     Have    
    ------------------- -------- --------
    Carp                0        1.50    
    Exporter            0        5.73    
    perl                5.008001 5.030000
    XSLoader            0        0.30    

build_requires:

    Module              Need     Have    
    ------------------- -------- --------
    Encode              1.9801   3.01    
    ExtUtils::MakeMaker 6.59     7.36    
    Test::Fatal         0.006    0.014   
    Test::More          0.47     1.302162

configure_requires:

    Module              Need     Have    
    ------------------- -------- --------
    ExtUtils::MakeMaker 6.59     7.36    


------------------------------
ENVIRONMENT AND OTHER CONTEXT
------------------------------

Environment variables:

    AUTOMATED_TESTING = 1
    NONINTERACTIVE_TESTING = 1
    PATH = /home/njh/perl5/perlbrew/bin:/home/njh/perl5/perlbrew/perls/perl-5.30.0-thread/bin:/home/njh/src/njh/smoker/bin:/usr/bin:/bin:/usr/pkg/bin:/usr/local/bin
    PERL5LIB = /home/njh/.cpan/build/Test-CheckDeps-0.010-13/blib/arch:/home/njh/.cpan/build/Test-CheckDeps-0.010-13/blib/lib:/home/njh/.cpan/build/IO-Async-Loop-Mojo-0.05-15/blib/arch:/home/njh/.cpan/build/IO-Async-Loop-Mojo-0.05-15/blib/lib:/home/njh/.cpan/build/IO-Async-0.74-15/blib/arch:/home/njh/.cpan/build/IO-Async-0.74-15/blib/lib:/home/njh/.cpan/build/Struct-Dumb-0.09-15/blib/arch:/home/njh/.cpan/build/Struct-Dumb-0.09-15/blib/lib:/home/njh/.cpan/build/Future-Mojo-1.001-15/blib/arch:/home/njh/.cpan/build/Future-Mojo-1.001-15/blib/lib:/home/njh/.cpan/build/Future-0.41-15/blib/arch:/home/njh/.cpan/build/Future-0.41-15/blib/lib:/home/njh/.cpan/build/Test-Refcount-0.10-15/blib/arch:/home/njh/.cpan/build/Test-Refcount-0.10-15/blib/lib:/home/njh/.cpan/build/Test-Identity-0.01-15/blib/arch:/home/njh/.cpan/build/Test-Identity-0.01-15/blib/lib:/home/njh/.cpan/build/DataDog-DogStatsd-0.05-15/blib/arch:/home/njh/.cpan/build/DataDog-DogStatsd-0.05-15/blib/lib
    PERL5OPT = 
    PERL5_CPANPLUS_IS_RUNNING = 8388
    PERL5_CPAN_IS_RUNNING = 8388
    PERL5_CPAN_IS_RUNNING_IN_RECURSION = 18098,8388
    PERLBREW_HOME = /home/njh/.perlbrew
    PERLBREW_MANPATH = /home/njh/perl5/perlbrew/perls/perl-5.30.0-thread/man
    PERLBREW_PATH = /home/njh/perl5/perlbrew/bin:/home/njh/perl5/perlbrew/perls/perl-5.30.0-thread/bin
    PERLBREW_PERL = perl-5.30.0-thread
    PERLBREW_ROOT = /home/njh/perl5/perlbrew
    PERLBREW_SHELLRC_VERSION = 0.82
    PERLBREW_VERSION = 0.82
    PERL_MM_USE_DEFAULT = 1
    PERL_USE_UNSAFE_INC = 1
    SHELL = /usr/pkg/bin/bash
    TMPDIR = /tmp/testwrapper.9584

Perl special variables (and OS-specific diagnostics, for MSWin32):

    $^X = /home/njh/perl5/perlbrew/perls/perl-5.30.0-thread/bin/perl5.30.0
    $UID/$EUID = 1000 / 1000
    $GID = 100 100 0
    $EGID = 100 100 0

Perl module toolchain versions installed:

    Module              Have    
    ------------------- --------
    CPAN                2.27    
    CPAN::Meta          2.150010
    Cwd                 3.78    
    ExtUtils::CBuilder  0.280231
    ExtUtils::Command   7.36    
    ExtUtils::Install   2.14    
    ExtUtils::MakeMaker 7.36    
    ExtUtils::Manifest  1.72    
    ExtUtils::ParseXS   3.40    
    File::Spec          3.78    
    JSON                4.02    
    JSON::PP            4.02    
    Module::Build       0.4229  
    Module::Signature   n/a     
    Parse::CPAN::Meta   2.150010
    Test::Harness       3.42    
    Test::More          1.302162
    YAML                1.29    
    YAML::Syck          1.31    
    version             0.9924  


--

Summary of my perl5 (revision 5 version 30 subversion 0) configuration:
   
  Platform:
    osname=netbsd
    osvers=7.1.2
    archname=amd64-netbsd-thread-multi
    uname='netbsd vultr2.bandsman.co.uk 7.1.2 netbsd 7.1.2 (generic.201803151611z) amd64 '
    config_args='-de -Dprefix=/home/njh/perl5/perlbrew/perls/perl-5.30.0-thread -Dusedevel -Dusethreads -Accflags=-O2 -W -Wformat=2 -Wswitch -Wshadow -Wwrite-strings -Wuninitialized -Wall -pipe -fomit-frame-pointer -pedantic -D_FORTIFY_SOURCE=2 -Wpointer-arith -Wstrict-prototypes -fstack-protector -Wstack-protector -Wextra -Wbad-function-cast -Wcast-align -Wcast-qual -Wdisabled-optimization -Wendif-labels -Wfloat-equal -Wformat-nonliteral -Winline -Wmissing-declarations -Wmissing-prototypes -Wnested-externs -Wpointer-arith -Wundef -Wformat-security -ftree-vectorize -mmmx -msse -mfpmath=sse -msse2 -msse3 -msse4.1 -msse4.2 -mtune=native -Aeval:scriptdir=/home/njh/perl5/perlbrew/perls/perl-5.30.0-thread/bin'
    hint=recommended
    useposix=true
    d_sigaction=define
    useithreads=define
    usemultiplicity=define
    use64bitint=define
    use64bitall=define
    uselongdouble=undef
    usemymalloc=n
    default_inc_excludes_dot=define
    bincompat5005=undef
  Compiler:
    cc='cc'
    ccflags ='-O2 -W -Wformat=2 -Wswitch -Wshadow -Wwrite-strings -Wuninitialized -Wall -pipe -fomit-frame-pointer -pedantic -D_FORTIFY_SOURCE=2 -Wpointer-arith -Wstrict-prototypes -fstack-protector -Wstack-protector -Wextra -Wbad-function-cast -Wcast-align -Wcast-qual -Wdisabled-optimization -Wendif-labels -Wfloat-equal -Wformat-nonliteral -Winline -Wmissing-declarations -Wmissing-prototypes -Wnested-externs -Wpointer-arith -Wundef -Wformat-security -ftree-vectorize -mmmx -msse -mfpmath=sse -msse2 -msse3 -msse4.1 -msse4.2 -mtune=native -fwrapv -fno-strict-aliasing -I/usr/pkg/include'
    optimize='-O'
    cppflags='-O2 -W -Wformat=2 -Wswitch -Wshadow -Wwrite-strings -Wuninitialized -Wall -pipe -fomit-frame-pointer -pedantic -D_FORTIFY_SOURCE=2 -Wpointer-arith -Wstrict-prototypes -fstack-protector -Wstack-protector -Wextra -Wbad-function-cast -Wcast-align -Wcast-qual -Wdisabled-optimization -Wendif-labels -Wfloat-equal -Wformat-nonliteral -Winline -Wmissing-declarations -Wmissing-prototypes -Wnested-externs -Wpointer-arith -Wundef -Wformat-security -ftree-vectorize -mmmx -msse -mfpmath=sse -msse2 -msse3 -msse4.1 -msse4.2 -mtune=native -fwrapv -fno-strict-aliasing -I/usr/pkg/include'
    ccversion=''
    gccversion='4.8.5'
    gccosandvers=''
    intsize=4
    longsize=8
    ptrsize=8
    doublesize=8
    byteorder=12345678
    doublekind=3
    d_longlong=define
    longlongsize=8
    d_longdbl=define
    longdblsize=16
    longdblkind=3
    ivtype='long'
    ivsize=8
    nvtype='double'
    nvsize=8
    Off_t='off_t'
    lseeksize=8
    alignbytes=8
    prototype=define
  Linker and Libraries:
    ld='cc'
    ldflags =' -Wl,-rpath,/usr/pkg/lib -Wl,-rpath,/usr/local/lib -fstack-protector -L/usr/pkg/lib'
    libpth=/usr/include/gcc-4.8 /usr/lib /usr/pkg/lib /lib
    libs=-lpthread -lm -lcrypt -lutil -lc -lposix
    perllibs=-lpthread -lm -lcrypt -lutil -lc -lposix
    libc=/lib/libc.so
    so=so
    useshrplib=false
    libperl=libperl.a
    gnulibc_version=''
  Dynamic Linking:
    dlsrc=dl_dlopen.xs
    dlext=so
    d_dlsymun=undef
    ccdlflags='-Wl,-E '
    cccdlflags='-DPIC -fPIC '
    lddlflags='-shared  -L/usr/pkg/lib -fstack-protector'


Characteristics of this binary (from libperl): 
  Compile-time options:
    HAS_TIMES
    MULTIPLICITY
    PERLIO_LAYERS
    PERL_COPY_ON_WRITE
    PERL_DONT_CREATE_GVSV
    PERL_IMPLICIT_CONTEXT
    PERL_MALLOC_WRAP
    PERL_OP_PARENT
    PERL_PRESERVE_IVUV
    PERL_USE_DEVEL
    USE_64_BIT_ALL
    USE_64_BIT_INT
    USE_ITHREADS
    USE_LARGE_FILES
    USE_LOCALE
    USE_LOCALE_COLLATE
    USE_LOCALE_CTYPE
    USE_LOCALE_NUMERIC
    USE_LOCALE_TIME
    USE_PERLIO
    USE_PERL_ATOF
    USE_REENTRANT_API
  Locally applied patches:
    Devel::PatchPerl 1.48
  Built under netbsd
  Compiled at May 23 2019 13:21:23
  %ENV:
    PERL5LIB="/home/njh/.cpan/build/Test-CheckDeps-0.010-13/blib/arch:/home/njh/.cpan/build/Test-CheckDeps-0.010-13/blib/lib:/home/njh/.cpan/build/IO-Async-Loop-Mojo-0.05-15/blib/arch:/home/njh/.cpan/build/IO-Async-Loop-Mojo-0.05-15/blib/lib:/home/njh/.cpan/build/IO-Async-0.74-15/blib/arch:/home/njh/.cpan/build/IO-Async-0.74-15/blib/lib:/home/njh/.cpan/build/Struct-Dumb-0.09-15/blib/arch:/home/njh/.cpan/build/Struct-Dumb-0.09-15/blib/lib:/home/njh/.cpan/build/Future-Mojo-1.001-15/blib/arch:/home/njh/.cpan/build/Future-Mojo-1.001-15/blib/lib:/home/njh/.cpan/build/Future-0.41-15/blib/arch:/home/njh/.cpan/build/Future-0.41-15/blib/lib:/home/njh/.cpan/build/Test-Refcount-0.10-15/blib/arch:/home/njh/.cpan/build/Test-Refcount-0.10-15/blib/lib:/home/njh/.cpan/build/Test-Identity-0.01-15/blib/arch:/home/njh/.cpan/build/Test-Identity-0.01-15/blib/lib:/home/njh/.cpan/build/DataDog-DogStatsd-0.05-15/blib/arch:/home/njh/.cpan/build/DataDog-DogStatsd-0.05-15/blib/lib"
    PERL5OPT=""
    PERL5_CPANPLUS_IS_RUNNING="8388"
    PERL5_CPAN_IS_RUNNING="8388"
    PERL5_CPAN_IS_RUNNING_IN_RECURSION="18098,8388"
    PERLBREW_HOME="/home/njh/.perlbrew"
    PERLBREW_MANPATH="/home/njh/perl5/perlbrew/perls/perl-5.30.0-thread/man"
    PERLBREW_PATH="/home/njh/perl5/perlbrew/bin:/home/njh/perl5/perlbrew/perls/perl-5.30.0-thread/bin"
    PERLBREW_PERL="perl-5.30.0-thread"
    PERLBREW_ROOT="/home/njh/perl5/perlbrew"
    PERLBREW_SHELLRC_VERSION="0.82"
    PERLBREW_VERSION="0.82"
    PERL_MM_USE_DEFAULT="1"
    PERL_USE_UNSAFE_INC="1"
  @INC:
    /home/njh/.cpan/build/Test-CheckDeps-0.010-13/blib/arch
    /home/njh/.cpan/build/Test-CheckDeps-0.010-13/blib/lib
    /home/njh/.cpan/build/IO-Async-Loop-Mojo-0.05-15/blib/arch
    /home/njh/.cpan/build/IO-Async-Loop-Mojo-0.05-15/blib/lib
    /home/njh/.cpan/build/IO-Async-0.74-15/blib/arch
    /home/njh/.cpan/build/IO-Async-0.74-15/blib/lib
    /home/njh/.cpan/build/Struct-Dumb-0.09-15/blib/arch
    /home/njh/.cpan/build/Struct-Dumb-0.09-15/blib/lib
    /home/njh/.cpan/build/Future-Mojo-1.001-15/blib/arch
    /home/njh/.cpan/build/Future-Mojo-1.001-15/blib/lib
    /home/njh/.cpan/build/Future-0.41-15/blib/arch
    /home/njh/.cpan/build/Future-0.41-15/blib/lib
    /home/njh/.cpan/build/Test-Refcount-0.10-15/blib/arch
    /home/njh/.cpan/build/Test-Refcount-0.10-15/blib/lib
    /home/njh/.cpan/build/Test-Identity-0.01-15/blib/arch
    /home/njh/.cpan/build/Test-Identity-0.01-15/blib/lib
    /home/njh/.cpan/build/DataDog-DogStatsd-0.05-15/blib/arch
    /home/njh/.cpan/build/DataDog-DogStatsd-0.05-15/blib/lib
    /home/njh/perl5/perlbrew/perls/perl-5.30.0-thread/lib/site_perl/5.30.0/amd64-netbsd-thread-multi
    /home/njh/perl5/perlbrew/perls/perl-5.30.0-thread/lib/site_perl/5.30.0
    /home/njh/perl5/perlbrew/perls/perl-5.30.0-thread/lib/5.30.0/amd64-netbsd-thread-multi
    /home/njh/perl5/perlbrew/perls/perl-5.30.0-thread/lib/5.30.0
    .