Data-Pipeline v0.02 Perl 5 v5.37.4 x86_64-linux-thread-multi

Status
Pass
From
Andreas J. König (ANDK)
Dist
Data-Pipeline v0.02
Platform
Perl 5 v5.37.4 x86_64-linux-thread-multi
Date
2022-09-30 20:05:32
ID
3ce26e9c-40fb-11ed-97ba-84af6f3c3a36
This distribution has been tested as part of the CPAN Testers
project, supporting the Perl programming language.  See
http://wiki.cpantesters.org/ for more information or email
questions to cpan-testers-discuss@perl.org


--
Dear James G Smith,

This is a computer-generated report for Data-Pipeline-0.02
on perl 5.37.4, created by CPAN-Reporter-1.2018.

Thank you for uploading your work to CPAN.  Congratulations!
All tests were successful.

Sections of this report:

    * Tester comments
    * Program output
    * Prerequisites
    * Environment and other context

------------------------------
TESTER COMMENTS
------------------------------

Additional comments from tester:

this report is from an automated smoke testing program
and was not reviewed by a human for accuracy

------------------------------
PROGRAM OUTPUT
------------------------------

Output from '/usr/bin/make test':

Skip blib/lib/Data/Pipeline/Machine.pm (unchanged)
Skip blib/lib/Data/Pipeline/Action/Truncate.pm (unchanged)
Skip blib/lib/Data/Pipeline/Action/Count.pm (unchanged)
Skip blib/lib/Data/Pipeline/Aggregator/Pipeline.pm (unchanged)
Skip blib/lib/Data/Pipeline/Iterator/ArrayOptions.pm (unchanged)
Skip blib/lib/Data/Pipeline/Aggregator/Machine.pm (unchanged)
Skip blib/lib/Data/Pipeline/Adapter/RSS.pm (unchanged)
Skip blib/lib/Data/Pipeline/Aggregator/Union.pm (unchanged)
Skip blib/lib/Data/Pipeline/Adapter/CSV.pm (unchanged)
Skip blib/lib/Data/Pipeline/Adapter/JSON.pm (unchanged)
Skip blib/lib/Data/Pipeline/Action/ExcludeFields.pm (unchanged)
Skip blib/lib/Data/Pipeline/Action.pm (unchanged)
Skip blib/lib/Data/Pipeline/Action/Filter.pm (unchanged)
Skip blib/lib/Data/Pipeline/Action/Regex.pm (unchanged)
Skip blib/lib/Data/Pipeline/Iterator/Source.pm (unchanged)
Skip blib/lib/Data/Pipeline/Action/ForEach.pm (unchanged)
Skip blib/lib/Data/Pipeline/Iterator.pm (unchanged)
Skip blib/lib/Data/Pipeline/Adapter/UrlBuilder.pm (unchanged)
Skip blib/lib/Data/Pipeline/Action/Unique.pm (unchanged)
Skip blib/lib/Data/Pipeline/Adapter/Array.pm (unchanged)
Skip blib/lib/Data/Pipeline/Action/Tail.pm (unchanged)
Skip blib/lib/Data/Pipeline/Adapter/FetchPage.pm (unchanged)
Skip blib/lib/Data/Pipeline.pm (unchanged)
Skip blib/lib/Data/Pipeline/Action/Identity.pm (unchanged)
Skip blib/lib/Data/Pipeline/Aggregator.pm (unchanged)
Skip blib/lib/Data/Pipeline/Iterator/Options.pm (unchanged)
Skip blib/lib/Data/Pipeline/Iterator/Output.pm (unchanged)
Skip blib/lib/Data/Pipeline/Adapter.pm (unchanged)
Skip blib/lib/Data/Pipeline/Adapter/SPARQL.pm (unchanged)
Skip blib/lib/Data/Pipeline/Action/StringReplace.pm (unchanged)
Skip blib/lib/Data/Pipeline/Adapter/StringBuilder.pm (unchanged)
Skip blib/lib/Data/Pipeline/Action/Rename.pm (unchanged)
Skip blib/lib/Data/Pipeline/Types.pm (unchanged)
cp lib/Data/Pipeline/Parser.pm blib/lib/Data/Pipeline/Parser.pm
Skip blib/lib/Data/Pipeline/Machine/Surrogate.pm (unchanged)
"/tmp/basesmoker-reloperl-DxIl/bin/perl" "-Iinc" "-Iblib/arch" "-Iinc" "-Iblib/lib" parser.PL parser 
143 shift/reduce conflicts and 259 reduce/reduce conflicts
PERL_DL_NONLAZY=1 "/tmp/basesmoker-reloperl-DxIl/bin/perl" "-MExtUtils::Command::MM" "-MTest::Harness" "-e" "undef *Test::Harness::Switches; test_harness(0, 'inc', 'blib/lib', 'blib/arch')" t/*.t
Class::MOP::load_class is deprecated at /home/sand/src/perl/repoperls/installed-perls/host/k93focal/v5.37.4/d119/lib/site_perl/5.37.4/x86_64-linux-thread-multi/Class/MOP.pm line 69.
	Class::MOP::load_class("Data::Pipeline::Aggregator::Machine") called at /tmp/loop_over_bdir-649757-wzOVEA/Data-Pipeline-0.02-0/blib/lib/Data/Pipeline/Machine.pm line 20
	Data::Pipeline::Machine::BEGIN() called at /tmp/loop_over_bdir-649757-wzOVEA/Data-Pipeline-0.02-0/blib/lib/Data/Pipeline/Machine.pm line 22
	eval {...} called at /tmp/loop_over_bdir-649757-wzOVEA/Data-Pipeline-0.02-0/blib/lib/Data/Pipeline/Machine.pm line 22
	require Data/Pipeline/Machine.pm called at /tmp/loop_over_bdir-649757-wzOVEA/Data-Pipeline-0.02-0/blib/lib/Data/Pipeline/Aggregator/Machine.pm line 6
	Data::Pipeline::Aggregator::Machine::BEGIN() called at /tmp/loop_over_bdir-649757-wzOVEA/Data-Pipeline-0.02-0/blib/lib/Data/Pipeline/Aggregator/Machine.pm line 6
	eval {...} called at /tmp/loop_over_bdir-649757-wzOVEA/Data-Pipeline-0.02-0/blib/lib/Data/Pipeline/Aggregator/Machine.pm line 6
	require Data/Pipeline/Aggregator/Machine.pm called at /tmp/loop_over_bdir-649757-wzOVEA/Data-Pipeline-0.02-0/blib/lib/Data/Pipeline/Adapter.pm line 9
	Data::Pipeline::Adapter::BEGIN() called at /tmp/loop_over_bdir-649757-wzOVEA/Data-Pipeline-0.02-0/blib/lib/Data/Pipeline/Adapter.pm line 9
	eval {...} called at /tmp/loop_over_bdir-649757-wzOVEA/Data-Pipeline-0.02-0/blib/lib/Data/Pipeline/Adapter.pm line 9
	require Data/Pipeline/Adapter.pm called at t/00-compile.t line 16
	main::BEGIN() called at t/00-compile.t line 16
	eval {...} called at t/00-compile.t line 16
	eval 'package main;
BEGIN { ${^WARNING_BITS} = $args[-1] if defined $args[-1] }
#line 16 t/00-compile.t
use Data::Pipeline::Adapter @{$args[0]};
1;
' called at /home/sand/src/perl/repoperls/installed-perls/host/k93focal/v5.37.4/d119/lib/5.37.4/Test/More.pm line 1034
	Test::More::_eval("package main;\x{a}BEGIN { \${^WARNING_BITS} = \$args[-1] if defined"..., ARRAY(0x55e2217bb5f8), undef) called at /home/sand/src/perl/repoperls/installed-perls/host/k93focal/v5.37.4/d119/lib/5.37.4/Test/More.pm line 1009
	Test::More::use_ok("Data::Pipeline::Adapter") called at t/00-compile.t line 16
	main::BEGIN() called at t/00-compile.t line 41
	eval {...} called at t/00-compile.t line 41
t/00-compile.t ......... ok
t/01-iteratorsource.t .. ok
t/02-iterator.t ........ ok
Class::MOP::load_class is deprecated at /home/sand/src/perl/repoperls/installed-perls/host/k93focal/v5.37.4/d119/lib/site_perl/5.37.4/x86_64-linux-thread-multi/Class/MOP.pm line 69.
	Class::MOP::load_class("Data::Pipeline::Aggregator::Machine") called at /tmp/loop_over_bdir-649757-wzOVEA/Data-Pipeline-0.02-0/blib/lib/Data/Pipeline/Machine.pm line 20
	Data::Pipeline::Machine::BEGIN() called at /tmp/loop_over_bdir-649757-wzOVEA/Data-Pipeline-0.02-0/blib/lib/Data/Pipeline/Machine.pm line 22
	eval {...} called at /tmp/loop_over_bdir-649757-wzOVEA/Data-Pipeline-0.02-0/blib/lib/Data/Pipeline/Machine.pm line 22
	require Data/Pipeline/Machine.pm called at /tmp/loop_over_bdir-649757-wzOVEA/Data-Pipeline-0.02-0/blib/lib/Data/Pipeline/Aggregator/Machine.pm line 6
	Data::Pipeline::Aggregator::Machine::BEGIN() called at /tmp/loop_over_bdir-649757-wzOVEA/Data-Pipeline-0.02-0/blib/lib/Data/Pipeline/Aggregator/Machine.pm line 6
	eval {...} called at /tmp/loop_over_bdir-649757-wzOVEA/Data-Pipeline-0.02-0/blib/lib/Data/Pipeline/Aggregator/Machine.pm line 6
	require Data/Pipeline/Aggregator/Machine.pm called at /tmp/loop_over_bdir-649757-wzOVEA/Data-Pipeline-0.02-0/blib/lib/Data/Pipeline/Adapter.pm line 9
	Data::Pipeline::Adapter::BEGIN() called at /tmp/loop_over_bdir-649757-wzOVEA/Data-Pipeline-0.02-0/blib/lib/Data/Pipeline/Adapter.pm line 9
	eval {...} called at /tmp/loop_over_bdir-649757-wzOVEA/Data-Pipeline-0.02-0/blib/lib/Data/Pipeline/Adapter.pm line 9
	require Data/Pipeline/Adapter.pm called at /home/sand/src/perl/repoperls/installed-perls/host/k93focal/v5.37.4/d119/lib/site_perl/5.37.4/Module/Runtime.pm line 314
	Module::Runtime::require_module("Data::Pipeline::Adapter") called at /home/sand/src/perl/repoperls/installed-perls/host/k93focal/v5.37.4/d119/lib/site_perl/5.37.4/Module/Runtime.pm line 391
	eval {...} called at /home/sand/src/perl/repoperls/installed-perls/host/k93focal/v5.37.4/d119/lib/site_perl/5.37.4/Module/Runtime.pm line 391
	Module::Runtime::use_package_optimistically("Data::Pipeline::Adapter") called at /home/sand/src/perl/repoperls/installed-perls/host/k93focal/v5.37.4/d119/lib/site_perl/5.37.4/x86_64-linux-thread-multi/Moose/Util.pm line 351
	Moose::Util::_load_user_class("Data::Pipeline::Adapter", undef) called at /home/sand/src/perl/repoperls/installed-perls/host/k93focal/v5.37.4/d119/lib/site_perl/5.37.4/x86_64-linux-thread-multi/Moose/Meta/Class.pm line 569
	Moose::Meta::Class::superclasses(undef, "Data::Pipeline::Adapter") called at /home/sand/src/perl/repoperls/installed-perls/host/k93focal/v5.37.4/d119/lib/site_perl/5.37.4/x86_64-linux-thread-multi/Moose.pm line 53
	Moose::extends(Moose::Meta::Class=HASH(0x55dc0aef7b08), "Data::Pipeline::Adapter") called at /home/sand/src/perl/repoperls/installed-perls/host/k93focal/v5.37.4/d119/lib/site_perl/5.37.4/x86_64-linux-thread-multi/Moose/Exporter.pm line 418
	Moose::extends("Data::Pipeline::Adapter") called at /tmp/loop_over_bdir-649757-wzOVEA/Data-Pipeline-0.02-0/blib/lib/Data/Pipeline/Adapter/Array.pm line 4
	require Data/Pipeline/Adapter/Array.pm called at t/03-arraysource.t line 3
	main::BEGIN() called at t/03-arraysource.t line 3
	eval {...} called at t/03-arraysource.t line 3
Class::MOP::load_class is deprecated at /home/sand/src/perl/repoperls/installed-perls/host/k93focal/v5.37.4/d119/lib/site_perl/5.37.4/x86_64-linux-thread-multi/Class/MOP.pm line 69.
	Class::MOP::load_class("Data::Pipeline::Iterator") called at /tmp/loop_over_bdir-649757-wzOVEA/Data-Pipeline-0.02-0/blib/lib/Data/Pipeline/Types.pm line 123
	Data::Pipeline::Types::__ANON__(Data::Pipeline::Iterator::Source=HASH(0x55dc0b3891a0)) called at /home/sand/src/perl/repoperls/installed-perls/host/k93focal/v5.37.4/d119/lib/site_perl/5.37.4/x86_64-linux-thread-multi/Moose/Meta/TypeCoercion.pm line 65
	Moose::Meta::TypeCoercion::__ANON__(Data::Pipeline::Iterator::Source=HASH(0x55dc0b3891a0)) called at /home/sand/src/perl/repoperls/installed-perls/host/k93focal/v5.37.4/d119/lib/site_perl/5.37.4/x86_64-linux-thread-multi/Moose/Meta/TypeCoercion.pm line 100
	Moose::Meta::TypeCoercion::coerce(Moose::Meta::TypeCoercion=HASH(0x55dc0b231a58), Data::Pipeline::Iterator::Source=HASH(0x55dc0b3891a0)) called at /home/sand/src/perl/repoperls/installed-perls/host/k93focal/v5.37.4/d119/lib/site_perl/5.37.4/x86_64-linux-thread-multi/Moose/Meta/TypeConstraint.pm line 145
	Moose::Meta::TypeConstraint::coerce(Moose::Meta::TypeConstraint=HASH(0x55dc0b198968), Data::Pipeline::Iterator::Source=HASH(0x55dc0b3891a0)) called at /home/sand/src/perl/repoperls/installed-perls/host/k93focal/v5.37.4/d119/lib/site_perl/5.37.4/MooseX/Types.pm line 494
	MooseX::Types::__ANON__(Data::Pipeline::Iterator::Source=HASH(0x55dc0b3891a0)) called at t/03-arraysource.t line 17
t/03-arraysource.t ..... ok
Class::MOP::load_class is deprecated at /home/sand/src/perl/repoperls/installed-perls/host/k93focal/v5.37.4/d119/lib/site_perl/5.37.4/x86_64-linux-thread-multi/Class/MOP.pm line 69.
	Class::MOP::load_class("Data::Pipeline::Aggregator::Machine") called at /tmp/loop_over_bdir-649757-wzOVEA/Data-Pipeline-0.02-0/blib/lib/Data/Pipeline/Machine.pm line 20
	Data::Pipeline::Machine::BEGIN() called at /tmp/loop_over_bdir-649757-wzOVEA/Data-Pipeline-0.02-0/blib/lib/Data/Pipeline/Machine.pm line 22
	eval {...} called at /tmp/loop_over_bdir-649757-wzOVEA/Data-Pipeline-0.02-0/blib/lib/Data/Pipeline/Machine.pm line 22
	require Data/Pipeline/Machine.pm called at /tmp/loop_over_bdir-649757-wzOVEA/Data-Pipeline-0.02-0/blib/lib/Data/Pipeline/Aggregator/Machine.pm line 6
	Data::Pipeline::Aggregator::Machine::BEGIN() called at /tmp/loop_over_bdir-649757-wzOVEA/Data-Pipeline-0.02-0/blib/lib/Data/Pipeline/Aggregator/Machine.pm line 6
	eval {...} called at /tmp/loop_over_bdir-649757-wzOVEA/Data-Pipeline-0.02-0/blib/lib/Data/Pipeline/Aggregator/Machine.pm line 6
	require Data/Pipeline/Aggregator/Machine.pm called at /tmp/loop_over_bdir-649757-wzOVEA/Data-Pipeline-0.02-0/blib/lib/Data/Pipeline/Adapter.pm line 9
	Data::Pipeline::Adapter::BEGIN() called at /tmp/loop_over_bdir-649757-wzOVEA/Data-Pipeline-0.02-0/blib/lib/Data/Pipeline/Adapter.pm line 9
	eval {...} called at /tmp/loop_over_bdir-649757-wzOVEA/Data-Pipeline-0.02-0/blib/lib/Data/Pipeline/Adapter.pm line 9
	require Data/Pipeline/Adapter.pm called at /home/sand/src/perl/repoperls/installed-perls/host/k93focal/v5.37.4/d119/lib/site_perl/5.37.4/Module/Runtime.pm line 314
	Module::Runtime::require_module("Data::Pipeline::Adapter") called at /home/sand/src/perl/repoperls/installed-perls/host/k93focal/v5.37.4/d119/lib/site_perl/5.37.4/Module/Runtime.pm line 391
	eval {...} called at /home/sand/src/perl/repoperls/installed-perls/host/k93focal/v5.37.4/d119/lib/site_perl/5.37.4/Module/Runtime.pm line 391
	Module::Runtime::use_package_optimistically("Data::Pipeline::Adapter") called at /home/sand/src/perl/repoperls/installed-perls/host/k93focal/v5.37.4/d119/lib/site_perl/5.37.4/x86_64-linux-thread-multi/Moose/Util.pm line 351
	Moose::Util::_load_user_class("Data::Pipeline::Adapter", undef) called at /home/sand/src/perl/repoperls/installed-perls/host/k93focal/v5.37.4/d119/lib/site_perl/5.37.4/x86_64-linux-thread-multi/Moose/Meta/Class.pm line 569
	Moose::Meta::Class::superclasses(undef, "Data::Pipeline::Adapter") called at /home/sand/src/perl/repoperls/installed-perls/host/k93focal/v5.37.4/d119/lib/site_perl/5.37.4/x86_64-linux-thread-multi/Moose.pm line 53
	Moose::extends(Moose::Meta::Class=HASH(0x561b83a798a8), "Data::Pipeline::Adapter") called at /home/sand/src/perl/repoperls/installed-perls/host/k93focal/v5.37.4/d119/lib/site_perl/5.37.4/x86_64-linux-thread-multi/Moose/Exporter.pm line 418
	Moose::extends("Data::Pipeline::Adapter") called at /tmp/loop_over_bdir-649757-wzOVEA/Data-Pipeline-0.02-0/blib/lib/Data/Pipeline/Adapter/Array.pm line 4
	require Data/Pipeline/Adapter/Array.pm called at t/04-count.t line 4
	main::BEGIN() called at t/04-count.t line 4
	eval {...} called at t/04-count.t line 4
t/04-count.t ........... ok
Class::MOP::load_class is deprecated at /home/sand/src/perl/repoperls/installed-perls/host/k93focal/v5.37.4/d119/lib/site_perl/5.37.4/x86_64-linux-thread-multi/Class/MOP.pm line 69.
	Class::MOP::load_class("Data::Pipeline::Aggregator::Machine") called at /tmp/loop_over_bdir-649757-wzOVEA/Data-Pipeline-0.02-0/blib/lib/Data/Pipeline/Machine.pm line 20
	Data::Pipeline::Machine::BEGIN() called at /tmp/loop_over_bdir-649757-wzOVEA/Data-Pipeline-0.02-0/blib/lib/Data/Pipeline/Machine.pm line 22
	eval {...} called at /tmp/loop_over_bdir-649757-wzOVEA/Data-Pipeline-0.02-0/blib/lib/Data/Pipeline/Machine.pm line 22
	require Data/Pipeline/Machine.pm called at /tmp/loop_over_bdir-649757-wzOVEA/Data-Pipeline-0.02-0/blib/lib/Data/Pipeline/Aggregator/Machine.pm line 6
	Data::Pipeline::Aggregator::Machine::BEGIN() called at /tmp/loop_over_bdir-649757-wzOVEA/Data-Pipeline-0.02-0/blib/lib/Data/Pipeline/Aggregator/Machine.pm line 6
	eval {...} called at /tmp/loop_over_bdir-649757-wzOVEA/Data-Pipeline-0.02-0/blib/lib/Data/Pipeline/Aggregator/Machine.pm line 6
	require Data/Pipeline/Aggregator/Machine.pm called at /tmp/loop_over_bdir-649757-wzOVEA/Data-Pipeline-0.02-0/blib/lib/Data/Pipeline/Adapter.pm line 9
	Data::Pipeline::Adapter::BEGIN() called at /tmp/loop_over_bdir-649757-wzOVEA/Data-Pipeline-0.02-0/blib/lib/Data/Pipeline/Adapter.pm line 9
	eval {...} called at /tmp/loop_over_bdir-649757-wzOVEA/Data-Pipeline-0.02-0/blib/lib/Data/Pipeline/Adapter.pm line 9
	require Data/Pipeline/Adapter.pm called at /home/sand/src/perl/repoperls/installed-perls/host/k93focal/v5.37.4/d119/lib/site_perl/5.37.4/Module/Runtime.pm line 314
	Module::Runtime::require_module("Data::Pipeline::Adapter") called at /home/sand/src/perl/repoperls/installed-perls/host/k93focal/v5.37.4/d119/lib/site_perl/5.37.4/Module/Runtime.pm line 391
	eval {...} called at /home/sand/src/perl/repoperls/installed-perls/host/k93focal/v5.37.4/d119/lib/site_perl/5.37.4/Module/Runtime.pm line 391
	Module::Runtime::use_package_optimistically("Data::Pipeline::Adapter") called at /home/sand/src/perl/repoperls/installed-perls/host/k93focal/v5.37.4/d119/lib/site_perl/5.37.4/x86_64-linux-thread-multi/Moose/Util.pm line 351
	Moose::Util::_load_user_class("Data::Pipeline::Adapter", undef) called at /home/sand/src/perl/repoperls/installed-perls/host/k93focal/v5.37.4/d119/lib/site_perl/5.37.4/x86_64-linux-thread-multi/Moose/Meta/Class.pm line 569
	Moose::Meta::Class::superclasses(undef, "Data::Pipeline::Adapter") called at /home/sand/src/perl/repoperls/installed-perls/host/k93focal/v5.37.4/d119/lib/site_perl/5.37.4/x86_64-linux-thread-multi/Moose.pm line 53
	Moose::extends(Moose::Meta::Class=HASH(0x5558bbafa190), "Data::Pipeline::Adapter") called at /home/sand/src/perl/repoperls/installed-perls/host/k93focal/v5.37.4/d119/lib/site_perl/5.37.4/x86_64-linux-thread-multi/Moose/Exporter.pm line 418
	Moose::extends("Data::Pipeline::Adapter") called at /tmp/loop_over_bdir-649757-wzOVEA/Data-Pipeline-0.02-0/blib/lib/Data/Pipeline/Adapter/Array.pm line 4
	require Data/Pipeline/Adapter/Array.pm called at t/05-truncate.t line 4
	main::BEGIN() called at t/05-truncate.t line 4
	eval {...} called at t/05-truncate.t line 4
t/05-truncate.t ........ ok
Class::MOP::load_class is deprecated at /home/sand/src/perl/repoperls/installed-perls/host/k93focal/v5.37.4/d119/lib/site_perl/5.37.4/x86_64-linux-thread-multi/Class/MOP.pm line 69.
	Class::MOP::load_class("Data::Pipeline::Aggregator::Pipeline") called at /tmp/loop_over_bdir-649757-wzOVEA/Data-Pipeline-0.02-0/blib/lib/Data/Pipeline.pm line 70
	eval {...} called at /tmp/loop_over_bdir-649757-wzOVEA/Data-Pipeline-0.02-0/blib/lib/Data/Pipeline.pm line 70
	Data::Pipeline::_find_class("Pipeline") called at /tmp/loop_over_bdir-649757-wzOVEA/Data-Pipeline-0.02-0/blib/lib/Data/Pipeline.pm line 23
	Data::Pipeline::import("Data::Pipeline", "Pipeline", "Truncate", "Count", "Array") called at t/06-pipeline.t line 4
	main::BEGIN() called at t/06-pipeline.t line 4
	eval {...} called at t/06-pipeline.t line 4
Class::MOP::load_class is deprecated at /home/sand/src/perl/repoperls/installed-perls/host/k93focal/v5.37.4/d119/lib/site_perl/5.37.4/x86_64-linux-thread-multi/Class/MOP.pm line 69.
	Class::MOP::load_class("Data::Pipeline::Aggregator::Machine") called at /tmp/loop_over_bdir-649757-wzOVEA/Data-Pipeline-0.02-0/blib/lib/Data/Pipeline/Machine.pm line 20
	Data::Pipeline::Machine::BEGIN() called at /tmp/loop_over_bdir-649757-wzOVEA/Data-Pipeline-0.02-0/blib/lib/Data/Pipeline/Machine.pm line 22
	eval {...} called at /tmp/loop_over_bdir-649757-wzOVEA/Data-Pipeline-0.02-0/blib/lib/Data/Pipeline/Machine.pm line 22
	require Data/Pipeline/Machine.pm called at /tmp/loop_over_bdir-649757-wzOVEA/Data-Pipeline-0.02-0/blib/lib/Data/Pipeline/Aggregator/Pipeline.pm line 10
	Data::Pipeline::Aggregator::Pipeline::BEGIN() called at /tmp/loop_over_bdir-649757-wzOVEA/Data-Pipeline-0.02-0/blib/lib/Data/Pipeline/Aggregator/Pipeline.pm line 10
	eval {...} called at /tmp/loop_over_bdir-649757-wzOVEA/Data-Pipeline-0.02-0/blib/lib/Data/Pipeline/Aggregator/Pipeline.pm line 10
	require Data/Pipeline/Aggregator/Pipeline.pm called at /home/sand/src/perl/repoperls/installed-perls/host/k93focal/v5.37.4/d119/lib/site_perl/5.37.4/Module/Runtime.pm line 314
	Module::Runtime::require_module("Data::Pipeline::Aggregator::Pipeline") called at /home/sand/src/perl/repoperls/installed-perls/host/k93focal/v5.37.4/d119/lib/site_perl/5.37.4/Class/Load.pm line 174
	Class::Load::try {...} () called at /home/sand/src/perl/repoperls/installed-perls/host/k93focal/v5.37.4/d119/lib/site_perl/5.37.4/Try/Tiny.pm line 98
	eval {...} called at /home/sand/src/perl/repoperls/installed-perls/host/k93focal/v5.37.4/d119/lib/site_perl/5.37.4/Try/Tiny.pm line 93
	Try::Tiny::try(CODE(0x556449c659a8), Try::Tiny::Catch=REF(0x55644b3f7198)) called at /home/sand/src/perl/repoperls/installed-perls/host/k93focal/v5.37.4/d119/lib/site_perl/5.37.4/Class/Load.pm line 180
	Class::Load::try_load_class("Data::Pipeline::Aggregator::Pipeline", undef) called at /home/sand/src/perl/repoperls/installed-perls/host/k93focal/v5.37.4/d119/lib/site_perl/5.37.4/Class/Load.pm line 35
	Class::Load::load_class("Data::Pipeline::Aggregator::Pipeline") called at /tmp/loop_over_bdir-649757-wzOVEA/Data-Pipeline-0.02-0/blib/lib/Data/Pipeline.pm line 70
	eval {...} called at /tmp/loop_over_bdir-649757-wzOVEA/Data-Pipeline-0.02-0/blib/lib/Data/Pipeline.pm line 70
	Data::Pipeline::_find_class("Pipeline") called at /tmp/loop_over_bdir-649757-wzOVEA/Data-Pipeline-0.02-0/blib/lib/Data/Pipeline.pm line 23
	Data::Pipeline::import("Data::Pipeline", "Pipeline", "Truncate", "Count", "Array") called at t/06-pipeline.t line 4
	main::BEGIN() called at t/06-pipeline.t line 4
	eval {...} called at t/06-pipeline.t line 4
Class::MOP::load_class is deprecated at /home/sand/src/perl/repoperls/installed-perls/host/k93focal/v5.37.4/d119/lib/site_perl/5.37.4/x86_64-linux-thread-multi/Class/MOP.pm line 69.
	Class::MOP::load_class("Data::Pipeline::Iterator") called at /tmp/loop_over_bdir-649757-wzOVEA/Data-Pipeline-0.02-0/blib/lib/Data/Pipeline/Types.pm line 133
	Data::Pipeline::Types::__ANON__(Data::Pipeline::Adapter::Array=HASH(0x55644b5c5548)) called at /home/sand/src/perl/repoperls/installed-perls/host/k93focal/v5.37.4/d119/lib/site_perl/5.37.4/x86_64-linux-thread-multi/Moose/Meta/TypeCoercion.pm line 65
	Moose::Meta::TypeCoercion::__ANON__(Data::Pipeline::Adapter::Array=HASH(0x55644b5c5548)) called at /home/sand/src/perl/repoperls/installed-perls/host/k93focal/v5.37.4/d119/lib/site_perl/5.37.4/x86_64-linux-thread-multi/Moose/Meta/TypeCoercion.pm line 100
	Moose::Meta::TypeCoercion::coerce(Moose::Meta::TypeCoercion=HASH(0x55644b407c18), Data::Pipeline::Adapter::Array=HASH(0x55644b5c5548)) called at /home/sand/src/perl/repoperls/installed-perls/host/k93focal/v5.37.4/d119/lib/site_perl/5.37.4/x86_64-linux-thread-multi/Moose/Meta/TypeConstraint.pm line 145
	Moose::Meta::TypeConstraint::coerce(Moose::Meta::TypeConstraint=HASH(0x55644b2c98c0), Data::Pipeline::Adapter::Array=HASH(0x55644b5c5548)) called at /home/sand/src/perl/repoperls/installed-perls/host/k93focal/v5.37.4/d119/lib/site_perl/5.37.4/MooseX/Types.pm line 494
	MooseX::Types::__ANON__(Data::Pipeline::Adapter::Array=HASH(0x55644b5c5548)) called at /tmp/loop_over_bdir-649757-wzOVEA/Data-Pipeline-0.02-0/blib/lib/Data/Pipeline/Aggregator/Pipeline.pm line 47
	Data::Pipeline::Aggregator::Pipeline::transform(Data::Pipeline::Aggregator::Pipeline=HASH(0x55644b6208e0), Data::Pipeline::Adapter::Array=HASH(0x55644b5c5548)) called at t/06-pipeline.t line 19
t/06-pipeline.t ........ ok
Class::MOP::load_class is deprecated at /home/sand/src/perl/repoperls/installed-perls/host/k93focal/v5.37.4/d119/lib/site_perl/5.37.4/x86_64-linux-thread-multi/Class/MOP.pm line 69.
	Class::MOP::load_class("Data::Pipeline::Aggregator::Pipeline") called at /tmp/loop_over_bdir-649757-wzOVEA/Data-Pipeline-0.02-0/blib/lib/Data/Pipeline.pm line 70
	eval {...} called at /tmp/loop_over_bdir-649757-wzOVEA/Data-Pipeline-0.02-0/blib/lib/Data/Pipeline.pm line 70
	Data::Pipeline::_find_class("Pipeline") called at /tmp/loop_over_bdir-649757-wzOVEA/Data-Pipeline-0.02-0/blib/lib/Data/Pipeline.pm line 23
	Data::Pipeline::import("Data::Pipeline", "Pipeline", "Count", "CSV") called at t/07-csvsource.t line 23
	main::BEGIN() called at t/07-csvsource.t line 23
	eval {...} called at t/07-csvsource.t line 23
Class::MOP::load_class is deprecated at /home/sand/src/perl/repoperls/installed-perls/host/k93focal/v5.37.4/d119/lib/site_perl/5.37.4/x86_64-linux-thread-multi/Class/MOP.pm line 69.
	Class::MOP::load_class("Data::Pipeline::Aggregator::Machine") called at /tmp/loop_over_bdir-649757-wzOVEA/Data-Pipeline-0.02-0/blib/lib/Data/Pipeline/Machine.pm line 20
	Data::Pipeline::Machine::BEGIN() called at /tmp/loop_over_bdir-649757-wzOVEA/Data-Pipeline-0.02-0/blib/lib/Data/Pipeline/Machine.pm line 22
	eval {...} called at /tmp/loop_over_bdir-649757-wzOVEA/Data-Pipeline-0.02-0/blib/lib/Data/Pipeline/Machine.pm line 22
	require Data/Pipeline/Machine.pm called at /tmp/loop_over_bdir-649757-wzOVEA/Data-Pipeline-0.02-0/blib/lib/Data/Pipeline/Aggregator/Pipeline.pm line 10
	Data::Pipeline::Aggregator::Pipeline::BEGIN() called at /tmp/loop_over_bdir-649757-wzOVEA/Data-Pipeline-0.02-0/blib/lib/Data/Pipeline/Aggregator/Pipeline.pm line 10
	eval {...} called at /tmp/loop_over_bdir-649757-wzOVEA/Data-Pipeline-0.02-0/blib/lib/Data/Pipeline/Aggregator/Pipeline.pm line 10
	require Data/Pipeline/Aggregator/Pipeline.pm called at /home/sand/src/perl/repoperls/installed-perls/host/k93focal/v5.37.4/d119/lib/site_perl/5.37.4/Module/Runtime.pm line 314
	Module::Runtime::require_module("Data::Pipeline::Aggregator::Pipeline") called at /home/sand/src/perl/repoperls/installed-perls/host/k93focal/v5.37.4/d119/lib/site_perl/5.37.4/Class/Load.pm line 174
	Class::Load::try {...} () called at /home/sand/src/perl/repoperls/installed-perls/host/k93focal/v5.37.4/d119/lib/site_perl/5.37.4/Try/Tiny.pm line 98
	eval {...} called at /home/sand/src/perl/repoperls/installed-perls/host/k93focal/v5.37.4/d119/lib/site_perl/5.37.4/Try/Tiny.pm line 93
	Try::Tiny::try(CODE(0x556ff72e2ff8), Try::Tiny::Catch=REF(0x556ff72b8430)) called at /home/sand/src/perl/repoperls/installed-perls/host/k93focal/v5.37.4/d119/lib/site_perl/5.37.4/Class/Load.pm line 180
	Class::Load::try_load_class("Data::Pipeline::Aggregator::Pipeline", undef) called at /home/sand/src/perl/repoperls/installed-perls/host/k93focal/v5.37.4/d119/lib/site_perl/5.37.4/Class/Load.pm line 35
	Class::Load::load_class("Data::Pipeline::Aggregator::Pipeline") called at /tmp/loop_over_bdir-649757-wzOVEA/Data-Pipeline-0.02-0/blib/lib/Data/Pipeline.pm line 70
	eval {...} called at /tmp/loop_over_bdir-649757-wzOVEA/Data-Pipeline-0.02-0/blib/lib/Data/Pipeline.pm line 70
	Data::Pipeline::_find_class("Pipeline") called at /tmp/loop_over_bdir-649757-wzOVEA/Data-Pipeline-0.02-0/blib/lib/Data/Pipeline.pm line 23
	Data::Pipeline::import("Data::Pipeline", "Pipeline", "Count", "CSV") called at t/07-csvsource.t line 23
	main::BEGIN() called at t/07-csvsource.t line 23
	eval {...} called at t/07-csvsource.t line 23
Class::MOP::load_class is deprecated at /home/sand/src/perl/repoperls/installed-perls/host/k93focal/v5.37.4/d119/lib/site_perl/5.37.4/x86_64-linux-thread-multi/Class/MOP.pm line 69.
	Class::MOP::load_class("Data::Pipeline::Iterator") called at /tmp/loop_over_bdir-649757-wzOVEA/Data-Pipeline-0.02-0/blib/lib/Data/Pipeline/Types.pm line 133
	Data::Pipeline::Types::__ANON__(Data::Pipeline::Adapter::CSV=HASH(0x556ff74dffe8)) called at /home/sand/src/perl/repoperls/installed-perls/host/k93focal/v5.37.4/d119/lib/site_perl/5.37.4/x86_64-linux-thread-multi/Moose/Meta/TypeCoercion.pm line 65
	Moose::Meta::TypeCoercion::__ANON__(Data::Pipeline::Adapter::CSV=HASH(0x556ff74dffe8)) called at /home/sand/src/perl/repoperls/installed-perls/host/k93focal/v5.37.4/d119/lib/site_perl/5.37.4/x86_64-linux-thread-multi/Moose/Meta/TypeCoercion.pm line 100
	Moose::Meta::TypeCoercion::coerce(Moose::Meta::TypeCoercion=HASH(0x556ff72c9320), Data::Pipeline::Adapter::CSV=HASH(0x556ff74dffe8)) called at /home/sand/src/perl/repoperls/installed-perls/host/k93focal/v5.37.4/d119/lib/site_perl/5.37.4/x86_64-linux-thread-multi/Moose/Meta/TypeConstraint.pm line 145
	Moose::Meta::TypeConstraint::coerce(Moose::Meta::TypeConstraint=HASH(0x556ff728e748), Data::Pipeline::Adapter::CSV=HASH(0x556ff74dffe8)) called at /home/sand/src/perl/repoperls/installed-perls/host/k93focal/v5.37.4/d119/lib/site_perl/5.37.4/MooseX/Types.pm line 494
	MooseX::Types::__ANON__(Data::Pipeline::Adapter::CSV=HASH(0x556ff74dffe8)) called at /tmp/loop_over_bdir-649757-wzOVEA/Data-Pipeline-0.02-0/blib/lib/Data/Pipeline/Action.pm line 23
	Data::Pipeline::Action::transform(Data::Pipeline::Action::Count=HASH(0x556ff75764f0), Data::Pipeline::Adapter::CSV=HASH(0x556ff74dffe8)) called at t/07-csvsource.t line 26
t/07-csvsource.t ....... ok
Class::MOP::load_class is deprecated at /home/sand/src/perl/repoperls/installed-perls/host/k93focal/v5.37.4/d119/lib/site_perl/5.37.4/x86_64-linux-thread-multi/Class/MOP.pm line 69.
	Class::MOP::load_class("Data::Pipeline::Adapter::Array") called at /tmp/loop_over_bdir-649757-wzOVEA/Data-Pipeline-0.02-0/blib/lib/Data/Pipeline/Types.pm line 78
	Data::Pipeline::Types::__ANON__(ARRAY(0x560265aaca50)) called at /home/sand/src/perl/repoperls/installed-perls/host/k93focal/v5.37.4/d119/lib/site_perl/5.37.4/x86_64-linux-thread-multi/Moose/Meta/TypeCoercion.pm line 65
	Moose::Meta::TypeCoercion::__ANON__(ARRAY(0x560265aaca50)) called at /home/sand/src/perl/repoperls/installed-perls/host/k93focal/v5.37.4/d119/lib/site_perl/5.37.4/x86_64-linux-thread-multi/Moose/Meta/TypeCoercion.pm line 100
	Moose::Meta::TypeCoercion::coerce(Moose::Meta::TypeCoercion=HASH(0x56026672a300), ARRAY(0x560265aaca50)) called at /home/sand/src/perl/repoperls/installed-perls/host/k93focal/v5.37.4/d119/lib/site_perl/5.37.4/x86_64-linux-thread-multi/Moose/Meta/TypeConstraint.pm line 145
	Moose::Meta::TypeConstraint::coerce(Moose::Meta::TypeConstraint=HASH(0x560267209938), ARRAY(0x560265aaca50)) called at /home/sand/src/perl/repoperls/installed-perls/host/k93focal/v5.37.4/d119/lib/site_perl/5.37.4/MooseX/Types.pm line 494
	MooseX::Types::__ANON__(ARRAY(0x560265aaca50)) called at t/08-types.t line 28
Class::MOP::load_class is deprecated at /home/sand/src/perl/repoperls/installed-perls/host/k93focal/v5.37.4/d119/lib/site_perl/5.37.4/x86_64-linux-thread-multi/Class/MOP.pm line 69.
	Class::MOP::load_class("Data::Pipeline::Aggregator::Machine") called at /tmp/loop_over_bdir-649757-wzOVEA/Data-Pipeline-0.02-0/blib/lib/Data/Pipeline/Machine.pm line 20
	Data::Pipeline::Machine::BEGIN() called at /tmp/loop_over_bdir-649757-wzOVEA/Data-Pipeline-0.02-0/blib/lib/Data/Pipeline/Machine.pm line 22
	eval {...} called at /tmp/loop_over_bdir-649757-wzOVEA/Data-Pipeline-0.02-0/blib/lib/Data/Pipeline/Machine.pm line 22
	require Data/Pipeline/Machine.pm called at /tmp/loop_over_bdir-649757-wzOVEA/Data-Pipeline-0.02-0/blib/lib/Data/Pipeline/Aggregator/Machine.pm line 6
	Data::Pipeline::Aggregator::Machine::BEGIN() called at /tmp/loop_over_bdir-649757-wzOVEA/Data-Pipeline-0.02-0/blib/lib/Data/Pipeline/Aggregator/Machine.pm line 6
	eval {...} called at /tmp/loop_over_bdir-649757-wzOVEA/Data-Pipeline-0.02-0/blib/lib/Data/Pipeline/Aggregator/Machine.pm line 6
	require Data/Pipeline/Aggregator/Machine.pm called at /tmp/loop_over_bdir-649757-wzOVEA/Data-Pipeline-0.02-0/blib/lib/Data/Pipeline/Adapter.pm line 9
	Data::Pipeline::Adapter::BEGIN() called at /tmp/loop_over_bdir-649757-wzOVEA/Data-Pipeline-0.02-0/blib/lib/Data/Pipeline/Adapter.pm line 9
	eval {...} called at /tmp/loop_over_bdir-649757-wzOVEA/Data-Pipeline-0.02-0/blib/lib/Data/Pipeline/Adapter.pm line 9
	require Data/Pipeline/Adapter.pm called at /home/sand/src/perl/repoperls/installed-perls/host/k93focal/v5.37.4/d119/lib/site_perl/5.37.4/Module/Runtime.pm line 314
	Module::Runtime::require_module("Data::Pipeline::Adapter") called at /home/sand/src/perl/repoperls/installed-perls/host/k93focal/v5.37.4/d119/lib/site_perl/5.37.4/Module/Runtime.pm line 391
	eval {...} called at /home/sand/src/perl/repoperls/installed-perls/host/k93focal/v5.37.4/d119/lib/site_perl/5.37.4/Module/Runtime.pm line 391
	Module::Runtime::use_package_optimistically("Data::Pipeline::Adapter") called at /home/sand/src/perl/repoperls/installed-perls/host/k93focal/v5.37.4/d119/lib/site_perl/5.37.4/x86_64-linux-thread-multi/Moose/Util.pm line 351
	Moose::Util::_load_user_class("Data::Pipeline::Adapter", undef) called at /home/sand/src/perl/repoperls/installed-perls/host/k93focal/v5.37.4/d119/lib/site_perl/5.37.4/x86_64-linux-thread-multi/Moose/Meta/Class.pm line 569
	Moose::Meta::Class::superclasses(undef, "Data::Pipeline::Adapter") called at /home/sand/src/perl/repoperls/installed-perls/host/k93focal/v5.37.4/d119/lib/site_perl/5.37.4/x86_64-linux-thread-multi/Moose.pm line 53
	Moose::extends(Moose::Meta::Class=HASH(0x5602672b2350), "Data::Pipeline::Adapter") called at /home/sand/src/perl/repoperls/installed-perls/host/k93focal/v5.37.4/d119/lib/site_perl/5.37.4/x86_64-linux-thread-multi/Moose/Exporter.pm line 418
	Moose::extends("Data::Pipeline::Adapter") called at /tmp/loop_over_bdir-649757-wzOVEA/Data-Pipeline-0.02-0/blib/lib/Data/Pipeline/Adapter/Array.pm line 4
	require Data/Pipeline/Adapter/Array.pm called at /home/sand/src/perl/repoperls/installed-perls/host/k93focal/v5.37.4/d119/lib/site_perl/5.37.4/Module/Runtime.pm line 314
	Module::Runtime::require_module("Data::Pipeline::Adapter::Array") called at /home/sand/src/perl/repoperls/installed-perls/host/k93focal/v5.37.4/d119/lib/site_perl/5.37.4/Class/Load.pm line 174
	Class::Load::try {...} () called at /home/sand/src/perl/repoperls/installed-perls/host/k93focal/v5.37.4/d119/lib/site_perl/5.37.4/Try/Tiny.pm line 98
	eval {...} called at /home/sand/src/perl/repoperls/installed-perls/host/k93focal/v5.37.4/d119/lib/site_perl/5.37.4/Try/Tiny.pm line 93
	Try::Tiny::try(CODE(0x56026727ffc0), Try::Tiny::Catch=REF(0x5602672a0070)) called at /home/sand/src/perl/repoperls/installed-perls/host/k93focal/v5.37.4/d119/lib/site_perl/5.37.4/Class/Load.pm line 180
	Class::Load::try_load_class("Data::Pipeline::Adapter::Array", undef) called at /home/sand/src/perl/repoperls/installed-perls/host/k93focal/v5.37.4/d119/lib/site_perl/5.37.4/Class/Load.pm line 35
	Class::Load::load_class("Data::Pipeline::Adapter::Array") called at /tmp/loop_over_bdir-649757-wzOVEA/Data-Pipeline-0.02-0/blib/lib/Data/Pipeline/Types.pm line 78
	Data::Pipeline::Types::__ANON__(ARRAY(0x560265aaca50)) called at /home/sand/src/perl/repoperls/installed-perls/host/k93focal/v5.37.4/d119/lib/site_perl/5.37.4/x86_64-linux-thread-multi/Moose/Meta/TypeCoercion.pm line 65
	Moose::Meta::TypeCoercion::__ANON__(ARRAY(0x560265aaca50)) called at /home/sand/src/perl/repoperls/installed-perls/host/k93focal/v5.37.4/d119/lib/site_perl/5.37.4/x86_64-linux-thread-multi/Moose/Meta/TypeCoercion.pm line 100
	Moose::Meta::TypeCoercion::coerce(Moose::Meta::TypeCoercion=HASH(0x56026672a300), ARRAY(0x560265aaca50)) called at /home/sand/src/perl/repoperls/installed-perls/host/k93focal/v5.37.4/d119/lib/site_perl/5.37.4/x86_64-linux-thread-multi/Moose/Meta/TypeConstraint.pm line 145
	Moose::Meta::TypeConstraint::coerce(Moose::Meta::TypeConstraint=HASH(0x560267209938), ARRAY(0x560265aaca50)) called at /home/sand/src/perl/repoperls/installed-perls/host/k93focal/v5.37.4/d119/lib/site_perl/5.37.4/MooseX/Types.pm line 494
	MooseX::Types::__ANON__(ARRAY(0x560265aaca50)) called at t/08-types.t line 28
t/08-types.t ........... ok
t/09-rename.t .......... ok
Class::MOP::load_class is deprecated at /home/sand/src/perl/repoperls/installed-perls/host/k93focal/v5.37.4/d119/lib/site_perl/5.37.4/x86_64-linux-thread-multi/Class/MOP.pm line 69.
	Class::MOP::load_class("Data::Pipeline::Aggregator::Machine") called at /tmp/loop_over_bdir-649757-wzOVEA/Data-Pipeline-0.02-0/blib/lib/Data/Pipeline/Machine.pm line 20
	Data::Pipeline::Machine::BEGIN() called at /tmp/loop_over_bdir-649757-wzOVEA/Data-Pipeline-0.02-0/blib/lib/Data/Pipeline/Machine.pm line 22
	eval {...} called at /tmp/loop_over_bdir-649757-wzOVEA/Data-Pipeline-0.02-0/blib/lib/Data/Pipeline/Machine.pm line 22
	require Data/Pipeline/Machine.pm called at t/11-machine.t line 6
	My::Machine::BEGIN() called at t/11-machine.t line 6
	eval {...} called at t/11-machine.t line 6
Class::MOP::load_class is deprecated at /home/sand/src/perl/repoperls/installed-perls/host/k93focal/v5.37.4/d119/lib/site_perl/5.37.4/x86_64-linux-thread-multi/Class/MOP.pm line 69.
	Class::MOP::load_class("Data::Pipeline::Aggregator::Array") called at /tmp/loop_over_bdir-649757-wzOVEA/Data-Pipeline-0.02-0/blib/lib/Data/Pipeline.pm line 70
	eval {...} called at /tmp/loop_over_bdir-649757-wzOVEA/Data-Pipeline-0.02-0/blib/lib/Data/Pipeline.pm line 70
	Data::Pipeline::_find_class("Array") called at /tmp/loop_over_bdir-649757-wzOVEA/Data-Pipeline-0.02-0/blib/lib/Data/Pipeline.pm line 23
	Data::Pipeline::import("Data::Pipeline", "Array", "Count", "CSV") called at t/11-machine.t line 7
	My::Machine::BEGIN() called at t/11-machine.t line 7
	eval {...} called at t/11-machine.t line 7
Class::MOP::load_class is deprecated at /home/sand/src/perl/repoperls/installed-perls/host/k93focal/v5.37.4/d119/lib/site_perl/5.37.4/x86_64-linux-thread-multi/Class/MOP.pm line 69.
	Class::MOP::load_class("Data::Pipeline::Iterator") called at /tmp/loop_over_bdir-649757-wzOVEA/Data-Pipeline-0.02-0/blib/lib/Data/Pipeline/Types.pm line 133
	Data::Pipeline::Types::__ANON__(Data::Pipeline::Adapter::Array=HASH(0x562edd927580)) called at /home/sand/src/perl/repoperls/installed-perls/host/k93focal/v5.37.4/d119/lib/site_perl/5.37.4/x86_64-linux-thread-multi/Moose/Meta/TypeCoercion.pm line 65
	Moose::Meta::TypeCoercion::__ANON__(Data::Pipeline::Adapter::Array=HASH(0x562edd927580)) called at /home/sand/src/perl/repoperls/installed-perls/host/k93focal/v5.37.4/d119/lib/site_perl/5.37.4/x86_64-linux-thread-multi/Moose/Meta/TypeCoercion.pm line 100
	Moose::Meta::TypeCoercion::coerce(Moose::Meta::TypeCoercion=HASH(0x562edf10d6f8), Data::Pipeline::Adapter::Array=HASH(0x562edd927580)) called at /home/sand/src/perl/repoperls/installed-perls/host/k93focal/v5.37.4/d119/lib/site_perl/5.37.4/x86_64-linux-thread-multi/Moose/Meta/TypeConstraint.pm line 145
	Moose::Meta::TypeConstraint::coerce(Moose::Meta::TypeConstraint=HASH(0x562edf0d8410), Data::Pipeline::Adapter::Array=HASH(0x562edd927580)) called at /home/sand/src/perl/repoperls/installed-perls/host/k93focal/v5.37.4/d119/lib/site_perl/5.37.4/MooseX/Types.pm line 494
	MooseX::Types::__ANON__(Data::Pipeline::Adapter::Array=HASH(0x562edd927580)) called at /tmp/loop_over_bdir-649757-wzOVEA/Data-Pipeline-0.02-0/blib/lib/Data/Pipeline/Aggregator/Pipeline.pm line 30
	Data::Pipeline::Aggregator::Pipeline::from(Data::Pipeline::Aggregator::Pipeline=HASH(0x562edf4f79f0), "array", Data::Pipeline::Iterator=HASH(0x562edf4e5950)) called at /tmp/loop_over_bdir-649757-wzOVEA/Data-Pipeline-0.02-0/blib/lib/Data/Pipeline/Aggregator/Machine.pm line 124
	Data::Pipeline::Aggregator::Machine::__ANON__() called at /tmp/loop_over_bdir-649757-wzOVEA/Data-Pipeline-0.02-0/blib/lib/Data/Pipeline/Machine.pm line 162
	Data::Pipeline::Machine::with_options(CODE(0x562edd926c50), HASH(0x562edf4f79d8)) called at /tmp/loop_over_bdir-649757-wzOVEA/Data-Pipeline-0.02-0/blib/lib/Data/Pipeline/Aggregator/Machine.pm line 125
	Data::Pipeline::Aggregator::Machine::from(Data::Pipeline::Aggregator::Machine=HASH(0x562edede7338), "foo", "array", Data::Pipeline::Iterator=HASH(0x562edf4e5950)) called at /tmp/loop_over_bdir-649757-wzOVEA/Data-Pipeline-0.02-0/blib/lib/Data/Pipeline/Machine/Surrogate.pm line 38
	Data::Pipeline::Machine::Surrogate::from(Data::Pipeline::Machine::Surrogate=HASH(0x562edf4e5ba8)) called at /tmp/loop_over_bdir-649757-wzOVEA/Data-Pipeline-0.02-0/blib/lib/Data/Pipeline/Types.pm line 143
	Data::Pipeline::Types::__ANON__(Data::Pipeline::Machine::Surrogate=HASH(0x562edf4e5ba8)) called at /home/sand/src/perl/repoperls/installed-perls/host/k93focal/v5.37.4/d119/lib/site_perl/5.37.4/x86_64-linux-thread-multi/Moose/Meta/TypeCoercion.pm line 65
	Moose::Meta::TypeCoercion::__ANON__(Data::Pipeline::Machine::Surrogate=HASH(0x562edf4e5ba8)) called at /home/sand/src/perl/repoperls/installed-perls/host/k93focal/v5.37.4/d119/lib/site_perl/5.37.4/x86_64-linux-thread-multi/Moose/Meta/TypeCoercion.pm line 100
	Moose::Meta::TypeCoercion::coerce(Moose::Meta::TypeCoercion=HASH(0x562edf10d6f8), Data::Pipeline::Machine::Surrogate=HASH(0x562edf4e5ba8)) called at /home/sand/src/perl/repoperls/installed-perls/host/k93focal/v5.37.4/d119/lib/site_perl/5.37.4/x86_64-linux-thread-multi/Moose/Meta/TypeConstraint.pm line 145
	Moose::Meta::TypeConstraint::coerce(Moose::Meta::TypeConstraint=HASH(0x562edf0d8410), Data::Pipeline::Machine::Surrogate=HASH(0x562edf4e5ba8)) called at /home/sand/src/perl/repoperls/installed-perls/host/k93focal/v5.37.4/d119/lib/site_perl/5.37.4/MooseX/Types.pm line 494
	MooseX::Types::__ANON__(Data::Pipeline::Machine::Surrogate=HASH(0x562edf4e5ba8)) called at /tmp/loop_over_bdir-649757-wzOVEA/Data-Pipeline-0.02-0/blib/lib/Data/Pipeline/Aggregator/Pipeline.pm line 30
	Data::Pipeline::Aggregator::Pipeline::from(Data::Pipeline::Aggregator::Pipeline=HASH(0x562edf4cfb78), "array", ARRAY(0x562edf4f8860)) called at /tmp/loop_over_bdir-649757-wzOVEA/Data-Pipeline-0.02-0/blib/lib/Data/Pipeline/Aggregator/Machine.pm line 124
	Data::Pipeline::Aggregator::Machine::__ANON__() called at /tmp/loop_over_bdir-649757-wzOVEA/Data-Pipeline-0.02-0/blib/lib/Data/Pipeline/Machine.pm line 162
	Data::Pipeline::Machine::with_options(CODE(0x562edf4f8890), HASH(0x562edf4f88f0)) called at /tmp/loop_over_bdir-649757-wzOVEA/Data-Pipeline-0.02-0/blib/lib/Data/Pipeline/Aggregator/Machine.pm line 125
	Data::Pipeline::Aggregator::Machine::from(Data::Pipeline::Aggregator::Machine=HASH(0x562edede7338), "array", ARRAY(0x562edf4f8860)) called at inline delegation in Data::Pipeline::Machine for _m->from (attribute declared in /tmp/loop_over_bdir-649757-wzOVEA/Data-Pipeline-0.02-0/blib/lib/Data/Pipeline/Machine.pm at line 31) line 18
	Data::Pipeline::Machine::from(My::Machine=HASH(0x562edf4e5908), "array", ARRAY(0x562edf4f8860)) called at t/11-machine.t line 42
t/11-machine.t ......... ok
Class::MOP::load_class is deprecated at /home/sand/src/perl/repoperls/installed-perls/host/k93focal/v5.37.4/d119/lib/site_perl/5.37.4/x86_64-linux-thread-multi/Class/MOP.pm line 69.
	Class::MOP::load_class("Data::Pipeline::Aggregator::Pipeline") called at /tmp/loop_over_bdir-649757-wzOVEA/Data-Pipeline-0.02-0/blib/lib/Data/Pipeline.pm line 70
	eval {...} called at /tmp/loop_over_bdir-649757-wzOVEA/Data-Pipeline-0.02-0/blib/lib/Data/Pipeline.pm line 70
	Data::Pipeline::_find_class("Pipeline") called at /tmp/loop_over_bdir-649757-wzOVEA/Data-Pipeline-0.02-0/blib/lib/Data/Pipeline.pm line 23
	Data::Pipeline::import("Data::Pipeline", "Pipeline", "Count", "Array") called at t/12-options.t line 3
	main::BEGIN() called at t/12-options.t line 3
	eval {...} called at t/12-options.t line 3
Class::MOP::load_class is deprecated at /home/sand/src/perl/repoperls/installed-perls/host/k93focal/v5.37.4/d119/lib/site_perl/5.37.4/x86_64-linux-thread-multi/Class/MOP.pm line 69.
	Class::MOP::load_class("Data::Pipeline::Aggregator::Machine") called at /tmp/loop_over_bdir-649757-wzOVEA/Data-Pipeline-0.02-0/blib/lib/Data/Pipeline/Machine.pm line 20
	Data::Pipeline::Machine::BEGIN() called at /tmp/loop_over_bdir-649757-wzOVEA/Data-Pipeline-0.02-0/blib/lib/Data/Pipeline/Machine.pm line 22
	eval {...} called at /tmp/loop_over_bdir-649757-wzOVEA/Data-Pipeline-0.02-0/blib/lib/Data/Pipeline/Machine.pm line 22
	require Data/Pipeline/Machine.pm called at /tmp/loop_over_bdir-649757-wzOVEA/Data-Pipeline-0.02-0/blib/lib/Data/Pipeline/Aggregator/Pipeline.pm line 10
	Data::Pipeline::Aggregator::Pipeline::BEGIN() called at /tmp/loop_over_bdir-649757-wzOVEA/Data-Pipeline-0.02-0/blib/lib/Data/Pipeline/Aggregator/Pipeline.pm line 10
	eval {...} called at /tmp/loop_over_bdir-649757-wzOVEA/Data-Pipeline-0.02-0/blib/lib/Data/Pipeline/Aggregator/Pipeline.pm line 10
	require Data/Pipeline/Aggregator/Pipeline.pm called at /home/sand/src/perl/repoperls/installed-perls/host/k93focal/v5.37.4/d119/lib/site_perl/5.37.4/Module/Runtime.pm line 314
	Module::Runtime::require_module("Data::Pipeline::Aggregator::Pipeline") called at /home/sand/src/perl/repoperls/installed-perls/host/k93focal/v5.37.4/d119/lib/site_perl/5.37.4/Class/Load.pm line 174
	Class::Load::try {...} () called at /home/sand/src/perl/repoperls/installed-perls/host/k93focal/v5.37.4/d119/lib/site_perl/5.37.4/Try/Tiny.pm line 98
	eval {...} called at /home/sand/src/perl/repoperls/installed-perls/host/k93focal/v5.37.4/d119/lib/site_perl/5.37.4/Try/Tiny.pm line 93
	Try::Tiny::try(CODE(0x5600b0394718), Try::Tiny::Catch=REF(0x5600b0264700)) called at /home/sand/src/perl/repoperls/installed-perls/host/k93focal/v5.37.4/d119/lib/site_perl/5.37.4/Class/Load.pm line 180
	Class::Load::try_load_class("Data::Pipeline::Aggregator::Pipeline", undef) called at /home/sand/src/perl/repoperls/installed-perls/host/k93focal/v5.37.4/d119/lib/site_perl/5.37.4/Class/Load.pm line 35
	Class::Load::load_class("Data::Pipeline::Aggregator::Pipeline") called at /tmp/loop_over_bdir-649757-wzOVEA/Data-Pipeline-0.02-0/blib/lib/Data/Pipeline.pm line 70
	eval {...} called at /tmp/loop_over_bdir-649757-wzOVEA/Data-Pipeline-0.02-0/blib/lib/Data/Pipeline.pm line 70
	Data::Pipeline::_find_class("Pipeline") called at /tmp/loop_over_bdir-649757-wzOVEA/Data-Pipeline-0.02-0/blib/lib/Data/Pipeline.pm line 23
	Data::Pipeline::import("Data::Pipeline", "Pipeline", "Count", "Array") called at t/12-options.t line 3
	main::BEGIN() called at t/12-options.t line 3
	eval {...} called at t/12-options.t line 3
Class::MOP::load_class is deprecated at /home/sand/src/perl/repoperls/installed-perls/host/k93focal/v5.37.4/d119/lib/site_perl/5.37.4/x86_64-linux-thread-multi/Class/MOP.pm line 69.
	Class::MOP::load_class("Data::Pipeline::Adapter::Array") called at /tmp/loop_over_bdir-649757-wzOVEA/Data-Pipeline-0.02-0/blib/lib/Data/Pipeline/Types.pm line 83
	Data::Pipeline::Types::__ANON__(1) called at /home/sand/src/perl/repoperls/installed-perls/host/k93focal/v5.37.4/d119/lib/site_perl/5.37.4/x86_64-linux-thread-multi/Moose/Meta/TypeCoercion.pm line 65
	Moose::Meta::TypeCoercion::__ANON__(1) called at /home/sand/src/perl/repoperls/installed-perls/host/k93focal/v5.37.4/d119/lib/site_perl/5.37.4/x86_64-linux-thread-multi/Moose/Meta/TypeCoercion.pm line 100
	Moose::Meta::TypeCoercion::coerce(Moose::Meta::TypeCoercion=HASH(0x5600b0265510), 1) called at /home/sand/src/perl/repoperls/installed-perls/host/k93focal/v5.37.4/d119/lib/site_perl/5.37.4/x86_64-linux-thread-multi/Moose/Meta/TypeConstraint.pm line 145
	Moose::Meta::TypeConstraint::coerce(Moose::Meta::TypeConstraint=HASH(0x5600b0360638), 1) called at /home/sand/src/perl/repoperls/installed-perls/host/k93focal/v5.37.4/d119/lib/site_perl/5.37.4/MooseX/Types.pm line 494
	MooseX::Types::__ANON__(1) called at /home/sand/src/perl/repoperls/installed-perls/host/k93focal/v5.37.4/d119/lib/site_perl/5.37.4/Sub/Exporter/ForMethods.pm line 91
	Data::Pipeline::Types::to_Adapter(1) called at /tmp/loop_over_bdir-649757-wzOVEA/Data-Pipeline-0.02-0/blib/lib/Data/Pipeline/Types.pm line 128
	Data::Pipeline::Types::__ANON__(1) called at /home/sand/src/perl/repoperls/installed-perls/host/k93focal/v5.37.4/d119/lib/site_perl/5.37.4/x86_64-linux-thread-multi/Moose/Meta/TypeCoercion.pm line 65
	Moose::Meta::TypeCoercion::__ANON__(1) called at /home/sand/src/perl/repoperls/installed-perls/host/k93focal/v5.37.4/d119/lib/site_perl/5.37.4/x86_64-linux-thread-multi/Moose/Meta/TypeCoercion.pm line 100
	Moose::Meta::TypeCoercion::coerce(Moose::Meta::TypeCoercion=HASH(0x5600b03a2a88), 1) called at /home/sand/src/perl/repoperls/installed-perls/host/k93focal/v5.37.4/d119/lib/site_perl/5.37.4/x86_64-linux-thread-multi/Moose/Meta/TypeConstraint.pm line 145
	Moose::Meta::TypeConstraint::coerce(Moose::Meta::TypeConstraint=HASH(0x5600b0374bb0), 1) called at /home/sand/src/perl/repoperls/installed-perls/host/k93focal/v5.37.4/d119/lib/site_perl/5.37.4/MooseX/Types.pm line 494
	MooseX::Types::__ANON__(1) called at /tmp/loop_over_bdir-649757-wzOVEA/Data-Pipeline-0.02-0/blib/lib/Data/Pipeline/Iterator/Options.pm line 45
	Data::Pipeline::Iterator::Options::build_source(Data::Pipeline::Iterator::Options=HASH(0x5600b05b7a48)) called at /tmp/loop_over_bdir-649757-wzOVEA/Data-Pipeline-0.02-0/blib/lib/Data/Pipeline/Iterator/Options.pm line 24
	Data::Pipeline::Iterator::Options::__ANON__(Data::Pipeline::Iterator::Options=HASH(0x5600b05b7a48)) called at accessor Data::Pipeline::Iterator::Options::source (defined at /tmp/loop_over_bdir-649757-wzOVEA/Data-Pipeline-0.02-0/blib/lib/Data/Pipeline/Iterator/Options.pm line 27) line 17
	Data::Pipeline::Iterator::Options::source(Data::Pipeline::Iterator::Options=HASH(0x5600b05b7a48)) called at /tmp/loop_over_bdir-649757-wzOVEA/Data-Pipeline-0.02-0/blib/lib/Data/Pipeline/Iterator.pm line 53
	Data::Pipeline::Iterator::finished(Data::Pipeline::Iterator::Options=HASH(0x5600b05b7a48)) called at t/12-options.t line 23
t/12-options.t ......... ok
Class::MOP::load_class is deprecated at /home/sand/src/perl/repoperls/installed-perls/host/k93focal/v5.37.4/d119/lib/site_perl/5.37.4/x86_64-linux-thread-multi/Class/MOP.pm line 69.
	Class::MOP::load_class("Data::Pipeline::Aggregator::Pipeline") called at /tmp/loop_over_bdir-649757-wzOVEA/Data-Pipeline-0.02-0/blib/lib/Data/Pipeline.pm line 70
	eval {...} called at /tmp/loop_over_bdir-649757-wzOVEA/Data-Pipeline-0.02-0/blib/lib/Data/Pipeline.pm line 70
	Data::Pipeline::_find_class("Pipeline") called at /tmp/loop_over_bdir-649757-wzOVEA/Data-Pipeline-0.02-0/blib/lib/Data/Pipeline.pm line 23
	Data::Pipeline::import("Data::Pipeline", "Pipeline", "UrlBuilder") called at t/13-uribuilder.t line 3
	main::BEGIN() called at t/13-uribuilder.t line 3
	eval {...} called at t/13-uribuilder.t line 3
Class::MOP::load_class is deprecated at /home/sand/src/perl/repoperls/installed-perls/host/k93focal/v5.37.4/d119/lib/site_perl/5.37.4/x86_64-linux-thread-multi/Class/MOP.pm line 69.
	Class::MOP::load_class("Data::Pipeline::Aggregator::Machine") called at /tmp/loop_over_bdir-649757-wzOVEA/Data-Pipeline-0.02-0/blib/lib/Data/Pipeline/Machine.pm line 20
	Data::Pipeline::Machine::BEGIN() called at /tmp/loop_over_bdir-649757-wzOVEA/Data-Pipeline-0.02-0/blib/lib/Data/Pipeline/Machine.pm line 22
	eval {...} called at /tmp/loop_over_bdir-649757-wzOVEA/Data-Pipeline-0.02-0/blib/lib/Data/Pipeline/Machine.pm line 22
	require Data/Pipeline/Machine.pm called at /tmp/loop_over_bdir-649757-wzOVEA/Data-Pipeline-0.02-0/blib/lib/Data/Pipeline/Aggregator/Pipeline.pm line 10
	Data::Pipeline::Aggregator::Pipeline::BEGIN() called at /tmp/loop_over_bdir-649757-wzOVEA/Data-Pipeline-0.02-0/blib/lib/Data/Pipeline/Aggregator/Pipeline.pm line 10
	eval {...} called at /tmp/loop_over_bdir-649757-wzOVEA/Data-Pipeline-0.02-0/blib/lib/Data/Pipeline/Aggregator/Pipeline.pm line 10
	require Data/Pipeline/Aggregator/Pipeline.pm called at /home/sand/src/perl/repoperls/installed-perls/host/k93focal/v5.37.4/d119/lib/site_perl/5.37.4/Module/Runtime.pm line 314
	Module::Runtime::require_module("Data::Pipeline::Aggregator::Pipeline") called at /home/sand/src/perl/repoperls/installed-perls/host/k93focal/v5.37.4/d119/lib/site_perl/5.37.4/Class/Load.pm line 174
	Class::Load::try {...} () called at /home/sand/src/perl/repoperls/installed-perls/host/k93focal/v5.37.4/d119/lib/site_perl/5.37.4/Try/Tiny.pm line 98
	eval {...} called at /home/sand/src/perl/repoperls/installed-perls/host/k93focal/v5.37.4/d119/lib/site_perl/5.37.4/Try/Tiny.pm line 93
	Try::Tiny::try(CODE(0x5642d1c665d8), Try::Tiny::Catch=REF(0x5642d1c61148)) called at /home/sand/src/perl/repoperls/installed-perls/host/k93focal/v5.37.4/d119/lib/site_perl/5.37.4/Class/Load.pm line 180
	Class::Load::try_load_class("Data::Pipeline::Aggregator::Pipeline", undef) called at /home/sand/src/perl/repoperls/installed-perls/host/k93focal/v5.37.4/d119/lib/site_perl/5.37.4/Class/Load.pm line 35
	Class::Load::load_class("Data::Pipeline::Aggregator::Pipeline") called at /tmp/loop_over_bdir-649757-wzOVEA/Data-Pipeline-0.02-0/blib/lib/Data/Pipeline.pm line 70
	eval {...} called at /tmp/loop_over_bdir-649757-wzOVEA/Data-Pipeline-0.02-0/blib/lib/Data/Pipeline.pm line 70
	Data::Pipeline::_find_class("Pipeline") called at /tmp/loop_over_bdir-649757-wzOVEA/Data-Pipeline-0.02-0/blib/lib/Data/Pipeline.pm line 23
	Data::Pipeline::import("Data::Pipeline", "Pipeline", "UrlBuilder") called at t/13-uribuilder.t line 3
	main::BEGIN() called at t/13-uribuilder.t line 3
	eval {...} called at t/13-uribuilder.t line 3
Class::MOP::load_class is deprecated at /home/sand/src/perl/repoperls/installed-perls/host/k93focal/v5.37.4/d119/lib/site_perl/5.37.4/x86_64-linux-thread-multi/Class/MOP.pm line 69.
	Class::MOP::load_class("Data::Pipeline::Iterator") called at /tmp/loop_over_bdir-649757-wzOVEA/Data-Pipeline-0.02-0/blib/lib/Data/Pipeline/Types.pm line 133
	Data::Pipeline::Types::__ANON__(Data::Pipeline::Adapter::UrlBuilder=HASH(0x5642d1d0ac38)) called at /home/sand/src/perl/repoperls/installed-perls/host/k93focal/v5.37.4/d119/lib/site_perl/5.37.4/x86_64-linux-thread-multi/Moose/Meta/TypeCoercion.pm line 65
	Moose::Meta::TypeCoercion::__ANON__(Data::Pipeline::Adapter::UrlBuilder=HASH(0x5642d1d0ac38)) called at /home/sand/src/perl/repoperls/installed-perls/host/k93focal/v5.37.4/d119/lib/site_perl/5.37.4/x86_64-linux-thread-multi/Moose/Meta/TypeCoercion.pm line 100
	Moose::Meta::TypeCoercion::coerce(Moose::Meta::TypeCoercion=HASH(0x5642d1c7fb60), Data::Pipeline::Adapter::UrlBuilder=HASH(0x5642d1d0ac38)) called at /home/sand/src/perl/repoperls/installed-perls/host/k93focal/v5.37.4/d119/lib/site_perl/5.37.4/x86_64-linux-thread-multi/Moose/Meta/TypeConstraint.pm line 145
	Moose::Meta::TypeConstraint::coerce(Moose::Meta::TypeConstraint=HASH(0x5642d1b41e80), Data::Pipeline::Adapter::UrlBuilder=HASH(0x5642d1d0ac38)) called at /home/sand/src/perl/repoperls/installed-perls/host/k93focal/v5.37.4/d119/lib/site_perl/5.37.4/MooseX/Types.pm line 494
	MooseX::Types::__ANON__(Data::Pipeline::Adapter::UrlBuilder=HASH(0x5642d1d0ac38)) called at /tmp/loop_over_bdir-649757-wzOVEA/Data-Pipeline-0.02-0/blib/lib/Data/Pipeline/Aggregator/Pipeline.pm line 47
	Data::Pipeline::Aggregator::Pipeline::transform(Data::Pipeline::Aggregator::Pipeline=HASH(0x5642d1e85408), Data::Pipeline::Adapter::UrlBuilder=HASH(0x5642d1d0ac38)) called at t/13-uribuilder.t line 16
t/13-uribuilder.t ...... ok
Class::MOP::load_class is deprecated at /home/sand/src/perl/repoperls/installed-perls/host/k93focal/v5.37.4/d119/lib/site_perl/5.37.4/x86_64-linux-thread-multi/Class/MOP.pm line 69.
	Class::MOP::load_class("Data::Pipeline::Aggregator::Machine") called at /tmp/loop_over_bdir-649757-wzOVEA/Data-Pipeline-0.02-0/blib/lib/Data/Pipeline/Machine.pm line 20
	Data::Pipeline::Machine::BEGIN() called at /tmp/loop_over_bdir-649757-wzOVEA/Data-Pipeline-0.02-0/blib/lib/Data/Pipeline/Machine.pm line 22
	eval {...} called at /tmp/loop_over_bdir-649757-wzOVEA/Data-Pipeline-0.02-0/blib/lib/Data/Pipeline/Machine.pm line 22
	require Data/Pipeline/Machine.pm called at unkown line 638
	Data::Pipeline::Parser::BEGIN() called at unkown line 638
	eval {...} called at unkown line 638
	require Data/Pipeline/Parser.pm called at t/20-script.t line 3
	main::BEGIN() called at t/20-script.t line 3
	eval {...} called at t/20-script.t line 3
Class::MOP::load_class is deprecated at /home/sand/src/perl/repoperls/installed-perls/host/k93focal/v5.37.4/d119/lib/site_perl/5.37.4/x86_64-linux-thread-multi/Class/MOP.pm line 69.
	Class::MOP::load_class("Data::Pipeline::Adapter::Array") called at unkown line 1005
	eval {...} called at unkown line 1005
	Data::Pipeline::Parser::_load_filter(Data::Pipeline::Parser=HASH(0x559b632640e8), "Adapter", "Array") called at unkown line 988
	Data::Pipeline::Parser::load_actions(Data::Pipeline::Parser=HASH(0x559b632640e8), "Adapter", "Array") called at unkown line 264
	Data::Pipeline::Parser::__ANON__() called at unkown line 61
	Data::Pipeline::Parser::__ANON__() called at unkown line 978
	Data::Pipeline::Parser::_eval_in_m(Data::Pipeline::Parser=HASH(0x559b632640e8), "", CODE(0x559b632267b0)) called at unkown line 883
	Data::Pipeline::Parser::parse(Data::Pipeline::Parser=HASH(0x559b6322c4e0), HASH(0x559b6178b540), "\x{a}    IN: Array\x{a}    OUT: Array\x{a}    USE: Identity\x{a}\x{a}    PIPELINE"..., HASH(0x559b6178bdf8)) called at t/20-script.t line 9
Class::MOP::load_class is deprecated at /home/sand/src/perl/repoperls/installed-perls/host/k93focal/v5.37.4/d119/lib/site_perl/5.37.4/x86_64-linux-thread-multi/Class/MOP.pm line 69.
	Class::MOP::load_class("Data::Pipeline::Iterator") called at /tmp/loop_over_bdir-649757-wzOVEA/Data-Pipeline-0.02-0/blib/lib/Data/Pipeline/Types.pm line 133
	Data::Pipeline::Types::__ANON__(Data::Pipeline::Adapter::Array=HASH(0x559b617cb908)) called at /home/sand/src/perl/repoperls/installed-perls/host/k93focal/v5.37.4/d119/lib/site_perl/5.37.4/x86_64-linux-thread-multi/Moose/Meta/TypeCoercion.pm line 65
	Moose::Meta::TypeCoercion::__ANON__(Data::Pipeline::Adapter::Array=HASH(0x559b617cb908)) called at /home/sand/src/perl/repoperls/installed-perls/host/k93focal/v5.37.4/d119/lib/site_perl/5.37.4/x86_64-linux-thread-multi/Moose/Meta/TypeCoercion.pm line 100
	Moose::Meta::TypeCoercion::coerce(Moose::Meta::TypeCoercion=HASH(0x559b630c0500), Data::Pipeline::Adapter::Array=HASH(0x559b617cb908)) called at /home/sand/src/perl/repoperls/installed-perls/host/k93focal/v5.37.4/d119/lib/site_perl/5.37.4/x86_64-linux-thread-multi/Moose/Meta/TypeConstraint.pm line 145
	Moose::Meta::TypeConstraint::coerce(Moose::Meta::TypeConstraint=HASH(0x559b625792e0), Data::Pipeline::Adapter::Array=HASH(0x559b617cb908)) called at /home/sand/src/perl/repoperls/installed-perls/host/k93focal/v5.37.4/d119/lib/site_perl/5.37.4/MooseX/Types.pm line 494
	MooseX::Types::__ANON__(Data::Pipeline::Adapter::Array=HASH(0x559b617cb908)) called at /tmp/loop_over_bdir-649757-wzOVEA/Data-Pipeline-0.02-0/blib/lib/Data/Pipeline/Aggregator/Pipeline.pm line 30
	Data::Pipeline::Aggregator::Pipeline::from(Data::Pipeline::Aggregator::Pipeline=HASH(0x559b620bab68), "array", ARRAY(0x559b6178bdf8)) called at /tmp/loop_over_bdir-649757-wzOVEA/Data-Pipeline-0.02-0/blib/lib/Data/Pipeline/Aggregator/Machine.pm line 124
	Data::Pipeline::Aggregator::Machine::__ANON__() called at /tmp/loop_over_bdir-649757-wzOVEA/Data-Pipeline-0.02-0/blib/lib/Data/Pipeline/Machine.pm line 162
	Data::Pipeline::Machine::with_options(CODE(0x559b6179de78), HASH(0x559b6208a208)) called at /tmp/loop_over_bdir-649757-wzOVEA/Data-Pipeline-0.02-0/blib/lib/Data/Pipeline/Aggregator/Machine.pm line 125
	Data::Pipeline::Aggregator::Machine::from(Data::Pipeline::Aggregator::Machine=HASH(0x559b63222dd8), "array", ARRAY(0x559b6178bdf8)) called at unkown line 966
	Data::Pipeline::Parser::run(Data::Pipeline::Parser=HASH(0x559b632640e8), "from", HASH(0x559b63226a80), "to", ARRAY(0x559b617cbf50)) called at t/20-script.t line 24
t/20-script.t .......... ok
All tests successful.
Files=14, Tests=138,  6 wallclock secs ( 0.07 usr  0.01 sys +  5.42 cusr  0.59 csys =  6.09 CPU)
Result: PASS

------------------------------
PREREQUISITES
------------------------------

Prerequisite modules loaded:

requires:

    Module              Need Have    
    ------------------- ---- --------
    Moose               2.06 2.2201  

build_requires:

    Module              Need Have    
    ------------------- ---- --------
    ExtUtils::MakeMaker 6.36 7.64    
    Test::More          0    1.302191

configure_requires:

    Module              Need Have    
    ------------------- ---- --------
    ExtUtils::MakeMaker 6.36 7.64    


------------------------------
ENVIRONMENT AND OTHER CONTEXT
------------------------------

Environment variables:

    AUTOMATED_TESTING = 1
    LANG = en_US.UTF-8
    PATH = /home/sand/bin:/usr/local/bin:/usr/local/sbin:/usr/sbin:/usr/bin:/sbin:/bin:/usr/games:/usr/local/games:/snap/bin:/usr/local/perl/bin:/usr/X11/bin
    PERL5LIB = /tmp/loop_over_bdir-649757-wzOVEA/Net-ISP-Balance-1.31-0/blib/arch:/tmp/loop_over_bdir-649757-wzOVEA/Net-ISP-Balance-1.31-0/blib/lib:/tmp/loop_over_bdir-649757-wzOVEA/DBIx-Migration-Directories-0.12-0/blib/arch:/tmp/loop_over_bdir-649757-wzOVEA/DBIx-Migration-Directories-0.12-0/blib/lib:/tmp/loop_over_bdir-649757-wzOVEA/EJBCA-CrlPublish-0.60-0/blib/arch:/tmp/loop_over_bdir-649757-wzOVEA/EJBCA-CrlPublish-0.60-0/blib/lib:/tmp/loop_over_bdir-649757-wzOVEA/Lingua-YaTeA-0.626-0/blib/arch:/tmp/loop_over_bdir-649757-wzOVEA/Lingua-YaTeA-0.626-0/blib/lib:/tmp/loop_over_bdir-649757-wzOVEA/triceps-2.1.0-0/blib/arch:/tmp/loop_over_bdir-649757-wzOVEA/triceps-2.1.0-0/blib/lib:/tmp/loop_over_bdir-649757-wzOVEA/CGI-Application-NetNewsIface-0.0204-0/blib/arch:/tmp/loop_over_bdir-649757-wzOVEA/CGI-Application-NetNewsIface-0.0204-0/blib/lib:/tmp/loop_over_bdir-649757-wzOVEA/NoZone-1.3-0/blib/arch:/tmp/loop_over_bdir-649757-wzOVEA/NoZone-1.3-0/blib/lib:/tmp/loop_over_bdir-649757-wzOVEA/dta-tokwrap-0.98-0/blib/arch:/tmp/loop_over_bdir-649757-wzOVEA/dta-tokwrap-0.98-0/blib/lib:/tmp/loop_over_bdir-649757-wzOVEA/LCFG-Build-Skeleton-0.5.0-0/blib/arch:/tmp/loop_over_bdir-649757-wzOVEA/LCFG-Build-Skeleton-0.5.0-0/blib/lib:/tmp/loop_over_bdir-649757-wzOVEA/Dpkg-1.21.9-0/blib/arch:/tmp/loop_over_bdir-649757-wzOVEA/Dpkg-1.21.9-0/blib/lib:/tmp/loop_over_bdir-649757-wzOVEA/downsexta-0/blib/arch:/tmp/loop_over_bdir-649757-wzOVEA/downsexta-0/blib/lib:/tmp/loop_over_bdir-649757-wzOVEA/perl-Hardware-UPS-Perl-0.43-0/blib/arch:/tmp/loop_over_bdir-649757-wzOVEA/perl-Hardware-UPS-Perl-0.43-0/blib/lib:/tmp/loop_over_bdir-649757-wzOVEA/App-oo_modulino_zsh_completion_helper-0.04-0/blib/arch:/tmp/loop_over_bdir-649757-wzOVEA/App-oo_modulino_zsh_completion_helper-0.04-0/blib/lib
    PERL5OPT = 
    PERL5_CPANPLUS_IS_RUNNING = 649766
    PERL5_CPAN_IS_RUNNING = 649766
    PERL_CANARY_STABILITY_NOPROMPT = 1
    PERL_MM_USE_DEFAULT = 1
    PERL_USE_UNSAFE_INC = 1
    SHELL = /usr/bin/zsh
    TERM = screen

Perl special variables (and OS-specific diagnostics, for MSWin32):

    $^X = /tmp/basesmoker-reloperl-DxIl/bin/perl
    $UID/$EUID = 1005 / 1005
    $GID = 1005 1005
    $EGID = 1005 1005

Perl module toolchain versions installed:

    Module              Have    
    ------------------- --------
    CPAN                2.34    
    CPAN::Meta          2.150010
    Cwd                 3.86    
    ExtUtils::CBuilder  0.280237
    ExtUtils::Command   7.64    
    ExtUtils::Install   2.20    
    ExtUtils::MakeMaker 7.64    
    ExtUtils::Manifest  1.73    
    ExtUtils::ParseXS   3.46    
    File::Spec          3.87    
    JSON                4.09    
    JSON::PP            4.11    
    Module::Build       0.4231  
    Module::Signature   0.88    
    Parse::CPAN::Meta   2.150010
    Test::Harness       3.44    
    Test::More          1.302191
    YAML                1.30    
    YAML::Syck          1.34    
    version             0.9929  


--

Summary of my perl5 (revision 5 version 37 subversion 4) configuration:
  Commit id: f2582f5b18658f945a763f2edc110cdc7c5220e7
  Platform:
    osname=linux
    osvers=5.4.0-125-generic
    archname=x86_64-linux-thread-multi
    uname='linux k93focal 5.4.0-125-generic #141-ubuntu smp wed aug 10 13:42:03 utc 2022 x86_64 x86_64 x86_64 gnulinux '
    config_args='-Dprefix=/home/sand/src/perl/repoperls/installed-perls/host/k93focal/v5.37.4/d119 -Dmyhostname=k93focal -Dinstallusrbinperl=n -Uversiononly -Dusedevel -des -Ui_db -Dlibswanted=cl pthread socket inet nsl gdbm dbm malloc dl ld sun m crypt sec util c cposix posix ucb BSD gdbm_compat -Duseithreads -Uuselongdouble -DEBUGGING=both'
    hint=recommended
    useposix=true
    d_sigaction=define
    useithreads=define
    usemultiplicity=define
    use64bitint=define
    use64bitall=define
    uselongdouble=undef
    usemymalloc=n
    default_inc_excludes_dot=define
  Compiler:
    cc='cc'
    ccflags ='-D_REENTRANT -D_GNU_SOURCE -fwrapv -DDEBUGGING -fno-strict-aliasing -pipe -fstack-protector-strong -I/usr/local/include -D_LARGEFILE_SOURCE -D_FILE_OFFSET_BITS=64'
    optimize='-O2 -g'
    cppflags='-D_REENTRANT -D_GNU_SOURCE -fwrapv -DDEBUGGING -fno-strict-aliasing -pipe -fstack-protector-strong -I/usr/local/include'
    ccversion=''
    gccversion='9.4.0'
    gccosandvers=''
    intsize=4
    longsize=8
    ptrsize=8
    doublesize=8
    byteorder=12345678
    doublekind=3
    d_longlong=define
    longlongsize=8
    d_longdbl=define
    longdblsize=16
    longdblkind=3
    ivtype='long'
    ivsize=8
    nvtype='double'
    nvsize=8
    Off_t='off_t'
    lseeksize=8
    alignbytes=8
    prototype=define
  Linker and Libraries:
    ld='cc'
    ldflags =' -fstack-protector-strong -L/usr/local/lib'
    libpth=/usr/local/lib /usr/lib/x86_64-linux-gnu /usr/lib /usr/lib64
    libs=-lpthread -lnsl -ldl -lm -lcrypt -lutil -lc
    perllibs=-lpthread -lnsl -ldl -lm -lcrypt -lutil -lc
    libc=libc-2.31.so
    so=so
    useshrplib=false
    libperl=libperl.a
    gnulibc_version='2.31'
  Dynamic Linking:
    dlsrc=dl_dlopen.xs
    dlext=so
    d_dlsymun=undef
    ccdlflags='-Wl,-E'
    cccdlflags='-fPIC'
    lddlflags='-shared -O2 -g -L/usr/local/lib -fstack-protector-strong'


Characteristics of this binary (from libperl): 
  Compile-time options:
    DEBUGGING
    HAS_TIMES
    MULTIPLICITY
    PERLIO_LAYERS
    PERL_COPY_ON_WRITE
    PERL_DONT_CREATE_GVSV
    PERL_HASH_FUNC_SIPHASH13
    PERL_HASH_USE_SBOX32
    PERL_MALLOC_WRAP
    PERL_OP_PARENT
    PERL_PRESERVE_IVUV
    PERL_TRACK_MEMPOOL
    PERL_USE_DEVEL
    PERL_USE_SAFE_PUTENV
    USE_64_BIT_ALL
    USE_64_BIT_INT
    USE_ITHREADS
    USE_LARGE_FILES
    USE_LOCALE
    USE_LOCALE_COLLATE
    USE_LOCALE_CTYPE
    USE_LOCALE_NUMERIC
    USE_LOCALE_TIME
    USE_PERLIO
    USE_PERL_ATOF
    USE_REENTRANT_API
    USE_THREAD_SAFE_LOCALE
  Built under linux
  Compiled at Sep 21 2022 03:04:18
  %ENV:
    PERL5LIB="/tmp/loop_over_bdir-649757-wzOVEA/Net-ISP-Balance-1.31-0/blib/arch:/tmp/loop_over_bdir-649757-wzOVEA/Net-ISP-Balance-1.31-0/blib/lib:/tmp/loop_over_bdir-649757-wzOVEA/DBIx-Migration-Directories-0.12-0/blib/arch:/tmp/loop_over_bdir-649757-wzOVEA/DBIx-Migration-Directories-0.12-0/blib/lib:/tmp/loop_over_bdir-649757-wzOVEA/EJBCA-CrlPublish-0.60-0/blib/arch:/tmp/loop_over_bdir-649757-wzOVEA/EJBCA-CrlPublish-0.60-0/blib/lib:/tmp/loop_over_bdir-649757-wzOVEA/Lingua-YaTeA-0.626-0/blib/arch:/tmp/loop_over_bdir-649757-wzOVEA/Lingua-YaTeA-0.626-0/blib/lib:/tmp/loop_over_bdir-649757-wzOVEA/triceps-2.1.0-0/blib/arch:/tmp/loop_over_bdir-649757-wzOVEA/triceps-2.1.0-0/blib/lib:/tmp/loop_over_bdir-649757-wzOVEA/CGI-Application-NetNewsIface-0.0204-0/blib/arch:/tmp/loop_over_bdir-649757-wzOVEA/CGI-Application-NetNewsIface-0.0204-0/blib/lib:/tmp/loop_over_bdir-649757-wzOVEA/NoZone-1.3-0/blib/arch:/tmp/loop_over_bdir-649757-wzOVEA/NoZone-1.3-0/blib/lib:/tmp/loop_over_bdir-649757-wzOVEA/dta-tokwrap-0.98-0/blib/arch:/tmp/loop_over_bdir-649757-wzOVEA/dta-tokwrap-0.98-0/blib/lib:/tmp/loop_over_bdir-649757-wzOVEA/LCFG-Build-Skeleton-0.5.0-0/blib/arch:/tmp/loop_over_bdir-649757-wzOVEA/LCFG-Build-Skeleton-0.5.0-0/blib/lib:/tmp/loop_over_bdir-649757-wzOVEA/Dpkg-1.21.9-0/blib/arch:/tmp/loop_over_bdir-649757-wzOVEA/Dpkg-1.21.9-0/blib/lib:/tmp/loop_over_bdir-649757-wzOVEA/downsexta-0/blib/arch:/tmp/loop_over_bdir-649757-wzOVEA/downsexta-0/blib/lib:/tmp/loop_over_bdir-649757-wzOVEA/perl-Hardware-UPS-Perl-0.43-0/blib/arch:/tmp/loop_over_bdir-649757-wzOVEA/perl-Hardware-UPS-Perl-0.43-0/blib/lib:/tmp/loop_over_bdir-649757-wzOVEA/App-oo_modulino_zsh_completion_helper-0.04-0/blib/arch:/tmp/loop_over_bdir-649757-wzOVEA/App-oo_modulino_zsh_completion_helper-0.04-0/blib/lib"
    PERL5OPT=""
    PERL5_CPANPLUS_IS_RUNNING="649766"
    PERL5_CPAN_IS_RUNNING="649766"
    PERL_CANARY_STABILITY_NOPROMPT="1"
    PERL_MM_USE_DEFAULT="1"
    PERL_USE_UNSAFE_INC="1"
  @INC:
    /tmp/loop_over_bdir-649757-wzOVEA/Net-ISP-Balance-1.31-0/blib/arch
    /tmp/loop_over_bdir-649757-wzOVEA/Net-ISP-Balance-1.31-0/blib/lib
    /tmp/loop_over_bdir-649757-wzOVEA/DBIx-Migration-Directories-0.12-0/blib/arch
    /tmp/loop_over_bdir-649757-wzOVEA/DBIx-Migration-Directories-0.12-0/blib/lib
    /tmp/loop_over_bdir-649757-wzOVEA/EJBCA-CrlPublish-0.60-0/blib/arch
    /tmp/loop_over_bdir-649757-wzOVEA/EJBCA-CrlPublish-0.60-0/blib/lib
    /tmp/loop_over_bdir-649757-wzOVEA/Lingua-YaTeA-0.626-0/blib/arch
    /tmp/loop_over_bdir-649757-wzOVEA/Lingua-YaTeA-0.626-0/blib/lib
    /tmp/loop_over_bdir-649757-wzOVEA/triceps-2.1.0-0/blib/arch
    /tmp/loop_over_bdir-649757-wzOVEA/triceps-2.1.0-0/blib/lib
    /tmp/loop_over_bdir-649757-wzOVEA/CGI-Application-NetNewsIface-0.0204-0/blib/arch
    /tmp/loop_over_bdir-649757-wzOVEA/CGI-Application-NetNewsIface-0.0204-0/blib/lib
    /tmp/loop_over_bdir-649757-wzOVEA/NoZone-1.3-0/blib/arch
    /tmp/loop_over_bdir-649757-wzOVEA/NoZone-1.3-0/blib/lib
    /tmp/loop_over_bdir-649757-wzOVEA/dta-tokwrap-0.98-0/blib/arch
    /tmp/loop_over_bdir-649757-wzOVEA/dta-tokwrap-0.98-0/blib/lib
    /tmp/loop_over_bdir-649757-wzOVEA/LCFG-Build-Skeleton-0.5.0-0/blib/arch
    /tmp/loop_over_bdir-649757-wzOVEA/LCFG-Build-Skeleton-0.5.0-0/blib/lib
    /tmp/loop_over_bdir-649757-wzOVEA/Dpkg-1.21.9-0/blib/arch
    /tmp/loop_over_bdir-649757-wzOVEA/Dpkg-1.21.9-0/blib/lib
    /tmp/loop_over_bdir-649757-wzOVEA/downsexta-0/blib/arch
    /tmp/loop_over_bdir-649757-wzOVEA/downsexta-0/blib/lib
    /tmp/loop_over_bdir-649757-wzOVEA/perl-Hardware-UPS-Perl-0.43-0/blib/arch
    /tmp/loop_over_bdir-649757-wzOVEA/perl-Hardware-UPS-Perl-0.43-0/blib/lib
    /tmp/loop_over_bdir-649757-wzOVEA/App-oo_modulino_zsh_completion_helper-0.04-0/blib/arch
    /tmp/loop_over_bdir-649757-wzOVEA/App-oo_modulino_zsh_completion_helper-0.04-0/blib/lib
    /home/sand/src/perl/repoperls/installed-perls/host/k93focal/v5.37.4/d119/lib/site_perl/5.37.4/x86_64-linux-thread-multi
    /home/sand/src/perl/repoperls/installed-perls/host/k93focal/v5.37.4/d119/lib/site_perl/5.37.4
    /home/sand/src/perl/repoperls/installed-perls/host/k93focal/v5.37.4/d119/lib/5.37.4/x86_64-linux-thread-multi
    /home/sand/src/perl/repoperls/installed-perls/host/k93focal/v5.37.4/d119/lib/5.37.4
    .