File-PathInfo-Ext v1.30 Perl 5 v5.31.6 x86_64-linux-thread-multi
- Status
- Pass
- From
- Andreas J. König (ANDK)
- Dist
-
File-PathInfo-Ext v1.30
- Platform
- Perl 5 v5.31.6 x86_64-linux-thread-multi
- Date
- 2019-11-01 09:37:36
- ID
- 3ce50f1a-fc8b-11e9-a44b-d556415dce4d
This distribution has been tested as part of the CPAN Testers
project, supporting the Perl programming language. See
http://wiki.cpantesters.org/ for more information or email
questions to cpan-testers-discuss@perl.org
--
Dear Leo Charre,
This is a computer-generated report for File-PathInfo-Ext-1.30
on perl 5.31.6, created by CPAN-Reporter-1.2018.
Thank you for uploading your work to CPAN. Congratulations!
All tests were successful.
Sections of this report:
* Tester comments
* Program output
* Prerequisites
* Environment and other context
------------------------------
TESTER COMMENTS
------------------------------
Additional comments from tester:
this report is from an automated smoke testing program
and was not reviewed by a human for accuracy
------------------------------
PROGRAM OUTPUT
------------------------------
Output from '/usr/bin/make test':
PERL_DL_NONLAZY=1 "/tmp/basesmoker-reloperl-yCJM/bin/perl" "-MExtUtils::Command::MM" "-MTest::Harness" "-e" "undef *Test::Harness::Switches; test_harness(0, 'blib/lib', 'blib/arch')" t/*.t
Possible precedence issue with control flow operator at lib/File/PathInfo/Ext.pm line 146.
===================
PART [1], ./T/PUBLIC_HTML/DEMO
stat key 'ctime' = '1572601043'
stat key 'mtime' = '1259076971'
stat key 'nlink' = '2'
stat key 'size' = '4096'
stat key 'blocks' = '8'
stat key 'atime_pretty' = '2019/11/01 09:37'
stat key 'mtime_pretty' = '2009/11/24 15:36'
stat key 'ctime_pretty' = '2019/11/01 09:37'
stat key 'ino' = '29306949'
===================
PART [2], ./T/PUBLIC_HTML/SEVEN.PDF
stat key 'ctime' = '1572601043'
stat key 'mtime' = '1179497048'
stat key 'nlink' = '1'
stat key 'size' = '769239'
stat key 'blocks' = '1504'
stat key 'atime_pretty' = '2019/11/01 09:37'
stat key 'mtime_pretty' = '2007/05/18 14:04'
stat key 'ctime_pretty' = '2019/11/01 09:37'
stat key 'ino' = '11244244'
===================
PART [3], DEMO
stat key 'ctime' = '1572601043'
stat key 'mtime' = '1259076971'
stat key 'nlink' = '2'
stat key 'size' = '4096'
stat key 'blocks' = '8'
stat key 'atime_pretty' = '2019/11/01 09:37'
stat key 'mtime_pretty' = '2009/11/24 15:36'
stat key 'ctime_pretty' = '2019/11/01 09:37'
stat key 'ino' = '29306949'
===================
PART [4], ./T/PUBLIC_HTML/DEMO/HELLOKITTY.GIF
stat key 'ctime' = '1572601043'
stat key 'mtime' = '1174604434'
stat key 'nlink' = '1'
stat key 'size' = '4099'
stat key 'blocks' = '16'
stat key 'atime_pretty' = '2019/11/01 09:37'
stat key 'mtime_pretty' = '2007/03/22 23:00'
stat key 'ctime_pretty' = '2019/11/01 09:37'
stat key 'ino' = '11249718'
===================
PART [5], ./T/PUBLIC_HTML/DEMO/../DEMO/CIVIL.TXT
stat key 'ctime' = '1572601043'
stat key 'mtime' = '1174604434'
stat key 'nlink' = '1'
stat key 'size' = '51460'
stat key 'blocks' = '104'
stat key 'atime_pretty' = '2019/11/01 09:37'
stat key 'mtime_pretty' = '2007/03/22 23:00'
stat key 'ctime_pretty' = '2019/11/01 09:37'
stat key 'ino' = '11249719'
===================
PART [6], DEMO/../DEMO/CIVIL.TXT
stat key 'ctime' = '1572601043'
stat key 'mtime' = '1174604434'
stat key 'nlink' = '1'
stat key 'size' = '51460'
stat key 'blocks' = '104'
stat key 'atime_pretty' = '2019/11/01 09:37'
stat key 'mtime_pretty' = '2007/03/22 23:00'
stat key 'ctime_pretty' = '2019/11/01 09:37'
stat key 'ino' = '11249719'
===================
PART [7], DEMO/CIVIL.TXT
stat key 'ctime' = '1572601043'
stat key 'mtime' = '1174604434'
stat key 'nlink' = '1'
stat key 'size' = '51460'
stat key 'blocks' = '104'
stat key 'atime_pretty' = '2019/11/01 09:37'
stat key 'mtime_pretty' = '2007/03/22 23:00'
stat key 'ctime_pretty' = '2019/11/01 09:37'
stat key 'ino' = '11249719'
t/0.t ................. ok
Possible precedence issue with control flow operator at lib/File/PathInfo/Ext.pm line 146.
newname cannot contain slashes at lib/File/PathInfo/Ext.pm line 16.
File::PathInfo::Ext::rename(File::PathInfo::Ext=HASH(0x55e1910590c0), "awe/gfaw/egawg/\\pou*()^T)(T3wt//n23") called at t/1.t line 21
ls for [/home/sand/.cpan/privbuild/k93msid/File-PathInfo-Ext-1.30-0]
ls for [/home/sand/.cpan/privbuild/k93msid/File-PathInfo-Ext-1.30-0/tmp2]
ls for [/home/sand/.cpan/privbuild/k93msid/File-PathInfo-Ext-1.30-0/tmp2]
t/1.t ................. ok
Possible precedence issue with control flow operator at lib/File/PathInfo/Ext.pm line 146.
SET 2
# on move newloc is : /home/sand/.cpan/privbuild/k93msid/File-PathInfo-Ext-1.30-0/t/public_html/timp/incoming/movedme.txt
Can't move to '/home/sand/.cpan/privbuild/k93msid/File-PathInfo-Ext-1.30-0/t/public_html/timp/movedme.txt', destination already exists at lib/File/PathInfo/Ext.pm line 136.
File::PathInfo::Ext::move(File::PathInfo::Ext=HASH(0x55ebbbf1b4e8), "/home/sand/.cpan/privbuild/k93msid/File-PathInfo-Ext-1.30-0/t"...) called at t/2_move.t line 92
t/2_move.t ............ ok
Possible precedence issue with control flow operator at lib/File/PathInfo/Ext.pm line 146.
Can't move '/home/sand/.cpan/privbuild/k93msid/File-PathInfo-Ext-1.30-0/t/f1' to '/home/sand/.cpan/privbuild/k93msid/File-PathInfo-Ext-1.30-0/t/f2', already exists. at lib/File/PathInfo/Ext.pm line 152.
File::PathInfo::Ext::move(File::PathInfo::Ext=HASH(0x55e9006cf0c0), "/home/sand/.cpan/privbuild/k93msid/File-PathInfo-Ext-1.30-0/t/f2") called at lib/File/PathInfo/Ext.pm line 17
File::PathInfo::Ext::rename(File::PathInfo::Ext=HASH(0x55e9006cf0c0), "f2") called at t/3.t line 21
t/3.t ................. ok
Possible precedence issue with control flow operator at lib/File/PathInfo/Ext.pm line 146.
### $val: undef
### $val: 'this is'
### $val: 'this is a val for errstr'
--------------
----
--------------
----
### $val: '/home/sand/.cpan/privbuild/k93msid/File-PathInfo-Ext-1.30-0/t/tmp/dir/file.txt'
--------------others
----
arg './file.txt' = [/home/sand/.cpan/privbuild/k93msid/File-PathInfo-Ext-1.30-0/file.txt]
err?
arg './' = [NO RESULT]
err? Can't set destination to '/home/sand/.cpan/privbuild/k93msid/File-PathInfo-Ext-1.30-0', already exists.
arg '.' = [NO RESULT]
err? Can't resolve arg ..
arg './../file.txt' = [/home/sand/.cpan/privbuild/k93msid/file.txt]
err?
arg './../bogus/thing' = [NO RESULT]
err? Can't resolve arg ../bogus/thing
arg './t/tmp/bogusdir/' = [NO RESULT]
err? Can't resolve arg t/tmp/bogusdir/
t/4_resolve_arg_to.t .. ok
Possible precedence issue with control flow operator at lib/File/PathInfo/Ext.pm line 146.
# NOW try to dirs
### $r: '/home/sand/.cpan/privbuild/k93msid/File-PathInfo-Ext-1.30-0/t/tmp/dir/filealso.txt'
t/5_copy.t ............ ok
t/99_cleanup.t ........ ok
All tests successful.
Files=7, Tests=204, 2 wallclock secs ( 0.04 usr 0.04 sys + 0.57 cusr 0.32 csys = 0.97 CPU)
Result: PASS
------------------------------
PREREQUISITES
------------------------------
Prerequisite modules loaded:
requires:
Module Need Have
------------------- ---- --------
Carp 1 1.50
Cwd 3 3.78
Digest::MD5 2 2.55_01
File::Copy 2 2.34
File::Path 1 2.16
File::PathInfo 1.27 1.27
File::Type 0 0.22
Test::Simple 0 1.302168
YAML 0 1.29
build_requires:
Module Need Have
------------------- ---- --------
ExtUtils::MakeMaker 0 7.38
configure_requires:
Module Need Have
------------------- ---- --------
ExtUtils::MakeMaker 0 7.38
------------------------------
ENVIRONMENT AND OTHER CONTEXT
------------------------------
Environment variables:
AUTOMATED_TESTING = 1
LANG = en_US.UTF-8
PATH = /home/sand/bin:/usr/local/bin:/usr/bin:/bin:/usr/games:/usr/local/perl/bin:/usr/X11/bin:/sbin:/usr/sbin
PERL5LIB = /home/sand/.cpan/privbuild/k93msid/ProjectBuilder-0.14.1-23/blib/arch:/home/sand/.cpan/privbuild/k93msid/ProjectBuilder-0.14.1-23/blib/lib
PERL5OPT =
PERL5_CPANPLUS_IS_RUNNING = 23447
PERL5_CPAN_IS_RUNNING = 23447
PERL_CANARY_STABILITY_NOPROMPT = 1
PERL_MM_USE_DEFAULT = 1
PERL_USE_UNSAFE_INC = 1
SHELL = /usr/bin/zsh
TERM = screen
Perl special variables (and OS-specific diagnostics, for MSWin32):
$^X = /tmp/basesmoker-reloperl-yCJM/bin/perl
$UID/$EUID = 1005 / 1005
$GID = 1005 1005
$EGID = 1005 1005
Perl module toolchain versions installed:
Module Have
------------------- --------
CPAN 2.27
CPAN::Meta 2.150010
Cwd 3.78
ExtUtils::CBuilder 0.280233
ExtUtils::Command 7.38
ExtUtils::Install 2.14
ExtUtils::MakeMaker 7.38
ExtUtils::Manifest 1.72
ExtUtils::ParseXS 3.40
File::Spec 3.78
JSON 4.02
JSON::PP 4.04
Module::Build 0.4229
Module::Signature 0.83
Parse::CPAN::Meta 2.150010
Test::Harness 3.42
Test::More 1.302168
YAML 1.29
YAML::Syck 1.31
version 0.9924
--
Summary of my perl5 (revision 5 version 31 subversion 6) configuration:
Commit id: df31f96d7d6aebfd4b23e8fceb1ac1a2250521cf
Platform:
osname=linux
osvers=4.18.0-2-amd64
archname=x86_64-linux-thread-multi
uname='linux k93msid 4.18.0-2-amd64 #1 smp debian 4.18.10-2 (2018-10-07) x86_64 gnulinux '
config_args='-Dprefix=/home/sand/src/perl/repoperls/installed-perls/host/k93msid/v5.31.5-114-gdf31f96d7d/419a -Dmyhostname=k93msid -Dinstallusrbinperl=n -Uversiononly -Dusedevel -des -Ui_db -Dlibswanted=cl pthread socket inet nsl gdbm dbm malloc dl ld sun m crypt sec util c cposix posix ucb BSD gdbm_compat -Duseithreads -Uuselongdouble -DEBUGGING=none'
hint=recommended
useposix=true
d_sigaction=define
useithreads=define
usemultiplicity=define
use64bitint=define
use64bitall=define
uselongdouble=undef
usemymalloc=n
default_inc_excludes_dot=define
bincompat5005=undef
Compiler:
cc='cc'
ccflags ='-D_REENTRANT -D_GNU_SOURCE -fwrapv -fno-strict-aliasing -pipe -fstack-protector-strong -I/usr/local/include -D_LARGEFILE_SOURCE -D_FILE_OFFSET_BITS=64 -D_FORTIFY_SOURCE=2'
optimize='-O2'
cppflags='-D_REENTRANT -D_GNU_SOURCE -fwrapv -fno-strict-aliasing -pipe -fstack-protector-strong -I/usr/local/include'
ccversion=''
gccversion='8.2.0'
gccosandvers=''
intsize=4
longsize=8
ptrsize=8
doublesize=8
byteorder=12345678
doublekind=3
d_longlong=define
longlongsize=8
d_longdbl=define
longdblsize=16
longdblkind=3
ivtype='long'
ivsize=8
nvtype='double'
nvsize=8
Off_t='off_t'
lseeksize=8
alignbytes=8
prototype=define
Linker and Libraries:
ld='cc'
ldflags =' -fstack-protector-strong -L/usr/local/lib'
libpth=/usr/local/lib /usr/lib/gcc/x86_64-linux-gnu/8/include-fixed /usr/include/x86_64-linux-gnu /usr/lib /lib/x86_64-linux-gnu /lib/../lib /usr/lib/x86_64-linux-gnu /usr/lib/../lib /lib
libs=-lpthread -lnsl -ldl -lm -lcrypt -lutil -lc
perllibs=-lpthread -lnsl -ldl -lm -lcrypt -lutil -lc
libc=libc-2.27.so
so=so
useshrplib=false
libperl=libperl.a
gnulibc_version='2.27'
Dynamic Linking:
dlsrc=dl_dlopen.xs
dlext=so
d_dlsymun=undef
ccdlflags='-Wl,-E'
cccdlflags='-fPIC'
lddlflags='-shared -O2 -L/usr/local/lib -fstack-protector-strong'
Characteristics of this binary (from libperl):
Compile-time options:
HAS_TIMES
MULTIPLICITY
PERLIO_LAYERS
PERL_COPY_ON_WRITE
PERL_DONT_CREATE_GVSV
PERL_IMPLICIT_CONTEXT
PERL_MALLOC_WRAP
PERL_OP_PARENT
PERL_PRESERVE_IVUV
PERL_USE_DEVEL
USE_64_BIT_ALL
USE_64_BIT_INT
USE_ITHREADS
USE_LARGE_FILES
USE_LOCALE
USE_LOCALE_COLLATE
USE_LOCALE_CTYPE
USE_LOCALE_NUMERIC
USE_LOCALE_TIME
USE_PERLIO
USE_PERL_ATOF
USE_REENTRANT_API
USE_THREAD_SAFE_LOCALE
Built under linux
Compiled at Oct 31 2019 03:25:18
%ENV:
PERL5LIB="/home/sand/.cpan/privbuild/k93msid/ProjectBuilder-0.14.1-23/blib/arch:/home/sand/.cpan/privbuild/k93msid/ProjectBuilder-0.14.1-23/blib/lib"
PERL5OPT=""
PERL5_CPANPLUS_IS_RUNNING="23447"
PERL5_CPAN_IS_RUNNING="23447"
PERL_CANARY_STABILITY_NOPROMPT="1"
PERL_MM_USE_DEFAULT="1"
PERL_USE_UNSAFE_INC="1"
@INC:
/home/sand/.cpan/privbuild/k93msid/ProjectBuilder-0.14.1-23/blib/arch
/home/sand/.cpan/privbuild/k93msid/ProjectBuilder-0.14.1-23/blib/lib
/home/sand/src/perl/repoperls/installed-perls/host/k93msid/v5.31.5-114-gdf31f96d7d/419a/lib/site_perl/5.31.6/x86_64-linux-thread-multi
/home/sand/src/perl/repoperls/installed-perls/host/k93msid/v5.31.5-114-gdf31f96d7d/419a/lib/site_perl/5.31.6
/home/sand/src/perl/repoperls/installed-perls/host/k93msid/v5.31.5-114-gdf31f96d7d/419a/lib/5.31.6/x86_64-linux-thread-multi
/home/sand/src/perl/repoperls/installed-perls/host/k93msid/v5.31.5-114-gdf31f96d7d/419a/lib/5.31.6
.