HTML-Selector-XPath v0.23 Perl 5 v5.26.1 x86_64-linux-thread-multi

Status
Pass
From
Kurt vom Walde
Dist
HTML-Selector-XPath v0.23
Platform
Perl 5 v5.26.1 x86_64-linux-thread-multi
Date
2017-11-22 21:15:17
ID
3cf48d68-cfca-11e7-a9f3-d64d1b7ece2b
This distribution has been tested as part of the CPAN Testers
project, supporting the Perl programming language.  See
http://wiki.cpantesters.org/ for more information or email
questions to cpan-testers-discuss@perl.org


--
Dear CORION,

This is a computer-generated report for HTML-Selector-XPath-0.23
on perl 5.26.1, created by App::cpanminus::reporter 0.17 (1.7043).

Thank you for uploading your work to CPAN.  Congratulations!
All tests were successful.

Sections of this report:

    * Tester comments
    * Program output
    * Prerequisites
    * Environment and other context

------------------------------
TESTER COMMENTS
------------------------------

Additional comments from tester:

none provided

------------------------------
PROGRAM OUTPUT
------------------------------

Output from '':

Building and testing HTML-Selector-XPath-0.23
cp lib/HTML/Selector/XPath.pm blib/lib/HTML/Selector/XPath.pm
Manifying 1 pod document
PERL_DL_NONLAZY=1 "/usr/bin/perl" "-MExtUtils::Command::MM" "-MTest::Harness" "-e" "undef *Test::Harness::Switches; test_harness(0, 'blib/lib', 'blib/arch')" t/*.t
t/00_compile.t ....... ok
t/01_xpath.t ......... ok
t/02_html.t .......... skipped: HTML::TreeBuilder::XPath is not installed.
t/03_xpath_root.t .... ok
t/04_subclass.t ...... ok
t/05_xpath_prefix.t .. ok
t/06_rt114261.t ...... ok
t/07_rt114345.t ...... ok
t/99_pod.t ........... ok
All tests successful.
Files=9, Tests=142,  2 wallclock secs ( 0.13 usr  0.01 sys +  1.47 cusr  0.21 csys =  1.82 CPU)
Result: PASS

------------------------------
PREREQUISITES
------------------------------

Prerequisite modules loaded:

    No requirements found

------------------------------
ENVIRONMENT AND OTHER CONTEXT
------------------------------

Environment variables:

    LANG = de_DE.UTF-8
    LC_CTYPE = de_DE.UTF-8
    PATH = /home/f/.rakudobrew/bin:/usr/local/sbin:/usr/local/bin:/usr/bin:/usr/bin/core_perl:/usr/bin/vendor_perl:/home/f/perl5/bin:/home/f/bin
    PERL5LIB = /home/f/perl5/lib/perl5
    PERL_LOCAL_LIB_ROOT = /home/f/perl5
    PERL_MB_OPT = --install_base "/home/f/perl5"
    PERL_MM_OPT = INSTALL_BASE=/home/f/perl5
    SHELL = /usr/bin/zsh
    TERM = screen-256color

Perl special variables (and OS-specific diagnostics, for MSWin32):

    EGID = 1000 10 14 1000
    EUID = 1000
    EXECUTABLE_NAME = /usr/bin/perl
    GID = 1000 10 14 1000
    UID = 1000

Perl module toolchain versions installed:

    Module              Have      
    ------------------- ----------
    CPAN                2.18      
    CPAN::Meta          2.150010  
    Cwd                 3.67      
    ExtUtils::CBuilder  0.280225  
    ExtUtils::Command   7.24      
    ExtUtils::Install   2.04      
    ExtUtils::MakeMaker 7.24      
    ExtUtils::Manifest  1.70      
    ExtUtils::ParseXS   3.34      
    File::Spec          3.67      
    JSON                2.94      
    JSON::PP            2.27400_02
    Module::Build       0.4220    
    Module::Signature   n/a       
    Parse::CPAN::Meta   2.150010  
    Test::Harness       3.38      
    Test::More          1.302075  
    YAML                n/a       
    YAML::Syck          n/a       
    version             0.9917    


--

Summary of my perl5 (revision 5 version 26 subversion 1) configuration:
   
  Platform:
    osname=linux
    osvers=4.13.3-1-arch
    archname=x86_64-linux-thread-multi
    uname='linux flo-64 4.13.3-1-arch #1 smp preempt thu sep 21 20:33:16 cest 2017 x86_64 gnulinux '
    config_args='-des -Dusethreads -Duseshrplib -Doptimize=-march=x86-64 -mtune=generic -O2 -pipe -fstack-protector-strong -fno-plt -Dprefix=/usr -Dvendorprefix=/usr -Dprivlib=/usr/share/perl5/core_perl -Darchlib=/usr/lib/perl5/5.26/core_perl -Dsitelib=/usr/share/perl5/site_perl -Dsitearch=/usr/lib/perl5/5.26/site_perl -Dvendorlib=/usr/share/perl5/vendor_perl -Dvendorarch=/usr/lib/perl5/5.26/vendor_perl -Dscriptdir=/usr/bin/core_perl -Dsitescript=/usr/bin/site_perl -Dvendorscript=/usr/bin/vendor_perl -Dinc_version_list=none -Dman1ext=1perl -Dman3ext=3perl -Dcccdlflags='-fPIC' -Dlddlflags=-shared -Wl,-O1,--sort-common,--as-needed,-z,relro,-z,now -Dldflags=-Wl,-O1,--sort-common,--as-needed,-z,relro,-z,now'
    hint=recommended
    useposix=true
    d_sigaction=define
    useithreads=define
    usemultiplicity=define
    use64bitint=define
    use64bitall=define
    uselongdouble=undef
    usemymalloc=n
    default_inc_excludes_dot=define
    bincompat5005=undef
  Compiler:
    cc='cc'
    ccflags ='-D_REENTRANT -D_GNU_SOURCE -fwrapv -fno-strict-aliasing -pipe -fstack-protector-strong -I/usr/local/include -D_LARGEFILE_SOURCE -D_FILE_OFFSET_BITS=64 -D_FORTIFY_SOURCE=2'
    optimize='-march=x86-64 -mtune=generic -O2 -pipe -fstack-protector-strong -fno-plt'
    cppflags='-D_REENTRANT -D_GNU_SOURCE -fwrapv -fno-strict-aliasing -pipe -fstack-protector-strong -I/usr/local/include'
    ccversion=''
    gccversion='7.2.0'
    gccosandvers=''
    intsize=4
    longsize=8
    ptrsize=8
    doublesize=8
    byteorder=12345678
    doublekind=3
    d_longlong=define
    longlongsize=8
    d_longdbl=define
    longdblsize=16
    longdblkind=3
    ivtype='long'
    ivsize=8
    nvtype='double'
    nvsize=8
    Off_t='off_t'
    lseeksize=8
    alignbytes=8
    prototype=define
  Linker and Libraries:
    ld='cc'
    ldflags ='-Wl,-O1,--sort-common,--as-needed,-z,relro,-z,now -fstack-protector-strong -L/usr/local/lib'
    libpth=/usr/local/lib /usr/lib/gcc/x86_64-pc-linux-gnu/7.2.0/include-fixed /usr/lib /lib/../lib /usr/lib/../lib /lib /lib64 /usr/lib64
    libs=-lpthread -lnsl -lgdbm -ldb -ldl -lm -lcrypt -lutil -lc -lgdbm_compat
    perllibs=-lpthread -lnsl -ldl -lm -lcrypt -lutil -lc
    libc=libc-2.26.so
    so=so
    useshrplib=true
    libperl=libperl.so
    gnulibc_version='2.26'
  Dynamic Linking:
    dlsrc=dl_dlopen.xs
    dlext=so
    d_dlsymun=undef
    ccdlflags='-Wl,-E -Wl,-rpath,/usr/lib/perl5/5.26/core_perl/CORE'
    cccdlflags='-fPIC'
    lddlflags='-shared -Wl,-O1,--sort-common,--as-needed,-z,relro,-z,now -L/usr/local/lib -fstack-protector-strong'


Characteristics of this binary (from libperl): 
  Compile-time options:
    HAS_TIMES
    MULTIPLICITY
    PERLIO_LAYERS
    PERL_COPY_ON_WRITE
    PERL_DONT_CREATE_GVSV
    PERL_IMPLICIT_CONTEXT
    PERL_MALLOC_WRAP
    PERL_OP_PARENT
    PERL_PRESERVE_IVUV
    USE_64_BIT_ALL
    USE_64_BIT_INT
    USE_ITHREADS
    USE_LARGE_FILES
    USE_LOCALE
    USE_LOCALE_COLLATE
    USE_LOCALE_CTYPE
    USE_LOCALE_NUMERIC
    USE_LOCALE_TIME
    USE_PERLIO
    USE_PERL_ATOF
    USE_REENTRANT_API
  Built under linux
  Compiled at Sep 23 2017 16:42:28
  %ENV:
    PERL5LIB="/home/f/perl5/lib/perl5"
    PERL_LOCAL_LIB_ROOT="/home/f/perl5"
    PERL_MB_OPT="--install_base "/home/f/perl5""
    PERL_MM_OPT="INSTALL_BASE=/home/f/perl5"
  @INC:
    /home/f/perl5/lib/perl5/5.26.1/x86_64-linux-thread-multi
    /home/f/perl5/lib/perl5/5.26.1
    /home/f/perl5/lib/perl5/x86_64-linux-thread-multi
    /home/f/perl5/lib/perl5
    /usr/lib/perl5/5.26/site_perl
    /usr/share/perl5/site_perl
    /usr/lib/perl5/5.26/vendor_perl
    /usr/share/perl5/vendor_perl
    /usr/lib/perl5/5.26/core_perl
    /usr/share/perl5/core_perl