CPAN-SQLite v0.220 Perl 5 v5.34.0 x86_64-linux-multi
- Status
- Pass
- From
- Nigel Horne
- Dist
-
CPAN-SQLite v0.220
- Platform
- Perl 5 v5.34.0 x86_64-linux-multi
- Date
- 2022-11-22 18:41:12
- ID
- 3cf6b85c-6a95-11ed-9ef3-a9f20a8018cd
This distribution has been tested as part of the CPAN Testers
project, supporting the Perl programming language. See
http://wiki.cpantesters.org/ for more information or email
questions to cpan-testers-discuss@perl.org
--
Dear Serguei Trouchelle,
This is a computer-generated report for CPAN-SQLite-0.220
on perl 5.34.0, created by CPAN-Reporter-1.2018.
Thank you for uploading your work to CPAN. Congratulations!
All tests were successful.
Sections of this report:
* Tester comments
* Program output
* Prerequisites
* Environment and other context
------------------------------
TESTER COMMENTS
------------------------------
Additional comments from tester:
none provided
------------------------------
PROGRAM OUTPUT
------------------------------
Output from '/usr/bin/make test':
PERL_DL_NONLAZY=1 "/home/njh/perl5/perlbrew/perls/perl-5.34.0-multi/bin/perl5.34.0" "-MExtUtils::Command::MM" "-MTest::Harness" "-e" "undef *Test::Harness::Switches; test_harness(0, 'blib/lib', 'blib/arch')" t/*.t
t/02drop.t ....................... ok
t/03info.t ....................... ok
t/04search.t ..................... ok
t/04search_everything.t .......... ok
t/05meta_new.t ................... ok
t/05meta_update.t ................ ok
t/00-all_prereqs.t ............... ok
#
# Versions for all modules listed in MYMETA.json (including optional ones):
#
# === Configure Requires ===
#
# Module Want Have
# ------------------- ---- ----
# ExtUtils::MakeMaker any 7.64
#
# === Build Requires ===
#
# Module Want Have
# ------------------- ---- ----
# ExtUtils::MakeMaker any 7.64
#
# === Test Requires ===
#
# Module Want Have
# ------------------- ---- --------
# CPAN::HandleConfig any 5.5012
# CPAN::Version any 5.5003
# Carp any 1.52
# DBD::SQLite any 1.72
# ExtUtils::MakeMaker any 7.64
# File::Copy any 2.35
# File::Spec any 3.80
# FindBin any 1.52
# IO::Handle any 1.48
# IPC::Open3 any 1.21
# Test::More 0.94 1.302190
# base any 2.27
# lib any 0.65
#
# === Test Recommends ===
#
# Module Want Have
# ---------- -------- --------
# CPAN::Meta 2.120900 2.150010
#
# === Runtime Requires ===
#
# Module Want Have
# --------------------- ----- -----
# Archive::Tar 1.54 2.40
# CPAN any 2.34
# CPAN::DistnameInfo 0.09 0.12
# CPAN::Index 1.93 2.29
# Compress::Zlib any 2.201
# Cwd any 3.80
# DBD::SQLite 1.27 1.72
# DBI any 1.643
# English any 1.11
# Exporter any 5.76
# File::Basename any 2.85
# File::Find any 1.39
# File::HomeDir any 1.006
# File::Path any 2.18
# File::Spec any 3.80
# File::Spec::Functions any 3.80
# Getopt::Long any 2.52
# HTTP::Tiny 0.041 0.082
# IO::Zlib any 1.11
# Safe any 2.43
# Scalar::Util any 1.63
# Test::Harness 3.31 3.44
# constant any 1.33
# parent any 0.238
# strict any 1.12
# utf8 any 1.24
# warnings any 1.51
#
t/00-report-prereqs.t ............ ok
# Testing with Perl 5.034000, /home/njh/perl5/perlbrew/perls/perl-5.34.0-multi/bin/perl5.34.0
t/00-compile.t ................... ok
# CPAN version is 2.34
# CPAN::DistnameInfo version is 0.12
# CPAN::HandleConfig version is 5.5012
# CPAN::Version version is 5.5003
# Carp version is 1.52
# Compress::Zlib version is 2.201
# Cwd version is 3.80
# DBD::SQLite version is 1.72
# DBI version is 1.643
# English version is 1.11
# Exporter version is 5.76
# ExtUtils::MakeMaker version is 7.64
# File::Basename version is 2.85
# File::Copy version is 2.35
# File::Find version is 1.39
# File::HomeDir version is 1.006
# File::Path version is 2.18
# File::Spec version is 3.80
# File::Spec::Functions version is 3.80
# FindBin version is 1.52
# Getopt::Long version is 2.52
# HTTP::Tiny version is 0.082
# IO::Handle version is 1.48
# IPC::Open3 version is 1.21
# Safe version is 2.43
# Scalar::Util version is 1.63
# Test::More version is 1.302190
# base version is 2.27
# constant version is 1.33
# lib version is 0.65
# parent version is 0.238
# strict version is 1.12
# utf8 version is 1.24
# warnings version is 1.51
t/000-report-versions.t .......... ok
t/01basic.t ...................... ok
t/06retrieve.t ................... ok
t/08circular_references.t ........ ok
t/author-critic.t ................ skipped: these tests are for testing by the author
t/author-distmeta.t .............. skipped: these tests are for testing by the author
t/author-eol.t ................... skipped: these tests are for testing by the author
t/author-minimum-version.t ....... skipped: these tests are for testing by the author
t/author-no-tabs.t ............... skipped: these tests are for testing by the author
t/author-pod-syntax.t ............ skipped: these tests are for testing by the author
t/release-changes_has_content.t .. skipped: these tests are for release candidate testing
t/release-fixme.t ................ skipped: these tests are for release candidate testing
t/release-has-version.t .......... skipped: these tests are for release candidate testing
t/release-kwalitee.t ............. skipped: these tests are for release candidate testing
t/release-meta-json.t ............ skipped: these tests are for release candidate testing
t/release-pause-permissions.t .... skipped: these tests are for release candidate testing
t/07download.t ................... ok
All tests successful.
Files=26, Tests=11314, 22 wallclock secs ( 3.07 usr 0.29 sys + 22.66 cusr 2.61 csys = 28.63 CPU)
Result: PASS
------------------------------
PREREQUISITES
------------------------------
Prerequisite modules loaded:
requires:
Module Need Have
------------------- -------- --------
Archive::Tar 1.54 2.40
Compress::Zlib 0 2.201
CPAN::DistnameInfo 0.09 0.12
CPAN::Index 1.93 2.29
DBD::SQLite 1.27 1.72
File::HomeDir 0 1.006
File::Spec 0 3.80
HTTP::Tiny 0.041 0.082
IO::Zlib 0 1.11
parent 0 0.238
Test::Harness 3.31 3.44
build_requires:
Module Need Have
------------------- -------- --------
ExtUtils::MakeMaker 0 7.64
configure_requires:
Module Need Have
------------------- -------- --------
ExtUtils::MakeMaker 0 7.64
opt_build_requires:
Module Need Have
------------------- -------- --------
CPAN::Meta 2.120900 2.150010
------------------------------
ENVIRONMENT AND OTHER CONTEXT
------------------------------
Environment variables:
HARNESS_OPTIONS = j2:c
LANG = C.UTF-8
PATH = /home/njh/perl5/perlbrew/bin:/home/njh/perl5/perlbrew/perls/perl-5.34.0-multi/bin:/home/njh/bin:/usr/local/sbin:/usr/local/bin:/usr/sbin:/usr/bin:/sbin:/bin:/usr/games:/usr/local/games:/snap/bin
PERL5LIB =
PERL5OPT =
PERL5_CPANPLUS_IS_RUNNING = 13520
PERL5_CPAN_IS_RUNNING = 13520
PERLBREW_HOME = /home/njh/.perlbrew
PERLBREW_MANPATH = /home/njh/perl5/perlbrew/perls/perl-5.34.0-multi/man
PERLBREW_PATH = /home/njh/perl5/perlbrew/bin:/home/njh/perl5/perlbrew/perls/perl-5.34.0-multi/bin
PERLBREW_PERL = perl-5.34.0-multi
PERLBREW_ROOT = /home/njh/perl5/perlbrew
PERLBREW_SHELLRC_VERSION = 0.92
PERLBREW_VERSION = 0.92
PERL_USE_UNSAFE_INC = 1
SHELL = /bin/bash
TEMP = /tmp/user/1002
TERM = xterm-256color
TMPDIR = /tmp/user/1002
Perl special variables (and OS-specific diagnostics, for MSWin32):
$^X = /home/njh/perl5/perlbrew/perls/perl-5.34.0-multi/bin/perl5.34.0
$UID/$EUID = 1002 / 1002
$GID = 1002 120 1002
$EGID = 1002 120 1002
Perl module toolchain versions installed:
Module Have
------------------- --------
CPAN 2.34
CPAN::Meta 2.150010
Cwd 3.80
ExtUtils::CBuilder 0.280236
ExtUtils::Command 7.64
ExtUtils::Install 2.20
ExtUtils::MakeMaker 7.64
ExtUtils::Manifest 1.73
ExtUtils::ParseXS 3.44
File::Spec 3.80
JSON 4.06
JSON::PP 4.10
Module::Build 0.4231
Module::Signature n/a
Parse::CPAN::Meta 2.150010
Test::Harness 3.44
Test::More 1.302190
YAML 1.30
YAML::Syck 1.34
version 0.9929
--
Summary of my perl5 (revision 5 version 34 subversion 0) configuration:
Platform:
osname=linux
osvers=5.4.0-1044-oracle
archname=x86_64-linux-multi
uname='linux oracle1 5.4.0-1044-oracle #47~18.04.1-ubuntu smp thu apr 22 03:29:37 utc 2021 x86_64 x86_64 x86_64 gnulinux '
config_args='-de -Dprefix=/home/njh/perl5/perlbrew/perls/perl-5.34.0-multi -Dusedevel -Dusemultiplicity -Accflags= -Aeval:scriptdir=/home/njh/perl5/perlbrew/perls/perl-5.34.0-multi/bin'
hint=recommended
useposix=true
d_sigaction=define
useithreads=undef
usemultiplicity=define
use64bitint=define
use64bitall=define
uselongdouble=undef
usemymalloc=n
default_inc_excludes_dot=define
Compiler:
cc='cc'
ccflags ='-fwrapv -fno-strict-aliasing -pipe -fstack-protector-strong -I/usr/local/include -D_LARGEFILE_SOURCE -D_FILE_OFFSET_BITS=64'
optimize='-O2'
cppflags='-fwrapv -fno-strict-aliasing -pipe -fstack-protector-strong -I/usr/local/include'
ccversion=''
gccversion='7.5.0'
gccosandvers=''
intsize=4
longsize=8
ptrsize=8
doublesize=8
byteorder=12345678
doublekind=3
d_longlong=define
longlongsize=8
d_longdbl=define
longdblsize=16
longdblkind=3
ivtype='long'
ivsize=8
nvtype='double'
nvsize=8
Off_t='off_t'
lseeksize=8
alignbytes=8
prototype=define
Linker and Libraries:
ld='cc'
ldflags =' -fstack-protector-strong -L/usr/local/lib'
libpth=/usr/local/lib /usr/lib/x86_64-linux-gnu /usr/lib /lib/x86_64-linux-gnu /lib
libs=-lpthread -lnsl -lgdbm -ldb -ldl -lm -lcrypt -lutil -lc
perllibs=-lpthread -lnsl -ldl -lm -lcrypt -lutil -lc
libc=libc-2.27.so
so=so
useshrplib=false
libperl=libperl.a
gnulibc_version='2.27'
Dynamic Linking:
dlsrc=dl_dlopen.xs
dlext=so
d_dlsymun=undef
ccdlflags='-Wl,-E'
cccdlflags='-fPIC'
lddlflags='-shared -O2 -L/usr/local/lib -fstack-protector-strong'
Characteristics of this binary (from libperl):
Compile-time options:
HAS_TIMES
MULTIPLICITY
PERLIO_LAYERS
PERL_COPY_ON_WRITE
PERL_DONT_CREATE_GVSV
PERL_IMPLICIT_CONTEXT
PERL_MALLOC_WRAP
PERL_OP_PARENT
PERL_PRESERVE_IVUV
PERL_USE_DEVEL
USE_64_BIT_ALL
USE_64_BIT_INT
USE_LARGE_FILES
USE_LOCALE
USE_LOCALE_COLLATE
USE_LOCALE_CTYPE
USE_LOCALE_NUMERIC
USE_LOCALE_TIME
USE_PERLIO
USE_PERL_ATOF
Built under linux
Compiled at May 21 2021 01:02:23
%ENV:
PERL5LIB=""
PERL5OPT=""
PERL5_CPANPLUS_IS_RUNNING="13520"
PERL5_CPAN_IS_RUNNING="13520"
PERLBREW_HOME="/home/njh/.perlbrew"
PERLBREW_MANPATH="/home/njh/perl5/perlbrew/perls/perl-5.34.0-multi/man"
PERLBREW_PATH="/home/njh/perl5/perlbrew/bin:/home/njh/perl5/perlbrew/perls/perl-5.34.0-multi/bin"
PERLBREW_PERL="perl-5.34.0-multi"
PERLBREW_ROOT="/home/njh/perl5/perlbrew"
PERLBREW_SHELLRC_VERSION="0.92"
PERLBREW_VERSION="0.92"
PERL_USE_UNSAFE_INC="1"
@INC:
/home/njh/perl5/perlbrew/perls/perl-5.34.0-multi/lib/site_perl/5.34.0/x86_64-linux-multi
/home/njh/perl5/perlbrew/perls/perl-5.34.0-multi/lib/site_perl/5.34.0
/home/njh/perl5/perlbrew/perls/perl-5.34.0-multi/lib/5.34.0/x86_64-linux-multi
/home/njh/perl5/perlbrew/perls/perl-5.34.0-multi/lib/5.34.0
.