Back
From: metabase:user:314402c4-2aae-11df-837a-5e0a49663a4f
Subject: PASS DBIx-Class-0.082840 v5.16.3 FreeBSD
Date: 2016-06-20T19:07:31Z
This distribution has been tested as part of the CPAN Testers
project, supporting the Perl programming language. See
http://wiki.cpantesters.org/ for more information or email
questions to cpan-testers-discuss@perl.org
--
Dear Peter Rabbitson,
This is a computer-generated report for DBIx-Class-0.082840
on perl 5.16.3, created by CPAN-Reporter-1.2015.
Thank you for uploading your work to CPAN. Congratulations!
All tests were successful.
Sections of this report:
* Tester comments
* Program output
* Prerequisites
* Environment and other context
------------------------------
TESTER COMMENTS
------------------------------
Additional comments from tester:
none provided
------------------------------
PROGRAM OUTPUT
------------------------------
Output from 'make test DBIC_NO_WARN_BAD_PERL=1':
PERL_DL_NONLAZY=1 "/usr/perl5.16.3t/bin/perl5.16.3" "-MExtUtils::Command::MM" "-MTest::Harness" "-e" "undef *Test::Harness::Switches; test_harness(0, 'inc', 'blib/lib', 'blib/arch')" t/*.t t/admin/*.t t/cdbi/*.t t/cdbi/DeepAbstractSearch/*.t t/cdbi/abstract/*.t t/cdbi/sweet/*.t t/count/*.t t/delete/*.t t/inflate/*.t t/multi_create/*.t t/ordered/*.t t/prefetch/*.t t/relationship/*.t t/resultset/*.t t/resultsource/*.t t/row/*.t t/schema/*.t t/search/*.t t/sqlmaker/*.t t/sqlmaker/hierarchical/*.t t/sqlmaker/limit_dialects/*.t t/storage/*.t t/update/*.t
#
#
# List of loadable modules within both the core and *OPTIONAL* dependency chains
# present on this system (modules sourced from ./blib, ./lib, ./t, and ./xt
# with versions identical to their parent namespace were omitted for brevity)
#
# *** Note that *MANY* of these modules will *NEVER* be loaded ***
# *** during normal operation of DBIx::Class ***
#
# @INC at startup (does not reflect manipulation at runtime):
# 0: ./inc/
# 1: ./blib/lib/
# 2: ./blib/arch/
# 3: /usr/home/eserte/.cpan/build/2016062018/DBIx-POS-Template-0.022-_4x6bf/blib/arch
# 4: /usr/home/eserte/.cpan/build/2016062018/DBIx-POS-Template-0.022-_4x6bf/blib/lib
# 5: /usr/home/eserte/.cpan/build/2016062018/Net-Songkick-v1.0.1-Nkbdsz/blib/arch
# 6: /usr/home/eserte/.cpan/build/2016062018/Net-Songkick-v1.0.1-Nkbdsz/blib/lib
# 7: /usr/home/eserte/.cpan/build/2016062018/DBIx-POS-Template-0.022-_4x6bf/blib/arch
# 8: /usr/home/eserte/.cpan/build/2016062018/DBIx-POS-Template-0.022-_4x6bf/blib/lib
# 9: /usr/home/eserte/.cpan/build/2016062018/Net-Songkick-v1.0.1-Nkbdsz/blib/arch
# 10: /usr/home/eserte/.cpan/build/2016062018/Net-Songkick-v1.0.1-Nkbdsz/blib/lib
# 11: <<SA>>/
# 12: <<SL>>/
# 13: <<PA>>/
# 14: <<PL>>/
# 15: ./
#
# Sourcing markers:
# PA: $Config{archlib}
# PL: $Config{privlib}
# SA: $Config{sitearch}
# SL: $Config{sitelib}
# BLL: ./blib/lib/
#
# =============================
# PA 0.19 attributes [ MD5: 1fd72435301fb994818e57a639725fad ]
# PL 5.72 AutoLoader [ MD5: 4cb5facd501e3f0a7971e583622446fe ]
# PA 1.35 B [ MD5: 70eaf1d107c37ad10f017bde415925ac ]
# SL 0.21 B::Hooks::EndOfScope [ MD5: a004874dd5b76eb1119b90c7a03158c6 ]
# SL 0.21 B::Hooks::EndOfScope::XS [ MD5: a3cd2087d9dba94277ba4e15fb5e39ad ]
# PL 2.18 base [ MD5: 262cf42a8f0afc4a464bf1318fd6f85a ]
# PL 1.04 bytes [ MD5: d1dd254359351507b57b2271c382608a ]
# SL 1.38 Carp [ MD5: 8f83ceec7d1988a3a4f064a737fd6eb7 ]
# SL 6.04 Carp::Clan [ MD5: 16846e519817c2d76def9efbb1f9c725 ]
# SL 1.38 Carp::Heavy [ MD5: 93b5733bfebc7a803d02372f3e71ae44 ]
# SL 0.34 Class::Accessor [ MD5: 79a573e4c523b52dcffb91b5390d9d20 ]
# SL Class::Accessor::Chained::Fast [ MD5: 544678632aaf294dc280944a83c509bc ]
# SL 0.34 Class::Accessor::Fast [ MD5: 69232ed8cbca035a8eb6c73e40b695f9 ]
# SL 0.10012 Class::Accessor::Grouped [ MD5: e7c277f33b36ef2ef9f68a564c26e753 ]
# SL 1.001000 Class::C3::Componentised [ MD5: c8c95fc2278592a66aacfd18ed7a5645 ]
# SL 0.08 Class::Data::Inheritable [ MD5: eaa489d785a175db193d92b13674d96d ]
# SL 1.7 Class::Factory::Util [ MD5: 23c0a341c83cbc0849dbbdbba7555d0a ]
# SL 1.28 Class::Inspector [ MD5: 64949009ad8466ec6c39b30b6eade95d ]
# SL 0.23 Class::Load [ MD5: 5f9a96076965a6f0824c876dcd6b8f37 ]
# SA 0.09 Class::Load::XS [ MD5: 56faee781cf17a205052b52033246b37 ]
# SL 2.12 Class::Method::Modifiers [ MD5: 858b4703af77a9f119556c37a7201d18 ]
# SA 2.1804 Class::MOP [ MD5: 5792884f66527c869ff76d49930ca54d ]
# SA 2.1804 Class::MOP::Attribute [ MD5: ab3d6ce746abacae6d72a9eebb98e150 ]
# SA 2.1804 Class::MOP::Class [ MD5: fd107af6de1669636dd3e4e0c497aa1c ]
# SA 2.1804 Class::MOP::Class::Immutable::Trait [ MD5: 302840d5183333eaad1aeb6c7749a67b ]
# SA 2.1804 Class::MOP::Deprecated [ MD5: c136cd9ccf0753b880a32261f0dbdf0c ]
# SA 2.1804 Class::MOP::Instance [ MD5: 53a62044be0e8ec8eefb6d164a609961 ]
# SA 2.1804 Class::MOP::Method [ MD5: 75c4693aacd57e160cb9bcfd12123e01 ]
# SA 2.1804 Class::MOP::Method::Accessor [ MD5: 6a87be028d4521e5840b7aa1aab73b6a ]
# SA 2.1804 Class::MOP::Method::Constructor [ MD5: 68f669e05019839135ca66c3f67a981d ]
# SA 2.1804 Class::MOP::Method::Generated [ MD5: 09205a7764c1d23a4e3735b1f64ccdc7 ]
# SA 2.1804 Class::MOP::Method::Inlined [ MD5: 78e06c9076dd37ea190198661e255de9 ]
# SA 2.1804 Class::MOP::Method::Meta [ MD5: 7131c0bd5e8edafb0523f032d72acb34 ]
# SA 2.1804 Class::MOP::Method::Wrapped [ MD5: df5f58f15bdb358ba352200d320f2116 ]
# SA 2.1804 Class::MOP::MiniTrait [ MD5: 2fcb6fc8d09a63b6ed9e81c9b8f79cab ]
# SA 2.1804 Class::MOP::Mixin [ MD5: 5d4ffd274b235e06b06cc0419df4bebd ]
# SA 2.1804 Class::MOP::Mixin::AttributeCore [ MD5: f16dd87e0d4fd446a616fdd036b7c067 ]
# SA 2.1804 Class::MOP::Mixin::HasAttributes [ MD5: 613d700721936a47daf5322b07d13059 ]
# SA 2.1804 Class::MOP::Mixin::HasMethods [ MD5: 2014edfc91b607f2a9acaa8d47ae7051 ]
# SA 2.1804 Class::MOP::Mixin::HasOverloads [ MD5: a1642eed9b68472136a1a2402987a7c8 ]
# SA 2.1804 Class::MOP::Module [ MD5: 0443102a9a200031d68cda31f6d30e39 ]
# SA 2.1804 Class::MOP::Object [ MD5: 55dc942d83a2a83eb0867ef69a5a33d5 ]
# SA 2.1804 Class::MOP::Overload [ MD5: 930fbd85a9b3585530be4c023edf8fdf ]
# SA 2.1804 Class::MOP::Package [ MD5: d6b1aaa0cfa32bf7041b1b95b8fb712f ]
# SL 1.5 Class::Singleton [ MD5: d1b724a6b51de027cc1656e67ada9a32 ]
# PL 0.63 Class::Struct [ MD5: f147c95fe98e71c033b738292c7e205d ]
# SL 0.14 Class::Trigger [ MD5: c7a9ce0dac92fac85f6aaaaaea4199e4 ]
# SL 0.09 Class::Unload [ MD5: 7b43dc95896279810eb510bcfb002540 ]
# SA 1.19 Class::XSAccessor [ MD5: 0b7adfcc61192a80f97463e89d6d1696 ]
# SA 1.19 Class::XSAccessor::Heavy [ MD5: db9379a668d6133fce801e4648cdef45 ]
# SA 0.38 Clone [ MD5: 95bff4a1ac34730d9af65033a3c72448 ]
# SA 3.73 common::sense [ MD5: e13866c7b4863a8b534c66e13ddee900 ]
# PA Config [ MD5: 3f9f1036f0e4c4f47e2aaa1dd84d7ae7 ]
# SL 1.33 constant [ MD5: 56cde6eba0f667ab56196613df3933c1 ]
# SL 0.01 Context::Preserve [ MD5: 26e18569523ddfcaaa8bf29790e8c1f0 ]
# SA 3.0215 Cpanel::JSON::XS [ MD5: 490a957e7dc0cd4b01363e56420f2b45 ]
# SA 3.62 Cwd [ MD5: 0d4c11e58ee40ccd82e772d7f201183f ]
# PA 2.154 Data::Dumper [ MD5: a12079e6ad6026c8ce0932f5aead0661 ]
# SL 2.022 Data::Dumper::Concise [ MD5: 84f113e489b3fa5fa5f1d3b7a169d849 ]
# SL 0.109 Data::OptList [ MD5: 3df16aaa98b6c41f391112b8b92d1024 ]
# SL 2.02 Data::Page [ MD5: 52f4b3f7348e51e0654aa4f0b3503ab0 ]
# SA 3.03 Date::Simple [ MD5: 7f0f57291d06fba6dec8f2c89418d833 ]
# SA Date::Simple::D8 [ MD5: 3adf337de741bbdafc195903c5fba746 ]
# SA Date::Simple::Fmt [ MD5: d7b0634fe9be047bf070ece7ad10bbf1 ]
# SA Date::Simple::ISO [ MD5: 6daa0380c65f785087c38917770cd9a1 ]
# SA 1.28 DateTime [ MD5: 06b040bf360dbcda7e87fc84b847d6e1 ]
# SA 1.28 DateTime::Duration [ MD5: bf92e745ec41153efb5fd8ef9d738e89 ]
# SL 0.81 DateTime::Format::Builder [ MD5: a7504365e360ffadab386d3e7a3d1378 ]
# SL 0.81 DateTime::Format::Builder::Parser [ MD5: 2fe5d6326e9d327a00b79869d2626b12 ]
# SL 0.81 DateTime::Format::Builder::Parser::Dispatch [ MD5: e2581071b6d0557d1abdfc7d9fccd792 ]
# SL 0.81 DateTime::Format::Builder::Parser::generic [ MD5: d6c5ff8efde5024940a41273446792f6 ]
# SL 0.81 DateTime::Format::Builder::Parser::Quick [ MD5: cfb34d755dc7297a46653e5d49341b8a ]
# SL 0.81 DateTime::Format::Builder::Parser::Regex [ MD5: adfa2b43837079406c8b5b3bfedacd1c ]
# SL 0.81 DateTime::Format::Builder::Parser::Strptime [ MD5: b2de69a1394486285921144e22a36d00 ]
# SL 0.05 DateTime::Format::MySQL [ MD5: 0175023757bbb04353371c83a4a48132 ]
# SL 0.16011 DateTime::Format::Pg [ MD5: d9f818b3ce3a7d0878ff16b3d9305492 ]
# SL 0.11 DateTime::Format::SQLite [ MD5: 1cff4caa26c417be96d7a8843fc32825 ]
# SL 1.67 DateTime::Format::Strptime [ MD5: cc02d18cdeba6b3a5c65eed1706a7478 ]
# SA 1.28 DateTime::Helpers [ MD5: d19be7ecb8cbf38b2a1f007937ecfe6b ]
# SA 1.28 DateTime::Infinite [ MD5: 08e3de94d2dec6c8c411eca20bf5b969 ]
# SL 1.02 DateTime::Locale [ MD5: 222bd81cc9966324d59fc365f1165cf0 ]
# SL 1.02 DateTime::Locale::Data [ MD5: adf1671e40a5b2bf6eba5a7c99b62b1d ]
# SL 1.02 DateTime::Locale::FromData [ MD5: 741b5eca8ee877cf903264408abb8d64 ]
# SL 1.02 DateTime::Locale::Util [ MD5: 92cd3b5955f60f7f40fdc6c713e53ea4 ]
# SL 1.99 DateTime::TimeZone [ MD5: 5e40b826d7958ecbf74f0d83051bc68b ]
# SL 1.99 DateTime::TimeZone::Catalog [ MD5: bc3202f8ed1e2f38aa1cdd0be6d89ff7 ]
# SL 1.99 DateTime::TimeZone::Floating [ MD5: ffa6caa894182a83dbeb71eaf118344b ]
# SL 1.99 DateTime::TimeZone::Local [ MD5: f5fd8e211a6d4e3478fee88c8df63b42 ]
# SL 1.99 DateTime::TimeZone::OffsetOnly [ MD5: 42b40a018cc9c5cbbcf7d6d7b6e82d40 ]
# SL 1.99 DateTime::TimeZone::OlsonDB::Change [ MD5: dc9ef082c11e6726b29209da8310170f ]
# SL 1.99 DateTime::TimeZone::UTC [ MD5: 416d85651137185ce5076d9fb659ea3c ]
# SA 1.634 DBI [ MD5: 9434d7f2660bb3f8fa08b3848caa5302 ]
# BLL 0.082840 DBIx::Class [ MD5: 8bfd568d750eaffd5f53546d6ab095bf ]
# SL 1.03 DBIx::ContextualFetch [ MD5: c2fee462304c7b016de471657d9bc576 ]
# SL 0.13 Devel::GlobalDestruction [ MD5: bc0273114c876e5526239817c461a4f4 ]
# SL 0.004 Devel::OverloadInfo [ MD5: e324a1b67fa94d816d070bff0d4a854c ]
# SL 2.15 Devel::Symdump [ MD5: a028de0df85b42f41870e87a4adf545b ]
# PL 1.16 Digest::base [ MD5: c46e2ebb720ee7d9c600ce5acbf34291 ]
# SA 2.55 Digest::MD5 [ MD5: eb31899db132d674e1db22f4727234f6 ]
# SA 5.95 Digest::SHA [ MD5: 62d09d1ce4b092443219380f8334ed25 ]
# PA 1.14 DynaLoader [ MD5: e93fe372c47d7a89dd13fc21fb277879 ]
# SA 2.83 Encode [ MD5: 8e5fa6386f82d7715c59b29e465624ed ]
# SA 2.20 Encode::Alias [ MD5: 7a38d7cffbb79b5e300711a344b64ce1 ]
# SA 2.05 Encode::Config [ MD5: 7bdd1d8dffa8d3500086802451fc020d ]
# SA 2.07 Encode::Encoding [ MD5: 34dc1ab677a5e9b9b4ab88acbde70db4 ]
# PA 1.15 Errno [ MD5: f227eea37e9c3f4a6b9c2a16078f7469 ]
# SL 0.11 Eval::Closure [ MD5: 6bf6a10e32df569708e40160061243b4 ]
# SL 5.72 Exporter [ MD5: 358c4022647b971c7c4f3a4157b8343e ]
# SL 5.72 Exporter::Heavy [ MD5: d8032ca40b44e010673e6dd5816ca66b ]
# SL 0.042 Exporter::Tiny [ MD5: a43289aa459365d49aa7b9de83c1ce7a ]
# SL 7.18 ExtUtils::Liblist [ MD5: edee44469c479c4fafd0ed93b744b3cc ]
# SL 7.18 ExtUtils::Liblist::Kid [ MD5: 56fb9faf71bd132384d26c2b0ed83c64 ]
# SL 7.18 ExtUtils::MakeMaker [ MD5: c14c8ef62cd0be21d64b540151903a8e ]
# SL 7.18 ExtUtils::MakeMaker::Config [ MD5: c7beb9e463a560259c3c284e33cd58b5 ]
# SL 7.18 ExtUtils::MakeMaker::Locale [ MD5: 5416e96c4494a5124e707ee949a2a3c4 ]
# SL 7.18 ExtUtils::MakeMaker::version [ MD5: 6784688a3965a1d61b2eab6cb6b5e6fe ]
# SL 7.18 ExtUtils::MM [ MD5: 4176f09a2b8ea745c91952e2974cb1f6 ]
# SL 7.18 ExtUtils::MM_Any [ MD5: c4ee3816a4f87688d0e13029515fac21 ]
# SL 7.18 ExtUtils::MM_Unix [ MD5: 02e3612be006a50d80504a5fb0be790a ]
# SL 7.18 ExtUtils::MY [ MD5: eed2f32b182d92cd109fcb436229acd0 ]
# PA 1.11 Fcntl [ MD5: 70707096a90be3068ba6feae636d5ad6 ]
# PL 1.27 feature [ MD5: 5a3a1a66f9730c974ac724d6b98483db ]
# PL 2.84 File::Basename [ MD5: f3c9df98223f53fee221435ddf5e9733 ]
# PL 2.23 File::Copy [ MD5: faf119164c3278edf3c7f12ce98cb239 ]
# PL 1.20 File::Find [ MD5: 6cae20b8ee4324d5b030da92116fb349 ]
# PA 1.17 File::Glob [ MD5: 59ac116899119111086b541fb635de31 ]
# SL 1.00 File::HomeDir [ MD5: dab54a50acb9cf1a884ac88be4294e82 ]
# SL 1.00 File::HomeDir::Driver [ MD5: c4065f96c83394a428c8f78c5168f55a ]
# SL 1.00 File::HomeDir::Unix [ MD5: 46e9b0369bce4571a5c72f2392db50b4 ]
# SL 2.12 File::Path [ MD5: bd7b1aafbfa538b60ece4aee7d7aa8dd ]
# SA 3.62 File::Spec [ MD5: 8977b4144a5e8153ca2e9dcc304b921e ]
# SA 3.62 File::Spec::Functions [ MD5: 50f19e86f758617d747c9c3c638d65de ]
# SA 3.62 File::Spec::Unix [ MD5: 6fe7927e7908ddfcfcfc5082b5a26442 ]
# PL 1.05 File::stat [ MD5: bb790be3c54930386270d818178fe12c ]
# SL 0.2304 File::Temp [ MD5: 42d392eee808579f109684ac09d8649e ]
# SL 1.21 File::Which [ MD5: cdcf532119e982121ccf92387544f0cf ]
# PL 1.51 FindBin [ MD5: dd2958b9672d2fbd39371b5b590def2f ]
# SL 2.49 Getopt::Long [ MD5: 689ae0ab17c223ff71b2daedc105a7e7 ]
# SL 0.099 Getopt::Long::Descriptive [ MD5: 3e60005dd8b799d7e13c34ce7f8fe6d3 ]
# SL 0.099 Getopt::Long::Descriptive::Opts [ MD5: 2792084e5891cb6326c9e686f09c12e3 ]
# SL 0.099 Getopt::Long::Descriptive::Usage [ MD5: 33b48f0accf6d3bd2d3b1533785205b6 ]
# SL 0.200 Hash::Merge [ MD5: ae87e2525bb532a1fdfff5acfb7419ae ]
# PA 0.08_02 I18N::Langinfo [ MD5: 6fb1ed33005c3c8905b521505e4003f9 ]
# PL 0.0602 if [ MD5: f5730e6f61964cbbcb8daa8a7c038e1a ]
# SL 1.002005 Import::Into [ MD5: 7f498658c2a0e06c5c034165db33ad65 ]
# PL 1.00 integer [ MD5: 4a9b2a5bdd05b8f12371f0bd13135b95 ]
# PA 1.25_06 IO [ MD5: d8e3fd7eba5bbad363150f1964ba8d46 ]
# PA 1.10 IO::Dir [ MD5: 3382ea44d8e267cc12a596fbfe73ff92 ]
# PA 1.16 IO::File [ MD5: 206278c02dd4a3fb7792a4a193d2588b ]
# PA 1.33 IO::Handle [ MD5: 6fdff43909cf62a195d25caf33ad4972 ]
# PA 1.10 IO::Seekable [ MD5: f62813b55c062f449160100dca67d043 ]
# SL 2.90 JSON [ MD5: e0370519fe2c243fefdeba07e7a78697 ]
# SL 1.39 JSON::Any [ MD5: 58091791762a014d447fdd6f05000e17 ]
# SA 0.47 JSON::DWIW [ MD5: 0ca7463b13f73d1ca97fffcdb6108462 ]
# SA 1.04 JSON::DWIW::Boolean [ MD5: ff32cb187e88f9a4ca7726738c68fdf3 ]
# SL 2.27300 JSON::PP [ MD5: 3a80cd48608561229c3641b0b52bafaf ]
# 1.01 JSON::PP::IncrParser ! -f $INC{'JSON/PP/IncrParser.pm'}
# SA 3.02 JSON::XS [ MD5: b95f5a5c4ba8415fac5f291fe1b4cc1e ]
# SA 0.415 List::MoreUtils [ MD5: 2e6876b4aa7a548960203c201cd2222a ]
# SA 0.415 List::MoreUtils::PP [ MD5: 287ecd601cd6dcee32250b679f24a98a ]
# SA 0.415 List::MoreUtils::XS [ MD5: af52ef3ad3734610943a3e9cbc43c88f ]
# SA 1.45 List::Util [ MD5: 1f107b58325c1fd6028e1acb99c46f65 ]
# SL 1.001 Log::Agent [ MD5: 0cf4c308ecf9bf2fb6159fef1c1443e4 ]
# SL Log::Agent::Formatting [ MD5: 3f3e0596e93bc4e07fece6c15250fceb ]
# SL Log::Agent::Message [ MD5: d09cdc366b2bf944628127745cb9e666 ]
# SL Log::Agent::Priorities [ MD5: 790d35c8f74b03d1cd05e82df6fceeb5 ]
# SL 0.13 Math::Base36 [ MD5: c5a32434ffcbe239add37748ed60741c ]
# PL 1.999724 Math::BigFloat [ MD5: 6a37f03d0b3ee3f4dd20ebc960684209 ]
# PL 1.999724 Math::BigInt [ MD5: 8e28c02a01832e1262f095729fec5d19 ]
# PL 1.999724 Math::BigInt::Calc [ MD5: c7eebeadf466d8d92fa9ff908851e0c1 ]
# SA 2.1804 metaclass [ MD5: 081e4766bb8f7c76f16b567a110fbd31 ]
# SL Method::Generate::Accessor [ MD5: ce97ce10f2aad1fad424c2a24ba58da8 ]
# SL Method::Generate::BuildAll [ MD5: eb3280c5cdd93304f305e5c970bde5e5 ]
# SL Method::Generate::Constructor [ MD5: be46db6227b7a60f4ea8a40502edd4f0 ]
# SL 0.09 Module::Implementation [ MD5: 2a146bb117cd6b798e2b928231799546 ]
# SL 0.014 Module::Runtime [ MD5: fb1d248a05a99e7fc65e99178bce0c5b ]
# SL 2.001001 Moo [ MD5: 89f8427dede9f91994590e789d07f544 ]
# SL Moo::HandleMoose [ MD5: d3f34af053053039b7a3842f8a8e17ec ]
# SL Moo::HandleMoose::FakeMetaClass [ MD5: c1633fe4a83292267585b70ecfb5f982 ]
# SL Moo::Object [ MD5: c6178dd9cb5e5991074b06977b2a5bb9 ]
# SL 2.001001 Moo::Role [ MD5: f38be8276d86547a2b927a475e1598cc ]
# SL Moo::sification [ MD5: 3064b1e15aa821aa5433e07d186f0e38 ]
# SA 2.1804 Moose [ MD5: 2034cb9609a73bc79caf048dd6ef6f59 ]
# SA 2.1804 Moose::Deprecated [ MD5: 887ae21acd491520933c8c25d5274dd0 ]
# SA 2.1804 Moose::Exporter [ MD5: 94bc014f3bc7c5157a1f3dfbadfb77d9 ]
# SA 2.1804 Moose::Meta::Attribute [ MD5: 65d6cba412303f4c0d44b7bd9dbe35f5 ]
# 2.1403 Moose::Meta::Attribute::Custom::Moose ! -f $INC{'Moose/Meta/Attribute/Custom/Moose.pm'}
# SA 2.1804 Moose::Meta::Attribute::Native [ MD5: ab578954e2dcd8c07a6af24373d64943 ]
# SA 2.1804 Moose::Meta::Attribute::Native::Trait [ MD5: 55bc62c9e4e2e22801aa01c74a87eb5e ]
# SA 2.1804 Moose::Meta::Attribute::Native::Trait::Counter [ MD5: 9f20c09ac3f8be93f31dabfccb10b27c ]
# SA 2.1804 Moose::Meta::Attribute::Native::Trait::Hash [ MD5: e65b17425089d377a339bdf378ae828f ]
# SA 2.1804 Moose::Meta::Class [ MD5: ddbae4f79fed7cba403dcb7fdbad0c27 ]
# SA 2.1804 Moose::Meta::Class::Immutable::Trait [ MD5: d8354752ef5a88b1d1725b619fea107e ]
# SA 2.1804 Moose::Meta::Instance [ MD5: 1d163e53a095463c52930bb539d34b6c ]
# SA 2.1804 Moose::Meta::Method [ MD5: 9136f396485977a9b2ac1be292a353ca ]
# SA 2.1804 Moose::Meta::Method::Accessor [ MD5: 75142c352bdb6016cd6e453aceb1f101 ]
# SA 2.1804 Moose::Meta::Method::Accessor::Native [ MD5: 3afbb1a26b8c97deda610046ac6bf19b ]
# SA 2.1804 Moose::Meta::Method::Accessor::Native::Collection [ MD5: dba799bab083e155cceb255ead8c4c7e ]
# SA 2.1804 Moose::Meta::Method::Accessor::Native::Counter::inc [ MD5: 234a5801b3b5baee63b29d9f4b98bfcc ]
# SA 2.1804 Moose::Meta::Method::Accessor::Native::Hash [ MD5: 85a2699d45eaddafb1040ddd34e577a0 ]
# SA 2.1804 Moose::Meta::Method::Accessor::Native::Hash::count [ MD5: f67d65141e344de5ef59dc223c26aff7 ]
# SA 2.1804 Moose::Meta::Method::Accessor::Native::Hash::delete [ MD5: 62be12b79c8076951274774797d6160c ]
# SA 2.1804 Moose::Meta::Method::Accessor::Native::Hash::get [ MD5: 5a143df6fdaf7d4f722d5b92a09c7dbb ]
# SA 2.1804 Moose::Meta::Method::Accessor::Native::Hash::is_empty [ MD5: 3c05ae34c3b3ecabf5ea67004fd89fc1 ]
# SA 2.1804 Moose::Meta::Method::Accessor::Native::Hash::set [ MD5: 481f1a2b136eb917dfa6fcc37f3e0ba6 ]
# SA 2.1804 Moose::Meta::Method::Accessor::Native::Hash::values [ MD5: 471ab1ba4707fee272c23619c1b0d0a3 ]
# SA 2.1804 Moose::Meta::Method::Accessor::Native::Hash::Writer [ MD5: 0e2bbdd89715fa34ceccbe7999e15686 ]
# SA 2.1804 Moose::Meta::Method::Accessor::Native::Reader [ MD5: e7a24903e046b699651e149b5742ba3a ]
# SA 2.1804 Moose::Meta::Method::Accessor::Native::Writer [ MD5: 38378544c55eec8209bf88448c58ad97 ]
# SA 2.1804 Moose::Meta::Method::Augmented [ MD5: e133fdc20c848ea1fe9f2747090db1e6 ]
# SA 2.1804 Moose::Meta::Method::Constructor [ MD5: 26bdb917afafff240cfbacc6bb0267da ]
# SA 2.1804 Moose::Meta::Method::Delegation [ MD5: e14020dd0b7d26a2d9623f0420a21916 ]
# SA 2.1804 Moose::Meta::Method::Destructor [ MD5: f17df13f2de118e4b02f34450b1767d7 ]
# SA 2.1804 Moose::Meta::Method::Meta [ MD5: 3791e1de38ad66106d381ac3dc0be955 ]
# SA 2.1804 Moose::Meta::Method::Overridden [ MD5: 1f491fe6c2ae687b07c35bd562480960 ]
# SA 2.1804 Moose::Meta::Mixin::AttributeCore [ MD5: 593f58494183ca56cb6465feb4f5013a ]
# SA 2.1804 Moose::Meta::Object::Trait [ MD5: 5e1f0161297dbb48ac70747b39fd3cf1 ]
# SA 2.1804 Moose::Meta::Role [ MD5: 75ae2228ee53e048f57e3bf03f535e3e ]
# SA 2.1804 Moose::Meta::Role::Application [ MD5: e74c247dc7e7f09cc0e218082f03cce4 ]
# SA 2.1804 Moose::Meta::Role::Application::RoleSummation [ MD5: 717263771da7f5abc7287828064106a7 ]
# SA 2.1804 Moose::Meta::Role::Application::ToClass [ MD5: 1d4cff15bab9b58221d0c5e9b206fdda ]
# SA 2.1804 Moose::Meta::Role::Application::ToInstance [ MD5: ac54d3290fdf23b4d44049f4c531eac1 ]
# SA 2.1804 Moose::Meta::Role::Application::ToRole [ MD5: d9dc36906222ce1685846d52096d7579 ]
# SA 2.1804 Moose::Meta::Role::Attribute [ MD5: 52d2d545d70b9ce5b28e9936eeb04b4d ]
# SA 2.1804 Moose::Meta::Role::Composite [ MD5: 01ea9e3382ba1e5176f0d39461be2295 ]
# SA 2.1804 Moose::Meta::Role::Method [ MD5: e30ab172d6f37ce61e923e9db5ee5417 ]
# SA 2.1804 Moose::Meta::Role::Method::Conflicting [ MD5: 095a7bbe7a0a8da8c496c21487c44efd ]
# SA 2.1804 Moose::Meta::Role::Method::Required [ MD5: 803bc38609086c16503b1397c025ddbf ]
# SA 2.1804 Moose::Meta::TypeCoercion [ MD5: a72795c35043f65b32aea1e7fa153719 ]
# SA 2.1804 Moose::Meta::TypeCoercion::Union [ MD5: b9526fdb80262725e66e58c518948280 ]
# SA 2.1804 Moose::Meta::TypeConstraint [ MD5: 409ac825e779aa31e438880aa43b0086 ]
# SA 2.1804 Moose::Meta::TypeConstraint::Class [ MD5: 3ed9879193267bb73270b653e0a22f95 ]
# SA 2.1804 Moose::Meta::TypeConstraint::DuckType [ MD5: 12130cc7e55a257bc9c4a5df1a2bc5dd ]
# SA 2.1804 Moose::Meta::TypeConstraint::Enum [ MD5: 360b5399af2993f2340ca8be6d0d25e5 ]
# SA 2.1804 Moose::Meta::TypeConstraint::Parameterizable [ MD5: 9ec832cb6c5c0676c9f24b4fca470fd2 ]
# SA 2.1804 Moose::Meta::TypeConstraint::Parameterized [ MD5: da041064a8576c7974aaebbbf3720ae7 ]
# SA 2.1804 Moose::Meta::TypeConstraint::Registry [ MD5: 7988269af915289bda171a0f9fdb11a0 ]
# SA 2.1804 Moose::Meta::TypeConstraint::Role [ MD5: af9859b276d8f518b96d558308ce6d47 ]
# SA 2.1804 Moose::Meta::TypeConstraint::Union [ MD5: 4d74e61f99238c801c779f595f841470 ]
# SA 2.1804 Moose::Object [ MD5: e9e6d427988e5958ef77de8c223c90e2 ]
# SA 2.1804 Moose::Role [ MD5: 91e1e0a8490f6118e03471a9f57ad702 ]
# SA 2.1804 Moose::Util [ MD5: 655f233234443a3491f1587f792f926b ]
# SA 2.1804 Moose::Util::MetaRole [ MD5: bc17e74105f6c3b074fbcfa5f3aa4f2d ]
# SA 2.1804 Moose::Util::TypeConstraints [ MD5: d3d982047b839e49eb709489092fcc02 ]
# SA 2.1804 Moose::Util::TypeConstraints::Builtins [ MD5: 51dc2462d88e81da48db003bf2ee5f3d ]
# SL 0.71 MooseX::Getopt [ MD5: 8d409fa0a61be828defa11465fea06ed ]
# SL 0.71 MooseX::Getopt::Basic [ MD5: 8255ac74939ef164ea254569502ec30b ]
# SL 0.71 MooseX::Getopt::GLD [ MD5: 2c35dbe6c132bdf83f64022beb484d58 ]
# SL 0.71 MooseX::Getopt::Meta::Attribute [ MD5: 0002642e385ec02c439d1aff5046360f ]
# SL 0.71 MooseX::Getopt::Meta::Attribute::NoGetopt [ MD5: e5dd88e5b37d39a294f1b6749b7740e1 ]
# SL 0.71 MooseX::Getopt::Meta::Attribute::Trait [ MD5: 9f4836c34d0fa8a793a38b0aab2189fd ]
# SL 0.71 MooseX::Getopt::Meta::Attribute::Trait::NoGetopt [ MD5: 996611314bb7b6549cf88c7bb903c09f ]
# SL 0.71 MooseX::Getopt::OptionTypeMap [ MD5: 219e19df34100b30f53a3b76ece29a29 ]
# SL 0.71 MooseX::Getopt::ProcessedArgv [ MD5: e489703d4e9971508c532f2843530c49 ]
# SL 1.08 MooseX::Role::Parameterized [ MD5: 92106b6452a5524891351ab820c73100 ]
# SL 1.08 MooseX::Role::Parameterized::Meta::Role::Parameterized [ MD5: ac7ce5385c8a023d5ce6c564c45b2497 ]
# SL 1.08 MooseX::Role::Parameterized::Meta::Trait::Parameterizable [ MD5: 677796a724190253c114704c722a4a1a ]
# SL 1.08 MooseX::Role::Parameterized::Meta::Trait::Parameterized [ MD5: b7820cde74c94e20a622edfcac246b65 ]
# SL 1.08 MooseX::Role::Parameterized::Parameters [ MD5: b63bf711e8d37cc21f5085d4e93aa2ab ]
# SL 0.46 MooseX::Types [ MD5: 6f345f0fbd35a16c81fa68a33de9dce9 ]
# SL 0.46 MooseX::Types::Base [ MD5: ac605a998c7dfa5d0ac68780ad0cdc5e ]
# SL 0.46 MooseX::Types::CheckedUtilExports [ MD5: 95ef5d2e911f6e07c7bdbc17253eaa14 ]
# SL 1.00 MooseX::Types::JSON [ MD5: 431bf20121a0f20df6cbe421e73db22c ]
# SL 0.014 MooseX::Types::LoadableClass [ MD5: 83e61f8c21b3532eb13dc47491a5cc21 ]
# SL 0.46 MooseX::Types::Moose [ MD5: eb083a3865bea0c98a5e44e06a8ca973 ]
# SL 0.08 MooseX::Types::Path::Class [ MD5: 1a5965f4642f020c80e631f7b7030473 ]
# SL 0.46 MooseX::Types::TypeDecorator [ MD5: 8397f3122fc0504a4d96507d7009e948 ]
# SL 0.46 MooseX::Types::UndefinedType [ MD5: e7c4024eb239ba4530328a6efd63ca33 ]
# SL 0.46 MooseX::Types::Util [ MD5: 182e2eb8139e05a4e21887d30293150a ]
# PA 1.09 mro [ MD5: 0dcdd8a22949c14b8da91eca5f5eacf6 ]
# SL 0.12 MRO::Compat [ MD5: baa26363fce54b680b27331693f0bf47 ]
# SL 0.28 namespace::autoclean [ MD5: bcf7b7af396c62ab1bbcec0a42fdb1c3 ]
# SL 0.27 namespace::clean [ MD5: f3e03f7f5f26391565d98357834e909b ]
# PL 1.18 overload [ MD5: 0798c8066ab0b0acbb76b7d06f645cdf ]
# PL 0.02 overloading [ MD5: 36e1b34f8175e036d57e51fd7d56becd ]
# SL 0.16 Package::DeprecationManager [ MD5: 33a463763373464232087b8d915067bc ]
# SL 0.37 Package::Stash [ MD5: e40c05afed4074ecb0455b05316523e8 ]
# SA 0.28 Package::Stash::XS [ MD5: 5bafa791645794b7b7072bdefd80d787 ]
# SL 1.003002 Package::Variant [ MD5: dab12020035bf6d34adc8aa771e7df9c ]
# SA 2.2 PadWalker [ MD5: 35ca6ec9f06e68f5df80d1232cc80361 ]
# SA 1.07 Params::Util [ MD5: dae515c40e02b36de308e51ddf0e8edd ]
# SA 1.24 Params::Validate [ MD5: a72ba90eb8d96c9ce3c38b360c63f2e4 ]
# SA 1.24 Params::Validate::Constants [ MD5: 2e743602a13072303117fee36e6d2fea ]
# SA 1.24 Params::Validate::XS [ MD5: e26731de134e2da5feaf5e3a5b067c65 ]
# SL 0.234 parent [ MD5: bc8ab538eb7a4ef2fce1962729785f0f ]
# SL 0.36 Path::Class [ MD5: 172caa92f2c9d5e57840404de5bf417c ]
# SL 0.36 Path::Class::Dir [ MD5: d057747eb223d50fc490ba44c6b07080 ]
# SL 0.36 Path::Class::Entity [ MD5: 522fcdbd765168b63796e6f9e947bf73 ]
# SL 0.36 Path::Class::File [ MD5: 5190b4a4e4d9a784189186b3fb625aaf ]
# 5.016003 perl [ MD5: e332dfd37ad36486e7a287eb54125ffc ]
# SL 0.23 Pod::Coverage [ MD5: d53035083682c2a78d56d998ad7239d2 ]
# SL 1.07 Pod::Escapes [ MD5: 66b73dccf48caa9ab161e8c3805cf955 ]
# PL 1.63 Pod::Find [ MD5: 1e09437d4c107f7ef2690f6b9995dbd7 ]
# PL 1.63 Pod::InputObjects [ MD5: 6b7a4d75d42c87da3929354fafa2a5a6 ]
# PL 1.63 Pod::Parser [ MD5: 9b166f82ac0afacbb4e2c0140725f29d ]
# SL 3.32 Pod::Simple [ MD5: 051123d355bbb1cd8bd301ad96a6ced1 ]
# SL 3.32 Pod::Simple::BlackBox [ MD5: ef5a556fc819cea04af2627668841d24 ]
# SL 3.32 Pod::Simple::LinkSection [ MD5: 267299a71079c87c2bf57ac003dcbe6f ]
# PA 1.30 POSIX [ MD5: f89dbb3c2b49f3e82feddc39855fa973 ]
# PA 0.19_01 re [ MD5: 6598a4fd8c57d76edab05df1a530e7f9 ]
# SL 2.000001 Role::Tiny [ MD5: eef7b750c499e2eea76c271ce6a377b8 ]
# SA 1.45 Scalar::Util [ MD5: fae29b3a4d3864c5b7bad2712666542b ]
# SL 0.21 Scope::Guard [ MD5: 914494bdeb65cd340f14eae265635cf2 ]
# PL 1.02 SelectSaver [ MD5: bddc465e351ad0508581b94ef112d322 ]
# SL 1.81 SQL::Abstract [ MD5: 671c03f308e5755d2b8ef3b1fe698685 ]
# SL 0.11021 SQL::Translator [ MD5: 8b2b5cca44f4dca2aff8436a52b7726f ]
# BLL 1.10 SQL::Translator::Parser::DBIx::Class [ MD5: a2e6513ee1189074e99c2a7753d7fb2a ]
# SL 1.59 SQL::Translator::Producer [ MD5: e741c79efb8c1678e75e4c53280210a4 ]
# BLL 0.1 SQL::Translator::Producer::DBIx::Class::File [ MD5: c69e702afc25396bd697909dc8536bf1 ]
# SL SQL::Translator::Role::BuildArgs [ MD5: da4de7404aebe70de0aaa77689a9d9a2 ]
# SL SQL::Translator::Role::Debug [ MD5: 12120b74191e9a87aca4f4fa9d3f6ae4 ]
# SL SQL::Translator::Role::Error [ MD5: fd75a6bb42465db4e3c6447beb7779d4 ]
# SL SQL::Translator::Role::ListAttr [ MD5: b2a42d1f606f81665f590851dfec2960 ]
# SL 1.59 SQL::Translator::Schema [ MD5: 08b93cfcb5a324dbef7459b78994d299 ]
# SL 1.59 SQL::Translator::Schema::Constants [ MD5: 4758aab105d0c8ba8e6d14cf2a00d609 ]
# SL 1.59 SQL::Translator::Schema::Constraint [ MD5: 5b0891f237c1fe824cb64d2674def117 ]
# SL 1.59 SQL::Translator::Schema::Field [ MD5: f070932651fd83c62e75ec2609589bfd ]
# SL 1.59 SQL::Translator::Schema::Index [ MD5: a80167781d6e4d05a86d7c83903c5970 ]
# SL 1.59 SQL::Translator::Schema::Object [ MD5: b9cc554f4a37ac0968d989a7bd207881 ]
# SL 1.59 SQL::Translator::Schema::Procedure [ MD5: c1a2960dc1362b865e84efb531a60429 ]
# SL SQL::Translator::Schema::Role::Compare [ MD5: c779113b952d8a8d70a5eee87a97a0c2 ]
# SL SQL::Translator::Schema::Role::Extra [ MD5: 34c2f771146c0fd45bb22fb08c9afd77 ]
# SL 1.59 SQL::Translator::Schema::Table [ MD5: bf0698fcf15c7a3607e79201abb9a846 ]
# SL 1.59 SQL::Translator::Schema::Trigger [ MD5: 8d95ae8ccb428cf3d901720540ad6d0b ]
# SL 1.59 SQL::Translator::Schema::View [ MD5: 37e785ff2231f692512f3e8b56bfb3f5 ]
# SL SQL::Translator::Types [ MD5: 95e68e011b3afc4e41f3e3cb08df9a4c ]
# SL 1.59 SQL::Translator::Utils [ MD5: e021231bef420fd30e26d8efc383ac47 ]
# SA 2.51 Storable [ MD5: 1b205bd0faf0d386c9f2486f060ed2a6 ]
# PL 1.07 strict [ MD5: 800622ee44e5700d8eb08d0611e9b65a ]
# SL 2.000003 strictures [ MD5: ea0f0d885d4566fed5ceb7d0efcd0562 ]
# SL 2.001001 Sub::Defer [ MD5: a1f2f5a27d3e8ed01059f16176d91463 ]
# SL 0.987 Sub::Exporter [ MD5: aa6b0dc0ffcf3831d4cee7da6d7e8330 ]
# SL 0.100052 Sub::Exporter::ForMethods [ MD5: 50b7071f63f77815db48360df0b102c4 ]
# SL 0.001011 Sub::Exporter::Progressive [ MD5: 0cf54ad3e2305402ed4d1f73e3f59601 ]
# SL 0.987 Sub::Exporter::Util [ MD5: 9bfd22ab1afa835541f6a7d298ab90fc ]
# SA 0.12 Sub::Identify [ MD5: 9dc08f208a43dde109c691301d1578eb ]
# SL 0.928 Sub::Install [ MD5: f077d4c445e5cceebd5aab8460fd2d5e ]
# SA 0.13 Sub::Name [ MD5: 58ec32036733dc7f251a470e561f4225 ]
# SL 2.001001 Sub::Quote [ MD5: 0d6553ac0dee5d94e18bf78175da2fa1 ]
# SA 1.45 Sub::Util [ MD5: d13ce6c71837b713d3afd39bdd411e54 ]
# PL 1.07 Symbol [ MD5: 083c3fe866ec1be9c84540b9ac8e6eee ]
# SL 1.302030 Test2::API [ MD5: 2763b9d28e45e8f3f1477bbc7212f924 ]
# SL 1.302030 Test2::API::Context [ MD5: 1d5ca292a6796a604bab286736e71bfa ]
# SL 1.302030 Test2::API::Instance [ MD5: 55af6f06ded0cd5fdfa4ab3b8f7a49c3 ]
# SL 1.302030 Test2::API::Stack [ MD5: 41657bedc757db92fe7bf548e0908234 ]
# SL 1.302030 Test2::Event [ MD5: 66a8c3a7122183e4147ecf59bc536a52 ]
# SL 1.302030 Test2::Event::Bail [ MD5: 8d118e59963d032889cd741a4aad5a5d ]
# SL 1.302030 Test2::Event::Diag [ MD5: b2fa8c0a05dc69351b229dc023d960f3 ]
# SL 1.302030 Test2::Event::Exception [ MD5: f0ec1620c674a07a1f6e6a5c38637bfe ]
# SL 1.302030 Test2::Event::Note [ MD5: 2c0195425bd8156a3fea5fcba9fd283a ]
# SL 1.302030 Test2::Event::Ok [ MD5: 1da62aa0f8fbc43f0ed472362b739999 ]
# SL 1.302030 Test2::Event::Plan [ MD5: 9da11a3951a13309eb6fff7a9ca0c01e ]
# SL 1.302030 Test2::Event::Skip [ MD5: 4be819ffdd37d5002f6419e09574ae38 ]
# SL 1.302030 Test2::Event::Subtest [ MD5: 7f21a49888cfb469bc5289d5f1fc02a9 ]
# SL 1.302030 Test2::Event::Waiting [ MD5: d822422fbaeb122e1f4ad38c41693f82 ]
# SL 1.302030 Test2::Formatter [ MD5: c996778bb909e8d2e93427a97618915d ]
# SL 1.302030 Test2::Formatter::TAP [ MD5: bd19b7884d48ec7c975ab2ee3852ce22 ]
# SL 1.302030 Test2::Hub [ MD5: 1ee8374b48b0d30371b3887f37b524e7 ]
# SL 1.302030 Test2::Hub::Interceptor [ MD5: b9a1be7f6bf8b2acf098321ea4805663 ]
# SL 1.302030 Test2::Hub::Interceptor::Terminator [ MD5: 290ac1e980fc2009d5862a076231c60c ]
# SL 1.302030 Test2::Hub::Subtest [ MD5: 65bc66134273b25d903c373ce79ed0b0 ]
# SL 1.302030 Test2::Util [ MD5: 1582e1eeee4ec295cb59532f5bf02ccf ]
# SL 1.302030 Test2::Util::ExternalMeta [ MD5: 3d0a71e5dfa3d81f75f19ca087495707 ]
# SL 1.302030 Test2::Util::HashBase [ MD5: a35499edc395d6196a9d255a307fcf87 ]
# SL 1.302030 Test2::Util::Trace [ MD5: 7d901b86acc846de74d7bc58a55a69e5 ]
# SL 1.302030 Test::Builder [ MD5: 5090c955b54a493f90bbf97eb6047afe ]
# SL 1.302030 Test::Builder::Formatter [ MD5: ae6510b035254c9508f300fba1632c44 ]
# SL 1.302030 Test::Builder::Module [ MD5: 06d129030543b8d8614bc491316e0d91 ]
# SL 1.302030 Test::Builder::TodoDiag [ MD5: 2fe70f4267468a50740d23ae985a4d8e ]
# SL 1.6 Test::EOL [ MD5: b3015ac0b1ebb21edb8c5e5bd922ae5b ]
# SA 2.1804 Test::Moose [ MD5: 6f85c599756bd7fef263639c77203cb7 ]
# SL 1.302030 Test::More [ MD5: feafa2e858025e7e5c18a4591844609b ]
# SL 1.4 Test::NoTabs [ MD5: 75eb76376e5a8277eb7126ec80b8a2ed ]
# SL 1.51 Test::Pod [ MD5: efb912ca5d0e3c57e132e039190ef4d1 ]
# SL 1.10 Test::Pod::Coverage [ MD5: b751ee701f87277a9013c485f474424e ]
# SL 0.35 Test::Strict [ MD5: 9847b5425a976b8c2dd00447738fdc76 ]
# SL 1.33 Text::CSV [ MD5: facf1f1c610ff035663dc31ffb24a763 ]
# SA 1.23 Text::CSV_XS [ MD5: c22421b0787d96f4d30c484a3c562e4a ]
# PL 1.04 Tie::Hash [ MD5: 943acc2a68dd546d8f40afa729dce7d3 ]
# SA 1.9726 Time::HiRes [ MD5: 0748812765e7bf2d035f9d650ef30c0d ]
# SL 1.2300 Time::Local [ MD5: 477127c5cb9097c24ddcc5213e79c511 ]
# SA 1.31 Time::Piece [ MD5: 19dd8207145445881892dde32bcc57ae ]
# SL 0.06 Time::Piece::MySQL [ MD5: 049f55316c13da6cdb4780b94153fb96 ]
# SA 1.31 Time::Seconds [ MD5: 0777aa23bb8be93e69fcfe96a1d1ba2b ]
# SL 0.24 Try::Tiny [ MD5: c85bb3f32f7bd949ec0cdfe93865f9e5 ]
# SL 1.0 Types::Serialiser [ MD5: b409e70ebab79d5b48b44dde9574b411 ]
# PL 1.09 utf8 [ MD5: d9e5dc077947b452429358d90ff2228e ]
# SA 0.58 Variable::Magic [ MD5: 82c6d08584eccd3d07751bf0341bc83a ]
# PL 1.02 vars [ MD5: 719c6895f36545f7ccb319a156ac9058 ]
# SA 0.9916 version [ MD5: 9be3c6edcd22d2527d9a025ea0b57d6a ]
# SA 0.9916 version::regex [ MD5: 498e6aa9fa74d8333fe57fc669ea0939 ]
# SA 0.9916 version::vxs [ MD5: 9e63c9d3ab7ab75506f6bd2c10e81682 ]
# PL 1.13 warnings [ MD5: 9be76a7d1fdb1204bc52ae9d201b39a6 ]
# PL 1.02 warnings::register [ MD5: e607c6dfd4cc596889d41737d3c52f65 ]
# PL 0.16 XSLoader [ MD5: e082a7548c6056e756068238abf94bf9 ]
# =============================
#
# List of loadable modules within both the core and *OPTIONAL* dependency chains
# present on this system (modules sourced from ./blib, ./lib, ./t, and ./xt
# with versions identical to their parent namespace were omitted for brevity)
#
# *** Note that *MANY* of these modules will *NEVER* be loaded ***
# *** during normal operation of DBIx::Class ***
#
#
t/00describe_environment.t .......................... ok
t/04_c3_mro.t ....................................... ok
t/05components.t .................................... ok
t/100extra_source.t ................................. ok
t/100populate.t ..................................... ok
t/101populate_rs.t .................................. ok
t/101source.t ....................................... ok
t/102load_classes.t ................................. ok
t/103many_to_many_warning.t ......................... ok
t/104view.t ......................................... ok
t/106dbic_carp.t .................................... ok
t/107obj_result_class.t ............................. ok
t/18insert_default.t ................................ ok
t/19retrieve_on_insert.t ............................ ok
t/20setuperrors.t ................................... ok
t/26dumper.t ........................................ ok
t/33exception_wrap.t ................................ ok
t/34exception_action.t .............................. ok
t/35exception_inaction.t ............................ skipped: not running dangerous segfault-prone test on plain install
t/39load_namespaces_1.t ............................. ok
t/39load_namespaces_2.t ............................. ok
t/39load_namespaces_3.t ............................. ok
t/39load_namespaces_4.t ............................. ok
t/39load_namespaces_exception.t ..................... ok
t/39load_namespaces_rt41083.t ....................... ok
t/39load_namespaces_stress.t ........................ ok
t/40compose_connection.t ............................ ok
t/40resultsetmanager.t .............................. ok
t/46where_attribute.t ............................... ok
t/50fork.t .......................................... skipped: Set $ENV{DBICTEST_PG_DSN}, _USER and _PASS to run this test (note: creates and drops a table named artist!)
t/51threadnodb.t .................................... ok
t/51threads.t ....................................... skipped: Set $ENV{DBICTEST_PG_DSN}, _USER and _PASS to run this test (note: creates and drops a table named artist!)
t/51threadtxn.t ..................................... skipped: Set $ENV{DBICTEST_PG_DSN}, _USER and _PASS to run this test (note: creates and drops a table named artist!)
t/52leaks.t ......................................... ok
t/53lean_startup.t .................................. ok
t/55namespaces_cleaned.t ............................ skipped: Skipping test on plain module install
t/60core.t .......................................... ok
t/61findnot.t ....................................... ok
t/63register_class.t ................................ ok
t/63register_column.t ............................... ok
t/63register_source.t ............................... ok
t/64db.t ............................................ ok
t/65multipk.t ....................................... ok
t/67pager.t ......................................... ok
t/69update.t ........................................ ok
t/70auto.t .......................................... ok
t/71mysql.t ......................................... skipped: Set $ENV{DBICTEST_MYSQL_DSN}, _USER and _PASS to run this test
t/72pg.t ............................................ skipped: Set $ENV{DBICTEST_PG_DSN}, _USER and _PASS to run this test
t/72pg_bytea.t ...................................... skipped: Set $ENV{DBICTEST_PG_DSN}, _USER and _PASS to run this test
t/73oracle.t ........................................ skipped: Set $ENV{DBICTEST_ORA_DSN}, _USER and _PASS to run this test.
t/73oracle_blob.t ................................... skipped: Set $ENV{DBICTEST_ORA_DSN}, _USER and _PASS to run this test.
t/73oracle_hq.t ..................................... skipped: Set $ENV{DBICTEST_ORA_DSN}, _USER and _PASS to run this test.
t/745db2.t .......................................... skipped: Set $ENV{DBICTEST_DB2_DSN}, _USER and _PASS to run this test
t/746db2_400.t ...................................... skipped: Set $ENV{DBICTEST_DB2_400_DSN}, _USER and _PASS to run this test
t/746mssql.t ........................................ skipped: Set $ENV{DBICTEST_MSSQL_ODBC_DSN}, _USER and _PASS to run this test
t/746sybase.t ....................................... skipped: Set $ENV{DBICTEST_SYBASE_DSN}, _USER and _PASS to run this test. Warning: This test drops and creates the tables: 'artist', 'money_test' and 'bindtype_test'
t/747mssql_ado.t .................................... skipped: Set $ENV{DBICTEST_MSSQL_ADO_DSN}, _USER and _PASS to run this test
t/748informix.t ..................................... skipped: Set $ENV{DBICTEST_INFORMIX_DSN}, _USER and _PASS to run this test
t/749sqlanywhere.t .................................. skipped: Set $ENV{DBICTEST_SQLANYWHERE_DSN} and/or $ENV{DBICTEST_SQLANYWHERE_ODBC_DSN},
t/74mssql.t ......................................... skipped: Set $ENV{DBICTEST_MSSQL_DSN}, _USER and _PASS to run this test
t/750firebird.t ..................................... skipped: Set $ENV{DBICTEST_FIREBIRD_DSN} and/or $ENV{DBICTEST_FIREBIRD_INTERBASE_DSN} and/or $ENV{DBICTEST_FIREBIRD_ODBC_DSN}, _USER and _PASS to run these tests. WARNING: this test creates and drops the tables "artist", "bindtype_test" and "sequence_test"; the generators "gen_artist_artistid", "pkid1_seq", "pkid2_seq" and "nonpkid_seq" and the trigger "artist_bi".
t/751msaccess.t ..................................... skipped: Set $ENV{DBICTEST_MSACCESS_ODBC_DSN} and/or $ENV{DBICTEST_MSACCESS_ADO_DSN} (and optionally _USER and _PASS) to run these tests.
t/752sqlite.t ....................................... ok
t/76joins.t ......................................... ok
t/76select.t ........................................ ok
t/77join_count.t .................................... ok
t/78self_referencial.t .............................. ok
t/79aliasing.t ...................................... ok
t/80unique.t ........................................ ok
t/82cascade_copy.t .................................. ok
t/83cache.t ......................................... ok
t/84serialize.t ..................................... ok
t/85utf8.t .......................................... ok
t/86might_have.t .................................... ok
t/86sqlt.t .......................................... ok
t/87ordered.t ....................................... ok
t/88result_set_column.t ............................. ok
t/90ensure_class_loaded.t ........................... ok
t/90join_torture.t .................................. ok
t/91merge_joinpref_attr.t ........................... ok
t/93autocast.t ...................................... ok
t/93single_accessor_object.t ........................ ok
t/94pk_mutation.t ................................... ok
t/94versioning.t .................................... skipped: Set $ENV{DBICTEST_MYSQL_DSN}, _USER and _PASS to run this test
t/96_is_deteministic_value.t ........................ ok
t/97result_class.t .................................. ok
t/99dbic_sqlt_parser.t .............................. ok
t/admin/01load.t .................................... ok
t/admin/02ddl.t ..................................... ok
t/admin/03data.t .................................... ok
t/admin/10script.t .................................. ok
t/cdbi/01-columns.t ................................. ok
t/cdbi/02-Film.t .................................... ok
t/cdbi/03-subclassing.t ............................. ok
t/cdbi/04-lazy.t .................................... ok
t/cdbi/06-hasa.t .................................... ok
t/cdbi/08-inheritcols.t ............................. ok
t/cdbi/09-has_many.t ................................ ok
t/cdbi/11-triggers.t ................................ ok
t/cdbi/12-filter.t .................................. ok
t/cdbi/13-constraint.t .............................. ok
t/cdbi/14-might_have.t .............................. ok
t/cdbi/15-accessor.t ................................ ok
t/cdbi/16-reserved.t ................................ ok
t/cdbi/18-has_a.t ................................... ok
t/cdbi/19-set_sql.t ................................. ok
t/cdbi/21-iterator.t ................................ ok
t/cdbi/22-deflate_order.t ........................... skipped: Set $ENV{DBICTEST_MYSQL_DSN}, _USER and _PASS to run this test
t/cdbi/22-self_referential.t ........................ ok
t/cdbi/23-cascade.t ................................. ok
t/cdbi/24-meta_info.t ............................... ok
t/cdbi/26-mutator.t ................................. ok
t/cdbi/30-pager.t ................................... ok
t/cdbi/68-inflate_has_a.t ........................... ok
t/cdbi/70_implicit_inflate.t ........................ ok
t/cdbi/71_column_object.t ........................... ok
t/cdbi/98-failure.t ................................. ok
t/cdbi/abstract/search_where.t ...................... ok
t/cdbi/columns_as_hashes.t .......................... ok
t/cdbi/columns_dont_override_custom_accessors.t ..... ok
t/cdbi/construct.t .................................. ok
t/cdbi/copy.t ....................................... ok
t/cdbi/DeepAbstractSearch/01_search.t ............... skipped: Class::DBI::Plugin::DeepAbstractSearch required for this test
t/cdbi/early_column_heisenbug.t ..................... ok
t/cdbi/has_many_loads_foreign_class.t ............... ok
t/cdbi/hasa_without_loading.t ....................... ok
t/cdbi/max_min_value_of.t ........................... ok
t/cdbi/mk_group_accessors.t ......................... ok
t/cdbi/multi_column_set.t ........................... ok
t/cdbi/object_cache.t ............................... ok
t/cdbi/retrieve_from_sql_with_limit.t ............... ok
t/cdbi/set_to_undef.t ............................... ok
t/cdbi/set_vs_DateTime.t ............................ ok
t/cdbi/sweet/08pager.t .............................. ok
t/count/count_rs.t .................................. ok
t/count/distinct.t .................................. ok
t/count/group_by_func.t ............................. ok
t/count/grouped_pager.t ............................. ok
t/count/in_subquery.t ............................... ok
t/count/joined.t .................................... ok
t/count/prefetch.t .................................. ok
t/count/search_related.t ............................ ok
t/delete/cascade_missing.t .......................... ok
t/delete/complex.t .................................. ok
t/delete/m2m.t ...................................... ok
t/delete/related.t .................................. ok
t/discard_changes_in_DESTROY.t ...................... ok
t/inflate/core.t .................................... ok
t/inflate/datetime.t ................................ ok
t/inflate/datetime_determine_parser.t ............... ok
t/inflate/datetime_firebird.t ....................... skipped: Set $ENV{DBICTEST_FIREBIRD_DSN} and/or $ENV{DBICTEST_FIREBIRD_INTERBASE_DSN} and/or $ENV{DBICTEST_FIREBIRD_ODBC_DSN}, _USER and _PASS to run these tests. WARNING: This test drops and creates a table called 'event'
t/inflate/datetime_informix.t ....................... skipped: Set $ENV{DBICTEST_INFORMIX_DSN} _USER and _PASS to run this test'.
t/inflate/datetime_missing_deps.t ................... ok
t/inflate/datetime_msaccess.t ....................... skipped: Set $ENV{DBICTEST_MSACCESS_ODBC_DSN} and/or $ENV{DBICTEST_MSACCESS_ADO_DSN} (and optionally _USER and _PASS) to run these tests.
t/inflate/datetime_mssql.t .......................... skipped: Set $ENV{DBICTEST_MSSQL_ODBC_DSN} and/or $ENV{DBICTEST_MSSQL_DSN} and/or $ENV{DBICTEST_MSSQL_ADO_DSN} _USER and _PASS to run this test
t/inflate/datetime_mysql.t .......................... ok
t/inflate/datetime_oracle.t ......................... skipped: Set $ENV{DBICTEST_ORA_DSN}, _USER and _PASS to run this test. Warning: This test drops and creates a table called 'event'
t/inflate/datetime_pg.t ............................. ok
t/inflate/datetime_sqlanywhere.t .................... skipped: Set $ENV{DBICTEST_SQLANYWHERE_DSN} and/or $ENV{DBICTEST_SQLANYWHERE_ODBC_DSN}
t/inflate/datetime_sybase.t ......................... skipped: Set $ENV{DBICTEST_SYBASE_DSN}, _USER and _PASS to run this test
t/inflate/file_column.t ............................. ok
t/inflate/hri.t ..................................... ok
t/inflate/hri_torture.t ............................. ok
t/inflate/serialize.t ............................... ok
t/multi_create/cd_single.t .......................... ok
t/multi_create/diamond.t ............................ ok
t/multi_create/existing_in_chain.t .................. ok
t/multi_create/find_or_multicreate.t ................ ok
t/multi_create/has_many.t ........................... ok
t/multi_create/in_memory.t .......................... ok
t/multi_create/insert_defaults.t .................... ok
t/multi_create/m2m.t ................................ ok
t/multi_create/multilev_single_PKeqFK.t ............. ok
t/multi_create/reentrance_count.t ................... skipped: Disable test entirely until multicreate is rewritten in terms of subqueries
t/multi_create/standard.t ........................... ok
t/multi_create/torture.t ............................ ok
t/ordered/cascade_delete.t .......................... ok
t/ordered/unordered_movement.t ...................... ok
t/prefetch/attrs_untouched.t ........................ ok
t/prefetch/correlated.t ............................. ok
t/prefetch/count.t .................................. ok
t/prefetch/diamond.t ................................ ok
t/prefetch/double_prefetch.t ........................ ok
t/prefetch/empty_cache.t ............................ ok
t/prefetch/false_colvalues.t ........................ ok
t/prefetch/grouped.t ................................ ok
t/prefetch/incomplete.t ............................. ok
t/prefetch/join_type.t .............................. ok
t/prefetch/lazy_cursor.t ............................ ok
t/prefetch/manual.t ................................. ok
t/prefetch/multiple_hasmany.t ....................... ok
t/prefetch/multiple_hasmany_torture.t ............... ok
t/prefetch/o2m_o2m_order_by_with_limit.t ............ ok
t/prefetch/one_to_many_to_one.t ..................... ok
t/prefetch/refined_search_on_relation.t ............. ok
t/prefetch/restricted_children_set.t ................ ok
t/prefetch/standard.t ............................... ok
t/prefetch/via_search_related.t ..................... ok
t/prefetch/with_limit.t ............................. ok
t/relationship/after_update.t ....................... ok
t/relationship/core.t ............................... ok
t/relationship/custom.t ............................. ok
t/relationship/custom_opaque.t ...................... ok
t/relationship/custom_with_null_in_cond.t ........... ok
t/relationship/doesnt_exist.t ....................... ok
t/relationship/dynamic_foreign_columns.t ............ ok
t/relationship/info.t ............................... ok
t/relationship/malformed_declaration.t .............. ok
t/relationship/proxy.t .............................. ok
t/relationship/set_column_on_fk.t ................... ok
t/relationship/unresolvable.t ....................... ok
t/relationship/update_or_create_multi.t ............. ok
t/relationship/update_or_create_single.t ............ ok
t/resultset/as_query.t .............................. ok
t/resultset/as_subselect_rs.t ....................... ok
t/resultset/bind_attr.t ............................. ok
t/resultset/find_on_subquery_cond.t ................. ok
t/resultset/inflate_result_api.t .................... ok
t/resultset/inflatemap_abuse.t ...................... ok
t/resultset/is_ordered.t ............................ ok
t/resultset/is_paged.t .............................. ok
t/resultset/nulls_only.t ............................ ok
t/resultset/plus_select.t ........................... ok
t/resultset/rowparser_internals.t ................... ok
t/resultset/update_delete.t ......................... ok
t/resultset_class.t ................................. ok
t/resultset_overload.t .............................. ok
t/resultsource/bare_resultclass_exception.t ......... ok
t/resultsource/set_primary_key.t .................... ok
t/row/copy_with_extra_selection.t ................... ok
t/row/filter_column.t ............................... ok
t/row/find_one_has_many.t ........................... ok
t/row/inflate_result.t .............................. ok
t/row/pkless.t ...................................... ok
t/row/set_extra_column.t ............................ ok
t/schema/anon.t ..................................... ok
t/schema/clone.t .................................... ok
t/search/deprecated_attributes.t .................... ok
t/search/distinct.t ................................. ok
t/search/empty_attrs.t .............................. ok
t/search/preserve_original_rs.t ..................... ok
t/search/reentrancy.t ............................... ok
t/search/related_has_many.t ......................... ok
t/search/related_strip_prefetch.t ................... ok
t/search/select_chains.t ............................ ok
t/search/select_chains_unbalanced.t ................. ok
t/search/stack_cond.t ............................... ok
t/search/subquery.t ................................. ok
t/search/void.t ..................................... ok
t/sqlmaker/bind_transport.t ......................... ok
t/sqlmaker/core.t ................................... ok
t/sqlmaker/core_quoted.t ............................ ok
t/sqlmaker/dbihacks_internals.t ..................... ok
t/sqlmaker/hierarchical/oracle.t .................... ok
t/sqlmaker/legacy_joins.t ........................... ok
t/sqlmaker/limit_dialects/basic.t ................... ok
t/sqlmaker/limit_dialects/custom.t .................. ok
t/sqlmaker/limit_dialects/fetch_first.t ............. ok
t/sqlmaker/limit_dialects/first_skip.t .............. ok
t/sqlmaker/limit_dialects/generic_subq.t ............ ok
t/sqlmaker/limit_dialects/mssql_torture.t ........... ok
t/sqlmaker/limit_dialects/rno.t ..................... ok
t/sqlmaker/limit_dialects/rownum.t .................. ok
t/sqlmaker/limit_dialects/skip_first.t .............. ok
t/sqlmaker/limit_dialects/toplimit.t ................ ok
t/sqlmaker/limit_dialects/torture.t ................. ok
t/sqlmaker/literal_with_bind.t ...................... ok
t/sqlmaker/msaccess.t ............................... ok
t/sqlmaker/mysql.t .................................. ok
t/sqlmaker/nest_deprec.t ............................ ok
t/sqlmaker/oracle.t ................................. ok
t/sqlmaker/oraclejoin.t ............................. ok
t/sqlmaker/order_by_bindtransport.t ................. ok
t/sqlmaker/order_by_func.t .......................... ok
t/sqlmaker/pg.t ..................................... ok
t/sqlmaker/quotes.t ................................. ok
t/sqlmaker/sqlite.t ................................. ok
t/storage/base.t .................................... ok
t/storage/cursor.t .................................. ok
t/storage/dbh_do.t .................................. ok
t/storage/dbi_coderef.t ............................. ok
t/storage/dbi_env.t ................................. ok
t/storage/dbic_pretty.t ............................. ok
t/storage/debug.t ................................... ok
t/storage/deploy.t .................................. ok
t/storage/deprecated_exception_source_bind_attrs.t .. ok
t/storage/disable_sth_caching.t ..................... ok
t/storage/error.t ................................... ok
t/storage/exception.t ............................... ok
t/storage/global_destruction.t ...................... ok
t/storage/nobindvars.t .............................. ok
t/storage/on_connect_call.t ......................... ok
t/storage/on_connect_do.t ........................... ok
t/storage/ping_count.t .............................. ok
t/storage/prefer_stringification.t .................. ok
t/storage/quote_names.t ............................. ok
t/storage/reconnect.t ............................... ok
t/storage/replicated.t .............................. ok
t/storage/savepoints.t .............................. ok
t/storage/stats.t ................................... ok
t/storage/txn.t ..................................... ok
t/storage/txn_scope_guard.t ......................... ok
t/update/all.t ...................................... ok
t/update/ident_cond.t ............................... ok
t/update/type_aware.t ............................... ok
#
#
#
# 208 contributors made this library what it is today
#
#
# Distinguished patrons:
# * ( 2014 ~ 2015 ) Henry Van Styn, creator of http://p3rl.org/RapidApp
#
#
t/zzzzzzz_authors.t ................................. ok
t/zzzzzzz_perl_perf_bug.t ........................... skipped: Skipping RH perl performance bug tests as DBIC_NO_WARN_BAD_PERL set
t/zzzzzzz_sqlite_deadlock.t ......................... skipped: Skipping test on plain module install
All tests successful.
Files=308, Tests=13579, 803 wallclock secs ( 5.76 usr 2.96 sys + 680.38 cusr 58.04 csys = 747.13 CPU)
Result: PASS
------------------------------
PREREQUISITES
------------------------------
Prerequisite modules loaded:
requires:
Module Need Have
------------------------ -------- --------
Class::Accessor::Grouped 0.10012 0.10012
Class::C3::Componentised 1.0009 1.001000
Class::Inspector 1.24 1.28
Config::Any 0.20 0.26
Context::Preserve 0.01 0.01
Data::Dumper::Concise 2.020 2.022
Data::Page 2.00 2.02
DBD::SQLite 1.29 1.50
DBI 1.57 1.634
Devel::GlobalDestruction 0.09 0.13
File::Temp 0.22 0.2304
Hash::Merge 0.12 0.200
List::Util 1.16 1.45
Module::Find 0.07 0.13
Moo 2.000 2.001001
MRO::Compat 0.12 0.12
namespace::clean 0.24 0.27
Package::Stash 0.28 0.37
Path::Class 0.18 0.36
perl 5.008001 5.016003
Scope::Guard 0.03 0.21
SQL::Abstract 1.81 1.81
Sub::Name 0.04 0.13
Test::Deep 0.101 1.120
Test::Exception 0.31 0.43
Test::More 0.94 1.302030
Test::Warn 0.21 0.30
Text::Balanced 2.00 2.03
Try::Tiny 0.07 0.24
build_requires:
Module Need Have
------------------------ -------- --------
DBD::SQLite 1.29 1.50
ExtUtils::MakeMaker 6.59 7.18
File::Temp 0.22 0.2304
Package::Stash 0.28 0.37
Test::Deep 0.101 1.120
Test::Exception 0.31 0.43
Test::More 0.94 1.302030
Test::Warn 0.21 0.30
configure_requires:
Module Need Have
------------------------ -------- --------
ExtUtils::MakeMaker 6.59 7.18
------------------------------
ENVIRONMENT AND OTHER CONTEXT
------------------------------
Environment variables:
LC_ALL = de_DE.ISO8859-1
PATH = /usr/local/bin:/usr/bin:/bin:/usr/local/sbin:/usr/sbin:/sbin:/home/cpansand/bin/freebsd9.3:/home/cpansand/bin/sh:/home/cpansand/bin:/usr/games:/home/cpansand/devel:/usr/home/eserte/src/srezic-misc/scripts
PERL = /usr/perl5.16.3t/bin/perl5.16.3
PERL5LIB = /home/eserte/.cpan/build/2016062018/DBIx-POS-Template-0.022-_4x6bf/blib/arch:/home/eserte/.cpan/build/2016062018/DBIx-POS-Template-0.022-_4x6bf/blib/lib:/home/eserte/.cpan/build/2016062018/Net-Songkick-v1.0.1-Nkbdsz/blib/arch:/home/eserte/.cpan/build/2016062018/Net-Songkick-v1.0.1-Nkbdsz/blib/lib
PERL5OPT =
PERL5_CPANPLUS_IS_RUNNING = 10761
PERL5_CPAN_IS_RUNNING = 10761
PERL5_CPAN_IS_RUNNING_IN_RECURSION = 10709,10761
PERLDOC = -MPod::Perldoc::ToTextOverstrike
PERL_BATCH = yes
PERL_CANARY_STABILITY_NOPROMPT = 1
PERL_CPAN_REPORTER_CONFIG = /var/tmp/cpansmoker-1023/2016062018/cpanreporter_000_config.ini
PERL_EXTUTILS_AUTOINSTALL = --defaultdeps
SHELL = /usr/local/bin/zsh
TERM = screen
TMPDIR = /var/tmp/cpansmoker-1023/2016062018
Perl special variables (and OS-specific diagnostics, for MSWin32):
$^X = /usr/perl5.16.3t/bin/perl5.16.3
$UID/$EUID = 1023 / 1023
$GID = 1023 1023
$EGID = 1023 1023
Perl module toolchain versions installed:
Module Have
------------------- --------
CPAN 1.9800
CPAN::Meta 2.150005
Cwd 3.62
ExtUtils::CBuilder 0.280224
ExtUtils::Command 7.18
ExtUtils::Install 1.68
ExtUtils::MakeMaker 7.18
ExtUtils::Manifest 1.70
ExtUtils::ParseXS 3.30
File::Spec 3.62
JSON 2.90
JSON::PP 2.27300
Module::Build 0.4218
Module::Signature 0.80
Parse::CPAN::Meta 1.4417
Test::Harness 3.36
Test::More 1.302030
YAML 1.15
YAML::Syck 1.29
version 0.9916
--
Summary of my perl5 (revision 5 version 16 subversion 3) configuration:
Platform:
osname=freebsd, osvers=9.2-release-p4, archname=amd64-freebsd-thread-multi
uname='freebsd cvrsnica-freebsd-92 9.2-release-p4 freebsd 9.2-release-p4 #0: tue apr 8 18:08:22 utc 2014 root@amd64-builder.daemonology.net:usrobjusrsrcsysgeneric amd64 '
config_args='-ds -e -Dprefix=/usr/perl5.16.3t -Dusethreads'
hint=recommended, useposix=true, d_sigaction=define
useithreads=define, usemultiplicity=define
useperlio=define, d_sfio=undef, uselargefiles=define, usesocks=undef
use64bitint=define, use64bitall=define, uselongdouble=undef
usemymalloc=n, bincompat5005=undef
Compiler:
cc='cc', ccflags ='-DHAS_FPSETMASK -DHAS_FLOATINGPOINT_H -fno-strict-aliasing -pipe -fstack-protector -I/usr/local/include',
optimize='-O',
cppflags='-DHAS_FPSETMASK -DHAS_FLOATINGPOINT_H -fno-strict-aliasing -pipe -fstack-protector -I/usr/local/include'
ccversion='', gccversion='4.2.1 20070831 patched [FreeBSD]', gccosandvers=''
intsize=4, longsize=8, ptrsize=8, doublesize=8, byteorder=12345678
d_longlong=define, longlongsize=8, d_longdbl=define, longdblsize=16
ivtype='long', ivsize=8, nvtype='double', nvsize=8, Off_t='off_t', lseeksize=8
alignbytes=8, prototype=define
Linker and Libraries:
ld='cc', ldflags ='-pthread -Wl,-E -fstack-protector -L/usr/local/lib'
libpth=/usr/lib /usr/local/lib
libs=-lgdbm -lm -lcrypt
perllibs=-lm -lcrypt
libc=, so=so, useshrplib=false, libperl=libperl.a
gnulibc_version=''
Dynamic Linking:
dlsrc=dl_dlopen.xs, dlext=so, d_dlsymun=undef, ccdlflags=' '
cccdlflags='-DPIC -fPIC', lddlflags='-shared -L/usr/local/lib -fstack-protector'
Characteristics of this binary (from libperl):
Compile-time options: HAS_TIMES MULTIPLICITY PERLIO_LAYERS
PERL_DONT_CREATE_GVSV PERL_IMPLICIT_CONTEXT
PERL_MALLOC_WRAP PERL_PRESERVE_IVUV USE_64_BIT_ALL
USE_64_BIT_INT USE_ITHREADS USE_LARGE_FILES
USE_LOCALE USE_LOCALE_COLLATE USE_LOCALE_CTYPE
USE_LOCALE_NUMERIC USE_PERLIO USE_PERL_ATOF
USE_REENTRANT_API
Built under freebsd
Compiled at May 16 2014 07:49:48
%ENV:
PERL="/usr/perl5.16.3t/bin/perl5.16.3"
PERL5LIB="/home/eserte/.cpan/build/2016062018/DBIx-POS-Template-0.022-_4x6bf/blib/arch:/home/eserte/.cpan/build/2016062018/DBIx-POS-Template-0.022-_4x6bf/blib/lib:/home/eserte/.cpan/build/2016062018/Net-Songkick-v1.0.1-Nkbdsz/blib/arch:/home/eserte/.cpan/build/2016062018/Net-Songkick-v1.0.1-Nkbdsz/blib/lib"
PERL5OPT=""
PERL5_CPANPLUS_IS_RUNNING="10761"
PERL5_CPAN_IS_RUNNING="10761"
PERL5_CPAN_IS_RUNNING_IN_RECURSION="10709,10761"
PERLDOC="-MPod::Perldoc::ToTextOverstrike"
PERL_BATCH="yes"
PERL_CANARY_STABILITY_NOPROMPT="1"
PERL_CPAN_REPORTER_CONFIG="/var/tmp/cpansmoker-1023/2016062018/cpanreporter_000_config.ini"
PERL_EXTUTILS_AUTOINSTALL="--defaultdeps"
@INC:
/home/eserte/.cpan/build/2016062018/DBIx-POS-Template-0.022-_4x6bf/blib/arch
/home/eserte/.cpan/build/2016062018/DBIx-POS-Template-0.022-_4x6bf/blib/lib
/home/eserte/.cpan/build/2016062018/Net-Songkick-v1.0.1-Nkbdsz/blib/arch
/home/eserte/.cpan/build/2016062018/Net-Songkick-v1.0.1-Nkbdsz/blib/lib
/usr/perl5.16.3t/lib/site_perl/5.16.3/amd64-freebsd-thread-multi
/usr/perl5.16.3t/lib/site_perl/5.16.3
/usr/perl5.16.3t/lib/5.16.3/amd64-freebsd-thread-multi
/usr/perl5.16.3t/lib/5.16.3
.