Lab-Measurement v3.901 Perl 5 v5.34.1 amd64-freebsd-ld

Status
Pass
From
Slaven Rezić
Dist
Lab-Measurement v3.901
Platform
Perl 5 v5.34.1 amd64-freebsd-ld
Date
2023-10-19 17:09:18
ID
3d13bf80-6ea2-11ee-aeaa-d73d6e8775ea
This distribution has been tested as part of the CPAN Testers
project, supporting the Perl programming language.  See
http://wiki.cpantesters.org/ for more information or email
questions to cpan-testers-discuss@perl.org


--
Dear Andreas K. Huettel,

This is a computer-generated report for Lab-Measurement-3.901
on perl 5.34.1, created by CPAN-Reporter-1.2018.

Thank you for uploading your work to CPAN.  Congratulations!
All tests were successful.

Sections of this report:

    * Tester comments
    * Program output
    * Prerequisites
    * Environment and other context

------------------------------
TESTER COMMENTS
------------------------------

Additional comments from tester:

none provided

------------------------------
PROGRAM OUTPUT
------------------------------

Output from '/usr/bin/make test':

PERL_DL_NONLAZY=1 "/usr/perl5.34.1Dp/bin/perl" "-MExtUtils::Command::MM" "-MTest::Harness" "-e" "undef *Test::Harness::Switches; test_harness(0, 'blib/lib', 'blib/arch')" t/*.t t/Lab/Test/*.t t/Moose/*.t t/Moose/Connection/*.t t/Moose/DataFile/*.t t/Moose/DataFile/Gnuplot/*.t t/Moose/Instrument/*.t t/Moose/Instrument/OI_Mercury/*.t
# checking installed modules
# not using LinuxGpib
# not using PDL::Graphics::Gnuplot
# not using Lab::VISA
# not using USB::TMC
# using PDL::IO::CSV
# not using Lab::Zhinst
While trying to resolve method call Math::Round->can() can not locate package "AutoLoader" yet it is mentioned in @Math::Round::ISA (perhaps you forgot to load "AutoLoader"?) at /usr/perl5.34.1Dp/lib/5.34.1/Module/Load.pm line 92.
# using Math::Round
# not using Lab::VXI11
# not using sys/ioctl.ph
# not using linux/usb/tmc.ph
# trying to load Lab/Moose.pm ...
# trying to load Lab/Moose/DataFile.pm ...
# trying to load Lab/Moose/Catfile.pm ...
# trying to load Lab/Moose/Connection.pm ...
# trying to load Lab/Moose/DataFolder.pm ...
# trying to load Lab/Moose/Instrument.pm ...
# trying to load Lab/Moose/Stabilizer.pm ...
# trying to load Lab/Moose/Countdown.pm ...
# trying to load Lab/Moose/Sweep.pm ...
# trying to load Lab/Moose/DataFile/Read.pm ...
# trying to load Lab/Moose/DataFile/Meta.pm ...
# trying to load Lab/Moose/DataFile/Gnuplot/Compressed.pm ...
# trying to load Lab/Moose/Sweep/Continuous.pm ...
# trying to load Lab/Moose/Sweep/Step.pm ...
# trying to load Lab/Moose/Sweep/DataFile.pm ...
# trying to load Lab/Moose/Sweep/Step/Voltage.pm ...
# trying to load Lab/Moose/Sweep/Step/Pulsewidth.pm ...
# trying to load Lab/Moose/Sweep/Step/Frequency.pm ...
# trying to load Lab/Moose/Sweep/Step/Phase.pm ...
# trying to load Lab/Moose/Sweep/Step/Pulsedelay.pm ...
# trying to load Lab/Moose/Sweep/Step/Repeat.pm ...
# trying to load Lab/Moose/Sweep/Step/Temperature.pm ...
# trying to load Lab/Moose/Sweep/Step/Magnet.pm ...
# trying to load Lab/Moose/Sweep/Step/Power.pm ...
# trying to load Lab/Moose/Sweep/Continuous/Magnet.pm ...
# trying to load Lab/Moose/Sweep/Continuous/Time.pm ...
# trying to load Lab/Moose/Sweep/Continuous/Voltage.pm ...
# trying to load Lab/Moose/Instrument/SR830.pm ...
# trying to load Lab/Moose/Instrument/Agilent33210A.pm ...
# trying to load Lab/Moose/Instrument/AdjustRange.pm ...
# trying to load Lab/Moose/Instrument/Lakeshore372.pm ...
# trying to load Lab/Moose/Instrument/DummySource.pm ...
# trying to load Lab/Moose/Instrument/ZI_HF2LI.pm ...
# trying to load Lab/Moose/Instrument/KeysightE3633E.pm ...
# trying to load Lab/Moose/Instrument/HP83732A.pm ...
# trying to load Lab/Moose/Instrument/AH2700A.pm ...
# trying to load Lab/Moose/Instrument/HP34410A.pm ...
# trying to load Lab/Moose/Instrument/AMI_430.pm ...
# trying to load Lab/Moose/Instrument/RS_FSV.pm ...
# trying to load Lab/Moose/Instrument/ABB_TRMC2.pm ...
The ABB_TRMC2 driver is untested so far. Feedback welcome... at t/00-load.t line 118.
# trying to load Lab/Moose/Instrument/TBS1000C.pm ...
# trying to load Lab/Moose/Instrument/Keithley2450.pm ...
# trying to load Lab/Moose/Instrument/KeysightDSOS604A.pm ...
# trying to load Lab/Moose/Instrument/ZI_HDAWG.pm ...
# trying to load Lab/Moose/Instrument/KeysightB2901A.pm ...
# trying to load Lab/Moose/Instrument/OI_IPS.pm ...
# trying to load Lab/Moose/Instrument/Keysight33600.pm ...
# trying to load Lab/Moose/Instrument/Common.pm ...
# trying to load Lab/Moose/Instrument/Cache.pm ...
# trying to load Lab/Moose/Instrument/OI_ITC503.pm ...
# trying to load Lab/Moose/Instrument/Log.pm ...
# trying to load Lab/Moose/Instrument/RS_ZVM.pm ...
# trying to load Lab/Moose/Instrument/Agilent34410A.pm ...
# trying to load Lab/Moose/Instrument/OI_Common.pm ...
# trying to load Lab/Moose/Instrument/SignalRecovery7265.pm ...
Useless use of multiplication (*) in void context at /usr/home/cpansand/.cpan/build/2023101917/Lab-Measurement-3.901-1/blib/lib/Lab/Moose/Instrument/SignalRecovery7265.pm line 1201.
# trying to load Lab/Moose/Instrument/Yokogawa7651.pm ...
# trying to load Lab/Moose/Instrument/RS_SMB.pm ...
# trying to load Lab/Moose/Instrument/HP34420A.pm ...
# trying to load Lab/Moose/Instrument/RS_ZNL.pm ...
# trying to load Lab/Moose/Instrument/Lakeshore350.pm ...
# trying to load Lab/Moose/Instrument/LinearStepSweep.pm ...
# trying to load Lab/Moose/Instrument/HP33120A.pm ...
# trying to load Lab/Moose/Instrument/Rigol_DG5000.pm ...
# trying to load Lab/Moose/Instrument/VNASweep.pm ...
# trying to load Lab/Moose/Instrument/Keysight34470A.pm ...
# trying to load Lab/Moose/Instrument/ZI_MFIA.pm ...
# trying to load Lab/Moose/Instrument/Agilent34460A.pm ...
# trying to load Lab/Moose/Instrument/YokogawaGS200.pm ...
# trying to load Lab/Moose/Instrument/Bluefors_Temp.pm ...
# trying to load Lab/Moose/Instrument/Lakeshore340.pm ...
# trying to load Lab/Moose/Instrument/RS_RTB2000.pm ...
# trying to load Lab/Moose/Instrument/Synctek_MCL1_540.pm ...
# trying to load Lab/Moose/Instrument/KeysightN9310A.pm ...
# trying to load Lab/Moose/Instrument/HP3458A.pm ...
# trying to load Lab/Moose/Instrument/NanonisTramea.pm ...
# trying to load Lab/Moose/Instrument/Agilent33120A.pm ...
# trying to load Lab/Moose/Instrument/OI_ILM210.pm ...
# trying to load Lab/Moose/Instrument/SCPIBlock.pm ...
# trying to load Lab/Moose/Instrument/Keithley2000.pm ...
# trying to load Lab/Moose/Instrument/ZI_MFLI.pm ...
# trying to load Lab/Moose/Instrument/ProStep4.pm ...
# trying to load Lab/Moose/Instrument/OI_Triton.pm ...
# trying to load Lab/Moose/Instrument/Keithley2400.pm ...
# trying to load Lab/Moose/Instrument/Cryomagnetics_4G.pm ...
# trying to load Lab/Moose/Instrument/RS_ZVA.pm ...
# trying to load Lab/Moose/Instrument/OI_IPS/Strunk_3He.pm ...
# trying to load Lab/Moose/Instrument/OI_Mercury/Magnet.pm ...
# trying to load Lab/Moose/Instrument/Lakeshore340/Helium3.pm ...
# trying to load Lab/Moose/Instrument/SCPI/Instrument.pm ...
# trying to load Lab/Moose/Instrument/SCPI/Initiate.pm ...
# trying to load Lab/Moose/Instrument/SCPI/Format.pm ...
# trying to load Lab/Moose/Instrument/SCPI/Unit.pm ...
# trying to load Lab/Moose/Instrument/SCPI/Sense/Bandwidth.pm ...
# trying to load Lab/Moose/Instrument/SCPI/Sense/Impedance.pm ...
# trying to load Lab/Moose/Instrument/SCPI/Sense/Function.pm ...
# trying to load Lab/Moose/Instrument/SCPI/Sense/Range.pm ...
# trying to load Lab/Moose/Instrument/SCPI/Sense/Null.pm ...
# trying to load Lab/Moose/Instrument/SCPI/Sense/Protection.pm ...
# trying to load Lab/Moose/Instrument/SCPI/Sense/NPLC.pm ...
# trying to load Lab/Moose/Instrument/SCPI/Sense/Average.pm ...
# trying to load Lab/Moose/Instrument/SCPI/Sense/Frequency.pm ...
# trying to load Lab/Moose/Instrument/SCPI/Sense/Sweep.pm ...
# trying to load Lab/Moose/Instrument/SCPI/Sense/Power.pm ...
# trying to load Lab/Moose/Instrument/SCPI/Sense/Function/Concurrent.pm ...
# trying to load Lab/Moose/Instrument/SCPI/Source/Power.pm ...
# trying to load Lab/Moose/Instrument/SCPI/Source/Level.pm ...
# trying to load Lab/Moose/Instrument/SCPI/Source/Range.pm ...
# trying to load Lab/Moose/Instrument/SCPI/Source/Function.pm ...
# trying to load Lab/Moose/Instrument/SCPI/Display/Window.pm ...
# trying to load Lab/Moose/Instrument/SCPI/Output/State.pm ...
# trying to load Lab/Moose/Connection/WWW.pm ...
# trying to load Lab/Moose/Connection/Mock.pm ...
# trying to load Lab/Moose/Connection/Socket.pm ...
# trying to load Lab/Moose/Connection/Debug.pm ...
# trying to load Lab/Moose/Connection/HTTP.pm ...
# trying to load Lab/Moose/Connection/IsoBus.pm ...
t/00-load.t ............................. ok
# 
# Versions for all modules listed in MYMETA.json (including optional ones):
# 
# === Configure Requires ===
# 
#     Module              Want Have
#     ------------------- ---- ----
#     ExtUtils::MakeMaker  any 7.70
# 
# === Build Requires ===
# 
#     Module              Want Have
#     ------------------- ---- ----
#     ExtUtils::MakeMaker  any 7.70
# 
# === Test Requires ===
# 
#     Module                      Want     Have
#     ----------------------- -------- --------
#     ExtUtils::MakeMaker          any     7.70
#     File::Find                   any     1.39
#     File::Glob                   any     1.33
#     File::Slurper                any    0.013
#     File::Spec                   any     3.80
#     File::Spec::Functions        any     3.80
#     File::Temp                   any   0.2311
#     Getopt::Long                 any     2.54
#     IO::Uncompress::Bunzip2      any    2.204
#     PDL::Ufunc                   any    undef
#     Test::Builder::Module        any 1.302195
#     Test::Fatal                  any    0.017
#     Test::File                   any    1.993
#     Test::More              1.001014 1.302195
#     Test::Tester                 any 1.302195
#     Text::Diff                   any     1.45
#     aliased                      any     0.34
#     lib                          any     0.65
#     parent                       any    0.238
# 
# === Test Recommends ===
# 
#     Module         Want     Have
#     ---------- -------- --------
#     CPAN::Meta 2.120900 2.150010
# 
# === Runtime Requires ===
# 
#     Module                           Want     Have
#     ---------------------------- -------- --------
#     Carp                              any     1.52
#     Class::Method::Modifiers         2.11     2.14
#     Clone                            0.31     0.46
#     Data::Dumper                      any    2.183
#     DateTime                          any     1.59
#     Encode                            any     3.19
#     Exception::Class                  1.0     1.45
#     Exporter                          any     5.77
#     Fcntl                             any     1.14
#     File::Basename                    any     2.85
#     File::Copy                        any     2.35
#     File::Path                        any     2.18
#     HTTP::Request                     any     6.44
#     IO::Handle                        any     1.51
#     IO::Select                        any     1.51
#     IO::Socket::INET                  any     1.51
#     JSON                              any     4.10
#     LWP::Simple                       any     6.72
#     LWP::UserAgent                    any     6.72
#     List::MoreUtils                   any    0.430
#     List::Util                        any     1.63
#     Math::Round                       any     0.07
#     Module::Load                     0.26     0.36
#     Moose                          2.1213   2.2206
#     Moose::Role                       any   2.2206
#     Moose::Util::TypeConstraints      any   2.2206
#     MooseX::Params::Validate         0.18     0.21
#     MooseX::StrictConstructor         any     0.21
#     Net::RFC3161::Timestamp           any    0.020
#     PDL                             2.007    2.081
#     PDL::Core                         any    2.028
#     PDL::IO::CSV                      any    0.011
#     PDL::NiceSlice                    any    1.001
#     POSIX                             any     1.97
#     Role::Tiny                   1.003004 2.002004
#     Scalar::Util                      any     1.63
#     Socket                            any    2.037
#     Statistics::Descriptive           any   3.0800
#     Sys::Hostname                     any     1.23
#     Term::ReadKey                    2.30     2.38
#     Test::More                   1.001014 1.302195
#     Time::HiRes                       any   1.9767
#     Time::Seconds                     any   1.3401
#     Try::Tiny                        0.22     0.31
#     YAML::XS                         0.41     0.88
#     constant                          any     1.33
#     integer                           any     1.01
#     namespace::autoclean             0.20     0.29
#     strict                            any     1.12
#     utf8                              any     1.24
#     warnings                          any     1.51
# 
t/00-report-prereqs.t ................... ok
t/Dataset.t ............................. skipped: known to fail
t/Lab/Test/test.t ....................... ok
t/Meta.t ................................ skipped: known to fail
t/Moose/Connection/Socket.t ............. ok
t/Moose/DataFile/Gnuplot.t .............. skipped: test requires PDL::Graphics::Gnuplot
t/Moose/DataFile/Gnuplot/Compressed.t ... ok
t/Moose/DataFile/Read.t ................. ok
t/Moose/DataFolder.t .................... ok
Use of uninitialized value in string ne at /usr/home/cpansand/.cpan/build/2023101917/Lab-Measurement-3.901-1/blib/lib/Lab/Moose/Instrument.pm line 141.
t/Moose/Instrument/base.t ............... ok
t/Moose/Instrument/DummySource.t ........ ok
t/Moose/Instrument/HP34410A.t ........... ok
t/Moose/Instrument/HP34420A.t ........... ok
t/Moose/Instrument/HP8596E.t ............ skipped: test requires PDL::Graphics::Gnuplot
t/Moose/Instrument/HPE4400B.t ........... skipped: test requires PDL::Graphics::Gnuplot
t/Moose/Instrument/Keithley2400.t ....... ok
t/Moose/Instrument/KeysightB2901A.t ..... ok
t/Moose/Instrument/OI_Mercury/Magnet.t .. ok
t/Moose/Instrument/Rigol_DSA815.t ....... skipped: test requires PDL::Graphics::Gnuplot
setting data format: REAL, 32 at /usr/home/cpansand/.cpan/build/2023101917/Lab-Measurement-3.901-1/blib/lib/Lab/Moose/Instrument/RS_FSV.pm line 66.
t/Moose/Instrument/RS_FSV.t ............. ok
t/Moose/Instrument/RS_SMB.t ............. ok
setting data format: REAL, 32 at /usr/home/cpansand/.cpan/build/2023101917/Lab-Measurement-3.901-1/blib/lib/Lab/Moose/Instrument/VNASweep.pm line 119.
t/Moose/Instrument/RS_ZVA.t ............. ok
setting data format: REAL, 32 at /usr/home/cpansand/.cpan/build/2023101917/Lab-Measurement-3.901-1/blib/lib/Lab/Moose/Instrument/VNASweep.pm line 119.
t/Moose/Instrument/RS_ZVM.t ............. ok
t/Moose/Instrument/SR830.t .............. ok
t/Moose/Instrument/YokogawaGS200.t ...... ok
t/Moose/Instrument/ZI_MFIA.t ............ ok
t/Moose/Instrument/ZI_MFLI.t ............ ok
Name "PDL::Graphics::Gnuplot::gp_version" used only once: possible typo at t/Moose/Plot.t line 30.
t/Moose/Plot.t .......................... skipped: test requires PDL::Graphics::Gnuplot
t/Moose/Stabilizer.t .................... ok
t/Moose/Sweep-Continuous-Time.t ......... ok
Going to sweep start:
Setpoint: 0
Rate: 2
 at t/Moose/Sweep-Continuous-Voltage.t line 77.
Starting sweep
Setpoint: 10.5
Rate: 2
 at t/Moose/Sweep-Continuous-Voltage.t line 77.
Starting sweep
Setpoint: 0
Rate: 5
 at t/Moose/Sweep-Continuous-Voltage.t line 77.
t/Moose/Sweep-Continuous-Voltage.t ...... ok
t/Moose/Sweep-Plot.t .................... skipped: test requires PDL::Graphics::Gnuplot
dir: /var/tmp/cpansmoker-1023/2023101917/l0_FbQLzMP/sweep
t/Moose/Sweep.t ......................... ok
All tests successful.
Files=34, Tests=590, 36 wallclock secs ( 0.11 usr  0.09 sys + 12.05 cusr  1.08 csys = 13.32 CPU)
Result: PASS

------------------------------
PREREQUISITES
------------------------------

Prerequisite modules loaded:

requires:

    Module                       Need     Have    
    ---------------------------- -------- --------
    Carp                         0        1.52    
    Class::Method::Modifiers     2.11     2.14    
    Clone                        0.31     0.46    
    constant                     0        1.33    
    Data::Dumper                 0        2.183   
    DateTime                     0        1.59    
    Encode                       0        3.19    
    Exception::Class             1.0      1.45    
    Exporter                     0        5.77    
    Fcntl                        0        1.14    
    File::Basename               0        2.85    
    File::Copy                   0        2.35    
    File::Path                   0        2.18    
    HTTP::Request                0        6.44    
    integer                      0        1.01    
    IO::Handle                   0        1.51    
    IO::Select                   0        1.51    
    IO::Socket::INET             0        1.51    
    JSON                         0        4.10    
    List::MoreUtils              0        0.430   
    List::Util                   0        1.63    
    LWP::Simple                  0        6.72    
    LWP::UserAgent               0        6.72    
    Math::Round                  0        0.07    
    Module::Load                 0.26     0.36    
    Moose                        2.1213   2.2206  
    Moose::Role                  0        2.2206  
    Moose::Util::TypeConstraints 0        2.2206  
    MooseX::Params::Validate     0.18     0.21    
    MooseX::StrictConstructor    0        0.21    
    namespace::autoclean         0.20     0.29    
    Net::RFC3161::Timestamp      0        0.020   
    PDL                          2.007    2.081   
    PDL::Core                    0        2.028   
    PDL::IO::CSV                 0        0.011   
    PDL::NiceSlice               0        1.001   
    perl                         5.020000 5.034001
    POSIX                        0        1.97    
    Role::Tiny                   1.003004 2.002004
    Scalar::Util                 0        1.63    
    Socket                       0        2.037   
    Statistics::Descriptive      0        3.0800  
    strict                       0        1.12    
    Sys::Hostname                0        1.23    
    Term::ReadKey                2.30     2.38    
    Test::More                   1.001014 1.302195
    Time::HiRes                  0        1.9767  
    Time::Seconds                0        1.3401  
    Try::Tiny                    0.22     0.31    
    utf8                         0        1.24    
    warnings                     0        1.51    
    YAML::XS                     0.41     0.88    

build_requires:

    Module                       Need     Have    
    ---------------------------- -------- --------
    aliased                      0        0.34    
    ExtUtils::MakeMaker          0        7.70    
    File::Find                   0        1.39    
    File::Glob                   0        1.33    
    File::Slurper                0        0.013   
    File::Spec                   0        3.80    
    File::Spec::Functions        0        3.80    
    File::Temp                   0        0.2311  
    Getopt::Long                 0        2.54    
    IO::Uncompress::Bunzip2      0        2.204   
    lib                          0        0.65    
    parent                       0        0.238   
    PDL::Ufunc                   0        0       
    Test::Builder::Module        0        1.302195
    Test::Fatal                  0        0.017   
    Test::File                   0        1.993   
    Test::More                   1.001014 1.302195
    Test::Tester                 0        1.302195
    Text::Diff                   0        1.45    

configure_requires:

    Module                       Need     Have    
    ---------------------------- -------- --------
    ExtUtils::MakeMaker          0        7.70    


------------------------------
ENVIRONMENT AND OTHER CONTEXT
------------------------------

Environment variables:

    PATH = /usr/local/bin:/usr/bin:/bin:/usr/local/sbin:/usr/sbin:/sbin:/home/cpansand/bin/sh:/home/cpansand/bin:/usr/games:/home/cpansand/devel:/usr/home/eserte/src/srezic-misc/scripts
    PERL5LIB = 
    PERL5OPT = 
    PERL5_CPANPLUS_IS_RUNNING = 12888
    PERL5_CPAN_IS_RUNNING = 12888
    PERL5_CPAN_IS_RUNNING_IN_RECURSION = 12294,12888
    PERL_BATCH = yes
    PERL_CANARY_STABILITY_NOPROMPT = 1
    PERL_CPAN_REPORTER_CONFIG = /var/tmp/cpansmoker-1023/2023101917/cpanreporter_000_config.ini
    PERL_EXTUTILS_AUTOINSTALL = --defaultdeps
    PERL_USE_UNSAFE_INC = 1
    SHELL = /bin/sh
    TMPDIR = /var/tmp/cpansmoker-1023/2023101917

Perl special variables (and OS-specific diagnostics, for MSWin32):

    $^X = /usr/perl5.34.1Dp/bin/perl
    $UID/$EUID = 1023 / 1023
    $GID = 1023 1023
    $EGID = 1023 1023

Perl module toolchain versions installed:

    Module              Have    
    ------------------- --------
    CPAN                2.36    
    CPAN::Meta          2.150010
    Cwd                 3.80    
    ExtUtils::CBuilder  0.280236
    ExtUtils::Command   7.70    
    ExtUtils::Install   2.20    
    ExtUtils::MakeMaker 7.70    
    ExtUtils::Manifest  1.73    
    ExtUtils::ParseXS   3.51    
    File::Spec          3.80    
    JSON                4.10    
    JSON::PP            4.15    
    Module::Build       0.4234  
    Module::Signature   0.88    
    Parse::CPAN::Meta   2.150010
    Test::Harness       3.47    
    Test::More          1.302195
    YAML                1.30    
    YAML::Syck          1.34    
    version             0.9929  


--

Summary of my perl5 (revision 5 version 34 subversion 1) configuration:
   
  Platform:
    osname=freebsd
    osvers=13.1-stable
    archname=amd64-freebsd-ld
    uname='freebsd cloud10.bbbike.org 13.1-stable freebsd 13.1-stable #9 stable13-n250044-4a11315a2c3f: sat mar 19 11:19:46 utc 2022 root@cloud10.bbbike.org:usrobjusrhomeprojectsfreebsdamd64.amd64sysgeneric amd64 '
    config_args='-ds -e -Dprefix=/usr/perl5.34.1Dp -Duselongdouble -Dcf_email=srezic@cpan.org -Doptimize=-O2 -pipe'
    hint=recommended
    useposix=true
    d_sigaction=define
    useithreads=undef
    usemultiplicity=undef
    use64bitint=define
    use64bitall=define
    uselongdouble=define
    usemymalloc=n
    default_inc_excludes_dot=define
  Compiler:
    cc='cc'
    ccflags ='-DHAS_FPSETMASK -DHAS_FLOATINGPOINT_H -fno-strict-aliasing -pipe -fstack-protector-strong -I/usr/local/include'
    optimize='-O2 -pipe'
    cppflags='-DHAS_FPSETMASK -DHAS_FLOATINGPOINT_H -fno-strict-aliasing -pipe -fstack-protector-strong -I/usr/local/include'
    ccversion=''
    gccversion='FreeBSD Clang 13.0.0 (git@github.com:llvm/llvm-project.git llvmorg-13.0.0-0-gd7b669b3a303)'
    gccosandvers=''
    intsize=4
    longsize=8
    ptrsize=8
    doublesize=8
    byteorder=12345678
    doublekind=3
    d_longlong=define
    longlongsize=8
    d_longdbl=define
    longdblsize=16
    longdblkind=3
    ivtype='long'
    ivsize=8
    nvtype='long double'
    nvsize=16
    Off_t='off_t'
    lseeksize=8
    alignbytes=16
    prototype=define
  Linker and Libraries:
    ld='cc'
    ldflags ='-pthread -Wl,-E  -fstack-protector-strong -L/usr/local/lib'
    libpth=/usr/lib /usr/local/lib /usr/lib/clang/13.0.0/lib
    libs=-lpthread -lgdbm -ldl -lm -lcrypt -lutil -lc
    perllibs=-lpthread -ldl -lm -lcrypt -lutil -lc
    libc=
    so=so
    useshrplib=false
    libperl=libperl.a
    gnulibc_version=''
  Dynamic Linking:
    dlsrc=dl_dlopen.xs
    dlext=so
    d_dlsymun=undef
    ccdlflags=' '
    cccdlflags='-DPIC -fPIC'
    lddlflags='-shared  -L/usr/local/lib -fstack-protector-strong'


Characteristics of this binary (from libperl): 
  Compile-time options:
    HAS_TIMES
    PERLIO_LAYERS
    PERL_COPY_ON_WRITE
    PERL_DONT_CREATE_GVSV
    PERL_MALLOC_WRAP
    PERL_OP_PARENT
    PERL_PRESERVE_IVUV
    USE_64_BIT_ALL
    USE_64_BIT_INT
    USE_LARGE_FILES
    USE_LOCALE
    USE_LOCALE_COLLATE
    USE_LOCALE_CTYPE
    USE_LOCALE_NUMERIC
    USE_LOCALE_TIME
    USE_LONG_DOUBLE
    USE_PERLIO
    USE_PERL_ATOF
  Built under freebsd
  Compiled at Mar 25 2022 22:31:21
  %ENV:
    PERL5LIB=""
    PERL5OPT=""
    PERL5_CPANPLUS_IS_RUNNING="12888"
    PERL5_CPAN_IS_RUNNING="12888"
    PERL5_CPAN_IS_RUNNING_IN_RECURSION="12294,12888"
    PERL_BATCH="yes"
    PERL_CANARY_STABILITY_NOPROMPT="1"
    PERL_CPAN_REPORTER_CONFIG="/var/tmp/cpansmoker-1023/2023101917/cpanreporter_000_config.ini"
    PERL_EXTUTILS_AUTOINSTALL="--defaultdeps"
    PERL_USE_UNSAFE_INC="1"
  @INC:
    /usr/perl5.34.1Dp/lib/site_perl/5.34.1/amd64-freebsd-ld
    /usr/perl5.34.1Dp/lib/site_perl/5.34.1
    /usr/perl5.34.1Dp/lib/5.34.1/amd64-freebsd-ld
    /usr/perl5.34.1Dp/lib/5.34.1
    .