Report for MooseX-SimpleConfig-0.11

Back
From: metabase:user:30f4dfbe-2aae-11df-837a-5e0a49663a4f
Subject: PASS MooseX-SimpleConfig-0.11 v5.10.1 FreeBSD
Date: 2015-11-16T12:19:09Z

This distribution has been tested as part of the CPAN Testers
project, supporting the Perl programming language.  See
http://wiki.cpantesters.org/ for more information or email
questions to cpan-testers-discuss@perl.org


--
Dear Karen Etheridge,

This is a computer-generated report for MooseX-SimpleConfig-0.11
on perl 5.10.1, created by CPAN-Reporter-1.2015.

Thank you for uploading your work to CPAN.  Congratulations!
All tests were successful.

Sections of this report:

    * Tester comments
    * Program output
    * Prerequisites
    * Environment and other context

------------------------------
TESTER COMMENTS
------------------------------

Additional comments from tester:

this report is from an automated smoke testing program
and was not reviewed by a human for accuracy

------------------------------
PROGRAM OUTPUT
------------------------------

Output from './Build test':

# 
# Versions for all modules listed in MYMETA.json (including optional ones):
# 
# === Configure Requires ===
# 
#     Module               Want  Have
#     ------------------- ----- -----
#     Module::Build::Tiny 0.039 0.039
# 
# === Test Requires ===
# 
#     Module                Want     Have
#     --------------------- ---- --------
#     ExtUtils::MakeMaker    any     7.10
#     File::Spec             any     3.47
#     File::Spec::Functions  any     3.47
#     File::Temp             any   0.2304
#     Moose                  any   2.1210
#     Test::Fatal            any    0.013
#     Test::More            0.88 1.001014
#     lib                    any     0.62
#     strict                 any     1.04
#     warnings               any     1.06
# 
# === Test Recommends ===
# 
#     Module         Want     Have
#     ---------- -------- --------
#     CPAN::Meta 2.120900 2.150005
# 
# === Runtime Requires ===
# 
#     Module                 Want   Have
#     ---------------------- ---- ------
#     Config::Any            0.13   0.26
#     Moose::Role             any 2.1210
#     MooseX::ConfigFromFile  any   0.14
# 
# === Other Modules ===
# 
#     Module               Want Have
#     -------------------- ---- ----
#     Dist::CheckConflicts  any 0.11
# 
t/00-report-prereqs.t .. ok
t/01use.t .............. ok
t/10simple.t ........... ok
t/11default.t .......... ok
t/12config_any_args.t .. ok
t/multiple.t ........... ok
t/zzz-check-breaks.t ... ok
All tests successful.
Files=7, Tests=31, 35 wallclock secs ( 0.37 usr  0.12 sys + 26.34 cusr  4.80 csys = 31.63 CPU)
Result: PASS

------------------------------
PREREQUISITES
------------------------------

Prerequisite modules loaded:

requires:

    Module                 Need  Have    
    ---------------------- ----- --------
    Config::Any            0.13  0.26    
    Moose::Role            0     2.1210  
    MooseX::ConfigFromFile 0     0.14    
    perl                   5.006 5.010001

build_requires:

    Module                 Need  Have    
    ---------------------- ----- --------
    ExtUtils::MakeMaker    0     7.10    
    File::Spec             0     3.47    
    File::Spec::Functions  0     3.47    
    File::Temp             0     0.2304  
    lib                    0     0.62    
    Moose                  0     2.1210  
    perl                   5.006 5.010001
    strict                 0     1.04    
    Test::Fatal            0     0.013   
    Test::More             0.88  1.001014
    warnings               0     1.06    

configure_requires:

    Module                 Need  Have    
    ---------------------- ----- --------
    Module::Build::Tiny    0.039 0.039   
    perl                   5.004 5.010001


------------------------------
ENVIRONMENT AND OTHER CONTEXT
------------------------------

Environment variables:

    AUTOMATED_TESTING = 1
    PATH = /home/njh/perl5/perlbrew/bin:/home/njh/perl5/perlbrew/perls/perl-5.10.1/bin:/home/njh/perl5/perlbrew/bin:/sbin:/bin:/usr/sbin:/usr/bin:/usr/games:/usr/local/sbin:/usr/local/bin:/home/njh/bin
    PERL5LIB = /home/njh/.cpan/build/Config-Any-0.26-LIfY_D/blib/arch:/home/njh/.cpan/build/Config-Any-0.26-LIfY_D/blib/lib:/home/njh/.cpan/build/MooseX-ConfigFromFile-0.14-Zq3GsD/blib/arch:/home/njh/.cpan/build/MooseX-ConfigFromFile-0.14-Zq3GsD/blib/lib:/home/njh/.cpan/build/Test-Without-Module-0.18-_hsrdY/blib/arch:/home/njh/.cpan/build/Test-Without-Module-0.18-_hsrdY/blib/lib:/home/njh/.cpan/build/MooseX-Types-Path-Tiny-0.011-ee9DUb/blib/arch:/home/njh/.cpan/build/MooseX-Types-Path-Tiny-0.011-ee9DUb/blib/lib:/home/njh/.cpan/build/MooseX-Types-Stringlike-0.003-xhGs3k/blib/arch:/home/njh/.cpan/build/MooseX-Types-Stringlike-0.003-xhGs3k/blib/lib:/home/njh/.cpan/build/MooseX-Getopt-0.68-13_qGK/blib/arch:/home/njh/.cpan/build/MooseX-Getopt-0.68-13_qGK/blib/lib:/home/njh/.cpan/build/MooseX-Role-Parameterized-1.08-GlQeLl/blib/arch:/home/njh/.cpan/build/MooseX-Role-Parameterized-1.08-GlQeLl/blib/lib:/home/njh/.cpan/build/MooseX-Role-WithOverloading-0.17-AOrK8c/blib/arch:/home/njh/.cpan/build/MooseX-Role-WithOverloading-0.17-AOrK8c/blib/lib:/home/njh/.cpan/build/aliased-0.34-b0qZe4/blib/arch:/home/njh/.cpan/build/aliased-0.34-b0qZe4/blib/lib:/home/njh/.cpan/build/namespace-autoclean-0.28-hR1JOm/blib/arch:/home/njh/.cpan/build/namespace-autoclean-0.28-hR1JOm/blib/lib:/home/njh/.cpan/build/Getopt-Long-Descriptive-0.099-Ot95QF/blib/arch:/home/njh/.cpan/build/Getopt-Long-Descriptive-0.099-Ot95QF/blib/lib
    PERL5OPT = 
    PERL5_CPANPLUS_IS_RUNNING = 28230
    PERL5_CPAN_IS_RUNNING = 28230
    PERL5_MINISMOKEBOX = 0.58
    PERLBREW_BASHRC_VERSION = 0.73
    PERLBREW_HOME = /home/njh/.perlbrew
    PERLBREW_LIB = 
    PERLBREW_MANPATH = /home/njh/perl5/perlbrew/perls/perl-5.10.1/man
    PERLBREW_PATH = /home/njh/perl5/perlbrew/bin:/home/njh/perl5/perlbrew/perls/perl-5.10.1/bin
    PERLBREW_PERL = perl-5.10.1
    PERLBREW_ROOT = /home/njh/perl5/perlbrew
    PERLBREW_VERSION = 0.73
    PERL_EXTUTILS_AUTOINSTALL = --defaultdeps
    PERL_LOCAL_LIB_ROOT = 
    PERL_MM_USE_DEFAULT = 1
    SHELL = /bin/bash
    TERM = xterm
    TMPDIR = /tmp

Perl special variables (and OS-specific diagnostics, for MSWin32):

    $^X = /usr/home/njh/perl5/perlbrew/perls/perl-5.10.1/bin/perl
    $UID/$EUID = 1000 / 1000
    $GID = 1000 1000 0
    $EGID = 1000 1000 0

Perl module toolchain versions installed:

    Module              Have    
    ------------------- --------
    CPAN                2.10    
    CPAN::Meta          2.150005
    Cwd                 3.47    
    ExtUtils::CBuilder  0.280224
    ExtUtils::Command   7.10    
    ExtUtils::Install   2.04    
    ExtUtils::MakeMaker 7.10    
    ExtUtils::Manifest  1.65    
    ExtUtils::ParseXS   3.30    
    File::Spec          3.47    
    JSON                2.90    
    JSON::PP            2.27300 
    Module::Build       0.4214  
    Module::Signature   n/a     
    Parse::CPAN::Meta   1.4414  
    Test::Harness       3.30    
    Test::More          1.001014
    YAML                1.15    
    YAML::Syck          1.29    
    version             0.88    


--

Summary of my perl5 (revision 5 version 10 subversion 1) configuration:
   
  Platform:
    osname=freebsd, osvers=9.1-release, archname=i386-freebsd-thread-multi
    uname='freebsd amber 9.1-release freebsd 9.1-release #0 r243826: tue dec 4 06:55:39 utc 2012 root@obrian.cse.buffalo.edu:usrobjusrsrcsysgeneric i386 '
    config_args='-de -Dprefix=/home/njh/perl5/perlbrew/perls/perl-5.10.1 -Duseithreads -Dusemultiplicity -Accflags=-O2 -W -Wformat=2 -Wswitch -Wshadow -Wwrite-strings -Wuninitialized -Wall -pipe -mtune=native -march=native -fomit-frame-pointer -msse2 -msse -mmmx -mfpmath=sse -pedantic -D_FORTIFY_SOURCE=2 -Wpointer-arith -Wstrict-prototypes -fstack-protector -Wstack-protector -Wextra -Wbad-function-cast -Wcast-align -Wcast-qual -Wdisabled-optimization -Wendif-labels -Wfloat-equal -Wformat-nonliteral -Winline -Wmissing-declarations -Wmissing-prototypes -Wnested-externs -Wpointer-arith -Wundef -Wformat-security -ftree-vectorize -ftree-vectorizer-verbose=2 -Aeval:scriptdir=/home/njh/perl5/perlbrew/perls/perl-5.10.1/bin'
    hint=recommended, useposix=true, d_sigaction=define
    useithreads=define, usemultiplicity=define
    useperlio=define, d_sfio=undef, uselargefiles=define, usesocks=undef
    use64bitint=undef, use64bitall=undef, uselongdouble=undef
    usemymalloc=n, bincompat5005=undef
  Compiler:
    cc='cc', ccflags ='-DHAS_FPSETMASK -DHAS_FLOATINGPOINT_H -O2 -W -Wformat=2 -Wswitch -Wshadow -Wwrite-strings -Wuninitialized -Wall -pipe -mtune=native -march=native -fomit-frame-pointer -msse2 -msse -mmmx -mfpmath=sse -pedantic -D_FORTIFY_SOURCE=2 -Wpointer-arith -Wstrict-prototypes -fstack-protector -Wstack-protector -Wextra -Wbad-function-cast -Wcast-align -Wcast-qual -Wdisabled-optimization -Wendif-labels -Wfloat-equal -Wformat-nonliteral -Winline -Wmissing-declarations -Wmissing-prototypes -Wnested-externs -Wpointer-arith -Wundef -Wformat-security -ftree-vectorize -ftree-vectorizer-verbose=2 -fno-strict-aliasing -I/usr/local/include',
    optimize='-O',
    cppflags='-DHAS_FPSETMASK -DHAS_FLOATINGPOINT_H -O2 -W -Wformat=2 -Wswitch -Wshadow -Wwrite-strings -Wuninitialized -Wall -pipe -mtune=native -march=native -fomit-frame-pointer -msse2 -msse -mmmx -mfpmath=sse -pedantic -D_FORTIFY_SOURCE=2 -Wpointer-arith -Wstrict-prototypes -fstack-protector -Wstack-protector -Wextra -Wbad-function-cast -Wcast-align -Wcast-qual -Wdisabled-optimization -Wendif-labels -Wfloat-equal -Wformat-nonliteral -Winline -Wmissing-declarations -Wmissing-prototypes -Wnested-externs -Wpointer-arith -Wundef -Wformat-security -ftree-vectorize -ftree-vectorizer-verbose=2 -fno-strict-aliasing -I/usr/local/include'
    ccversion='', gccversion='4.2.1 20070831 patched [FreeBSD]', gccosandvers=''
    intsize=4, longsize=4, ptrsize=4, doublesize=8, byteorder=1234
    d_longlong=define, longlongsize=8, d_longdbl=define, longdblsize=12
    ivtype='long', ivsize=4, nvtype='double', nvsize=8, Off_t='off_t', lseeksize=8
    alignbytes=4, prototype=define
  Linker and Libraries:
    ld='cc', ldflags ='-pthread -Wl,-E  -fstack-protector -L/usr/local/lib'
    libpth=/usr/lib /usr/local/lib
    libs=-lm -lcrypt
    perllibs=-lm -lcrypt
    libc=, so=so, useshrplib=false, libperl=libperl.a
    gnulibc_version=''
  Dynamic Linking:
    dlsrc=dl_dlopen.xs, dlext=so, d_dlsymun=undef, ccdlflags=' '
    cccdlflags='-DPIC -fPIC', lddlflags='-shared  -L/usr/local/lib -fstack-protector'


Characteristics of this binary (from libperl): 
  Compile-time options: MULTIPLICITY PERL_DONT_CREATE_GVSV
                        PERL_IMPLICIT_CONTEXT PERL_MALLOC_WRAP USE_ITHREADS
                        USE_LARGE_FILES USE_PERLIO USE_REENTRANT_API
  Built under freebsd
  Compiled at Aug 11 2013 11:32:47
  %ENV:
    PERL5LIB="/home/njh/.cpan/build/Config-Any-0.26-LIfY_D/blib/arch:/home/njh/.cpan/build/Config-Any-0.26-LIfY_D/blib/lib:/home/njh/.cpan/build/MooseX-ConfigFromFile-0.14-Zq3GsD/blib/arch:/home/njh/.cpan/build/MooseX-ConfigFromFile-0.14-Zq3GsD/blib/lib:/home/njh/.cpan/build/Test-Without-Module-0.18-_hsrdY/blib/arch:/home/njh/.cpan/build/Test-Without-Module-0.18-_hsrdY/blib/lib:/home/njh/.cpan/build/MooseX-Types-Path-Tiny-0.011-ee9DUb/blib/arch:/home/njh/.cpan/build/MooseX-Types-Path-Tiny-0.011-ee9DUb/blib/lib:/home/njh/.cpan/build/MooseX-Types-Stringlike-0.003-xhGs3k/blib/arch:/home/njh/.cpan/build/MooseX-Types-Stringlike-0.003-xhGs3k/blib/lib:/home/njh/.cpan/build/MooseX-Getopt-0.68-13_qGK/blib/arch:/home/njh/.cpan/build/MooseX-Getopt-0.68-13_qGK/blib/lib:/home/njh/.cpan/build/MooseX-Role-Parameterized-1.08-GlQeLl/blib/arch:/home/njh/.cpan/build/MooseX-Role-Parameterized-1.08-GlQeLl/blib/lib:/home/njh/.cpan/build/MooseX-Role-WithOverloading-0.17-AOrK8c/blib/arch:/home/njh/.cpan/build/MooseX-Role-WithOverloading-0.17-AOrK8c/blib/lib:/home/njh/.cpan/build/aliased-0.34-b0qZe4/blib/arch:/home/njh/.cpan/build/aliased-0.34-b0qZe4/blib/lib:/home/njh/.cpan/build/namespace-autoclean-0.28-hR1JOm/blib/arch:/home/njh/.cpan/build/namespace-autoclean-0.28-hR1JOm/blib/lib:/home/njh/.cpan/build/Getopt-Long-Descriptive-0.099-Ot95QF/blib/arch:/home/njh/.cpan/build/Getopt-Long-Descriptive-0.099-Ot95QF/blib/lib"
    PERL5OPT=""
    PERL5_CPANPLUS_IS_RUNNING="28230"
    PERL5_CPAN_IS_RUNNING="28230"
    PERL5_MINISMOKEBOX="0.58"
    PERLBREW_BASHRC_VERSION="0.73"
    PERLBREW_HOME="/home/njh/.perlbrew"
    PERLBREW_LIB=""
    PERLBREW_MANPATH="/home/njh/perl5/perlbrew/perls/perl-5.10.1/man"
    PERLBREW_PATH="/home/njh/perl5/perlbrew/bin:/home/njh/perl5/perlbrew/perls/perl-5.10.1/bin"
    PERLBREW_PERL="perl-5.10.1"
    PERLBREW_ROOT="/home/njh/perl5/perlbrew"
    PERLBREW_VERSION="0.73"
    PERL_EXTUTILS_AUTOINSTALL="--defaultdeps"
    PERL_LOCAL_LIB_ROOT=""
    PERL_MM_USE_DEFAULT="1"
  @INC:
    /home/njh/.cpan/build/Config-Any-0.26-LIfY_D/blib/arch
    /home/njh/.cpan/build/Config-Any-0.26-LIfY_D/blib/lib
    /home/njh/.cpan/build/MooseX-ConfigFromFile-0.14-Zq3GsD/blib/arch
    /home/njh/.cpan/build/MooseX-ConfigFromFile-0.14-Zq3GsD/blib/lib
    /home/njh/.cpan/build/Test-Without-Module-0.18-_hsrdY/blib/arch
    /home/njh/.cpan/build/Test-Without-Module-0.18-_hsrdY/blib/lib
    /home/njh/.cpan/build/MooseX-Types-Path-Tiny-0.011-ee9DUb/blib/arch
    /home/njh/.cpan/build/MooseX-Types-Path-Tiny-0.011-ee9DUb/blib/lib
    /home/njh/.cpan/build/MooseX-Types-Stringlike-0.003-xhGs3k/blib/arch
    /home/njh/.cpan/build/MooseX-Types-Stringlike-0.003-xhGs3k/blib/lib
    /home/njh/.cpan/build/MooseX-Getopt-0.68-13_qGK/blib/arch
    /home/njh/.cpan/build/MooseX-Getopt-0.68-13_qGK/blib/lib
    /home/njh/.cpan/build/MooseX-Role-Parameterized-1.08-GlQeLl/blib/arch
    /home/njh/.cpan/build/MooseX-Role-Parameterized-1.08-GlQeLl/blib/lib
    /home/njh/.cpan/build/MooseX-Role-WithOverloading-0.17-AOrK8c/blib/arch
    /home/njh/.cpan/build/MooseX-Role-WithOverloading-0.17-AOrK8c/blib/lib
    /home/njh/.cpan/build/aliased-0.34-b0qZe4/blib/arch
    /home/njh/.cpan/build/aliased-0.34-b0qZe4/blib/lib
    /home/njh/.cpan/build/namespace-autoclean-0.28-hR1JOm/blib/arch
    /home/njh/.cpan/build/namespace-autoclean-0.28-hR1JOm/blib/lib
    /home/njh/.cpan/build/Getopt-Long-Descriptive-0.099-Ot95QF/blib/arch
    /home/njh/.cpan/build/Getopt-Long-Descriptive-0.099-Ot95QF/blib/lib
    /home/njh/perl5/perlbrew/perls/perl-5.10.1/lib/5.10.1/i386-freebsd-thread-multi
    /home/njh/perl5/perlbrew/perls/perl-5.10.1/lib/5.10.1
    /home/njh/perl5/perlbrew/perls/perl-5.10.1/lib/site_perl/5.10.1/i386-freebsd-thread-multi
    /home/njh/perl5/perlbrew/perls/perl-5.10.1/lib/site_perl/5.10.1
    .