Report for Math-Random-Secure-0.06

Back
From: metabase:user:b5d08ee0-c4e1-11e4-8722-f94d18e3ac47
Subject: PASS Math-Random-Secure-0.06 v5.24.0 GNU/Linux
Date: 2016-10-14T06:55:49Z

This distribution has been tested as part of the CPAN Testers
project, supporting the Perl programming language.  See
http://wiki.cpantesters.org/ for more information or email
questions to cpan-testers-discuss@perl.org


--
Dear MKANAT,

This is a computer-generated report for Math-Random-Secure-0.06
on perl 5.24.0, created by App::cpanminus::reporter 0.17 (1.7042).

Thank you for uploading your work to CPAN.  Congratulations!
All tests were successful.

Sections of this report:

    * Tester comments
    * Program output
    * Prerequisites
    * Environment and other context

------------------------------
TESTER COMMENTS
------------------------------

Additional comments from tester:

none provided

------------------------------
PROGRAM OUTPUT
------------------------------

Output from '':

Building and testing Math-Random-Secure-0.06
cp lib/Math/Random/Secure.pm blib/lib/Math/Random/Secure.pm
cp lib/Math/Random/Secure/RNG.pm blib/lib/Math/Random/Secure/RNG.pm
Manifying 2 pod documents
PERL_DL_NONLAZY=1 "/home/arpi/opt/perl5/perls/perl-5.24.0/bin/perl" "-MExtUtils::Command::MM" "-MTest::Harness" "-e" "undef *Test::Harness::Switches; test_harness(0, 'blib/lib', 'blib/arch')" t/*.t
t/author-uniform.t ........ skipped: these tests are for testing by the author
t/release-pod-coverage.t .. skipped: these tests are for release candidate testing
t/release-pod-syntax.t .... skipped: these tests are for release candidate testing
t/compile.t ............... ok
t/memory.t ................ ok
t/seed.t .................. ok
t/range.t ................. ok
All tests successful.
Files=7, Tests=29,  0 wallclock secs ( 0.03 usr  0.01 sys +  1.88 cusr  0.07 csys =  1.99 CPU)
Result: PASS

------------------------------
PREREQUISITES
------------------------------

Prerequisite modules loaded:

    No requirements found

------------------------------
ENVIRONMENT AND OTHER CONTEXT
------------------------------

Environment variables:

    LANG = en_US.UTF-8
    LANGUAGE = en_US
    LC_ADDRESS = ro_RO.UTF-8
    LC_IDENTIFICATION = ro_RO.UTF-8
    LC_MEASUREMENT = ro_RO.UTF-8
    LC_MONETARY = ro_RO.UTF-8
    LC_NAME = ro_RO.UTF-8
    LC_NUMERIC = ro_RO.UTF-8
    LC_PAPER = ro_RO.UTF-8
    LC_TELEPHONE = ro_RO.UTF-8
    LC_TIME = ro_RO.UTF-8
    PATH = /home/arpi/opt/perl5/bin:/home/arpi/opt/perl5/perls/perl-5.24.0/bin:/home/arpi/.nvm/versions/node/v4.2.1/bin:/home/arpi/.local/opt/postgresql/bin:/home/arpi/bin:/home/arpi/.local/opt/PDK9/bin:/home/arpi/.vim/bin:/home/arpi/.local/share/umake/bin:/home/arpi/.local/opt/postgresql/bin:/home/arpi/bin:/home/arpi/.local/opt/PDK9/bin:/home/arpi/.vim/bin:/media/arpi/XTEND/programs/adt-bundle-linux-x86_64-20140702/sdk/tools:/media/arpi/XTEND/programs/adt-bundle-linux-x86_64-20140702/sdk/platform-tools:/home/arpi/bin:/home/arpi/.local/opt/postgresql/bin:/home/arpi/bin:/home/arpi/.local/opt/PDK9/bin:/home/arpi/.vim/bin:/home/arpi/.local/opt/postgresql/bin:/home/arpi/bin:/home/arpi/.local/opt/PDK9/bin:/home/arpi/.vim/bin:/home/arpi/.local/opt/perl5/perls/stable/bin:/home/arpi/bin:/home/arpi/.vim/bin:/home/arpi/.local/share/umake/bin:/media/arpi/XTEND/programs/adt-bundle-linux-x86_64-20140702/sdk/tools:/media/arpi/XTEND/programs/adt-bundle-linux-x86_64-20140702/sdk/platform-tools:/home/arpi/bin:/usr/local/sbin:/usr/local/bin:/usr/sbin:/usr/bin:/sbin:/bin:/usr/games:/usr/local/games:/snap/bin:/home/arpi/.fzf/bin:/snap/bin
    PERLBREW_BASHRC_VERSION = 0.76
    PERLBREW_HOME = /home/arpi/.perlbrew
    PERLBREW_MANPATH = /home/arpi/opt/perl5/perls/perl-5.24.0/man
    PERLBREW_PATH = /home/arpi/opt/perl5/bin:/home/arpi/opt/perl5/perls/perl-5.24.0/bin
    PERLBREW_PERL = perl-5.24.0
    PERLBREW_ROOT = /home/arpi/opt/perl5
    PERLBREW_VERSION = 0.76
    SHELL = /bin/bash
    TERM = screen-256color

Perl special variables (and OS-specific diagnostics, for MSWin32):

    EGID = 1000 4 6 24 27 30 46 104 109 124 125 130 134 135 1000 1001
    EUID = 1000
    EXECUTABLE_NAME = /home/arpi/opt/perl5/perls/perl-5.24.0/bin/perl
    GID = 1000 4 6 24 27 30 46 104 109 124 125 130 134 135 1000 1001
    UID = 1000

Perl module toolchain versions installed:

    Module              Have    
    ------------------- --------
    CPAN                2.14    
    CPAN::Meta          2.150010
    Cwd                 3.63    
    ExtUtils::CBuilder  0.280225
    ExtUtils::Command   7.24    
    ExtUtils::Install   2.04    
    ExtUtils::MakeMaker 7.24    
    ExtUtils::Manifest  1.70    
    ExtUtils::ParseXS   3.31    
    File::Spec          3.63    
    JSON                2.90    
    JSON::PP            2.27400 
    Module::Build       0.4220  
    Module::Signature   n/a     
    Parse::CPAN::Meta   2.150010
    Test::Harness       3.36    
    Test::More          1.302059
    YAML                1.18    
    YAML::Syck          1.29    
    version             0.9917  


--

Summary of my perl5 (revision 5 version 24 subversion 0) configuration:
   
  Platform:
    osname=linux, osvers=4.4.0-22-generic, archname=x86_64-linux-thread-multi
    uname='linux plancton 4.4.0-22-generic #40-ubuntu smp thu may 12 22:03:46 utc 2016 x86_64 x86_64 x86_64 gnulinux '
    config_args='-de -Dprefix=/home/arpi/opt/perl5/perls/perl-5.24.0 -Dusethreads -Duselargefiles -Duse64bitall -Dusesitecustomize -Duseshrplib -Dinc_version_list=none -Dpager=/bin/less -Doptimize=-O2 -Dcf_by=Plenum.ro -Dcf_email=arpad.szasz@plenum.ro -Uuserelocatableinc -UDEBUGGING -Aeval:scriptdir=/home/arpi/opt/perl5/perls/perl-5.24.0/bin'
    hint=recommended, useposix=true, d_sigaction=define
    useithreads=define, usemultiplicity=define
    use64bitint=define, use64bitall=define, uselongdouble=undef
    usemymalloc=n, bincompat5005=undef
  Compiler:
    cc='cc', ccflags ='-D_REENTRANT -D_GNU_SOURCE -fwrapv -fno-strict-aliasing -pipe -fstack-protector-strong -D_LARGEFILE_SOURCE -D_FILE_OFFSET_BITS=64',
    optimize='-O2',
    cppflags='-D_REENTRANT -D_GNU_SOURCE -fwrapv -fno-strict-aliasing -pipe -fstack-protector-strong'
    ccversion='', gccversion='5.3.1 20160413', gccosandvers=''
    intsize=4, longsize=8, ptrsize=8, doublesize=8, byteorder=12345678, doublekind=3
    d_longlong=define, longlongsize=8, d_longdbl=define, longdblsize=16, longdblkind=3
    ivtype='long', ivsize=8, nvtype='double', nvsize=8, Off_t='off_t', lseeksize=8
    alignbytes=8, prototype=define
  Linker and Libraries:
    ld='cc', ldflags =' -fstack-protector-strong -L/usr/local/lib'
    libpth=/usr/lib/gcc/x86_64-linux-gnu/5/include-fixed /usr/include/x86_64-linux-gnu /usr/lib /usr/local/lib /lib/x86_64-linux-gnu /lib/../lib /usr/lib/x86_64-linux-gnu /usr/lib/../lib /lib
    libs=-lpthread -lnsl -ldb -ldl -lm -lcrypt -lutil -lc
    perllibs=-lpthread -lnsl -ldl -lm -lcrypt -lutil -lc
    libc=libc-2.23.so, so=so, useshrplib=true, libperl=libperl.so
    gnulibc_version='2.23'
  Dynamic Linking:
    dlsrc=dl_dlopen.xs, dlext=so, d_dlsymun=undef, ccdlflags='-Wl,-E -Wl,-rpath,/home/arpi/opt/perl5/perls/perl-5.24.0/lib/5.24.0/x86_64-linux-thread-multi/CORE'
    cccdlflags='-fPIC', lddlflags='-shared -O2 -L/usr/local/lib -fstack-protector-strong'


Characteristics of this binary (from libperl): 
  Compile-time options: HAS_TIMES MULTIPLICITY PERLIO_LAYERS
                        PERL_COPY_ON_WRITE PERL_DONT_CREATE_GVSV
                        PERL_HASH_FUNC_ONE_AT_A_TIME_HARD
                        PERL_IMPLICIT_CONTEXT PERL_MALLOC_WRAP
                        PERL_PRESERVE_IVUV USE_64_BIT_ALL USE_64_BIT_INT
                        USE_ITHREADS USE_LARGE_FILES USE_LOCALE
                        USE_LOCALE_COLLATE USE_LOCALE_CTYPE
                        USE_LOCALE_NUMERIC USE_LOCALE_TIME USE_PERLIO
                        USE_PERL_ATOF USE_REENTRANT_API USE_SITECUSTOMIZE
  Locally applied patches:
	Devel::PatchPerl 1.38
  Built under linux
  Compiled at Jun 10 2016 08:20:41
  %ENV:
    PERLBREW_BASHRC_VERSION="0.76"
    PERLBREW_HOME="/home/arpi/.perlbrew"
    PERLBREW_MANPATH="/home/arpi/opt/perl5/perls/perl-5.24.0/man"
    PERLBREW_PATH="/home/arpi/opt/perl5/bin:/home/arpi/opt/perl5/perls/perl-5.24.0/bin"
    PERLBREW_PERL="perl-5.24.0"
    PERLBREW_ROOT="/home/arpi/opt/perl5"
    PERLBREW_VERSION="0.76"
  @INC:
    /home/arpi/opt/perl5/perls/perl-5.24.0/lib/site_perl/5.24.0/x86_64-linux-thread-multi
    /home/arpi/opt/perl5/perls/perl-5.24.0/lib/site_perl/5.24.0
    /home/arpi/opt/perl5/perls/perl-5.24.0/lib/5.24.0/x86_64-linux-thread-multi
    /home/arpi/opt/perl5/perls/perl-5.24.0/lib/5.24.0
    .