Net-Statsd-Server v0.20 Perl 5 v5.32.1 i386-openbsd

Status
Pass
From
Alceu Rodrigues de Freitas Junior
Dist
Net-Statsd-Server v0.20
Platform
Perl 5 v5.32.1 i386-openbsd
Date
2022-06-29 15:57:55
ID
3d2b3148-f7c4-11ec-b737-db65ffa5fe2c
This distribution has been tested as part of the CPAN Testers
project, supporting the Perl programming language.  See
http://wiki.cpantesters.org/ for more information or email
questions to cpan-testers-discuss@perl.org


--
Dear Cosimo Streppone,

This is a computer-generated report for Net-Statsd-Server-0.20
on perl 5.32.1, created by CPAN-Reporter-1.2018.

Thank you for uploading your work to CPAN.  Congratulations!
All tests were successful.

Sections of this report:

    * Tester comments
    * Program output
    * Prerequisites
    * Environment and other context

------------------------------
TESTER COMMENTS
------------------------------

Additional comments from tester:

this report is from an automated smoke testing program
and was not reviewed by a human for accuracy

If you would like to try to reproduce this report results or even to work with
the same environment for a bug fix, please refer to
https://github.com/glasswalk3r/cpan-openbsd-smoker to see how to use the
prebuilt virtual machines available.

------------------------------
PROGRAM OUTPUT
------------------------------

Output from '/usr/bin/make test':

PERL_DL_NONLAZY=1 "/usr/bin/perl" "-MExtUtils::Command::MM" "-MTest::Harness" "-e" "undef *Test::Harness::Switches; test_harness(0, 'blib/lib', 'blib/arch')" t/*.t t/integration-tests/*.t
t/000-sanity.t ............................. ok
t/config.t ................................. ok
t/graphite.t ............................... ok
2022-06-29 00:25:14.000000 -0300 note  Net::Statsd::Server: Initializing Net::Statsd::Server::Backend::Console backend
2022-06-29 00:25:14.000000 -0300 note  Net::Statsd::Server: Initializing Net::Statsd::Server::Backend::Graphite backend
2022-06-29 00:25:14.000000 -0300 info  AnyEvent: Autoloaded model 'AnyEvent::Impl::EV', using it.
Couldn't set SO_RCVBUF: No buffer space available at /mnt/cpan_build_dir/goku/Net-Statsd-Server-0.20-0/bin/../lib/Net/Statsd/Server.pm line 709.
2022-06-29 00:25:14.553147 -0300 note  Net::Statsd::Server: statsd server started on 0.0.0.0:40001 (v0.17)
2022-06-29 00:25:14.553594 -0300 note  Net::Statsd::Server: manager interface started on 0.0.0.0:40002
2022-06-29 00:25:14.554042 -0300 note  Net::Statsd::Server: metrics flush will happen every 1s
2022-06-29 00:25:14.903243 -0300 warn  Net::Statsd::Server: Bad line: 1 in msg "a_bad_test_value|z"
2022-06-29 00:25:15.567671 -0300 note  Net::Statsd::Server: flushing metrics
Flushing stats at Wed Jun 29 00:25:15 2022
{"gauges":{},"counters":{"statsd.bad_lines_seen":1,"statsd.packets_received":1},"counter_rates":{"statsd.packets_received":1,"statsd.bad_lines_seen":1},"timers":{},"sets":null,"pctThreshold":[90],"timer_data":{}}
t/integration-tests/bad-message.t .......... ok
2022-06-29 00:25:16.000000 -0300 note  Net::Statsd::Server: Initializing Net::Statsd::Server::Backend::Console backend
2022-06-29 00:25:16.000000 -0300 note  Net::Statsd::Server: Initializing Net::Statsd::Server::Backend::Graphite backend
2022-06-29 00:25:16.000000 -0300 info  AnyEvent: Autoloaded model 'AnyEvent::Impl::EV', using it.
Couldn't set SO_RCVBUF: No buffer space available at /mnt/cpan_build_dir/goku/Net-Statsd-Server-0.20-0/bin/../lib/Net/Statsd/Server.pm line 709.
2022-06-29 00:25:16.027484 -0300 note  Net::Statsd::Server: statsd server started on 0.0.0.0:40001 (v0.17)
2022-06-29 00:25:16.027951 -0300 note  Net::Statsd::Server: manager interface started on 0.0.0.0:40002
2022-06-29 00:25:16.028462 -0300 note  Net::Statsd::Server: metrics flush will happen every 1s
2022-06-29 00:25:17.037776 -0300 note  Net::Statsd::Server: flushing metrics
Flushing stats at Wed Jun 29 00:25:17 2022
{"timers":{},"counters":{"a_test_value":100,"statsd.bad_lines_seen":0,"statsd.packets_received":1},"pctThreshold":[90],"gauges":{},"timer_data":{},"counter_rates":{"statsd.packets_received":1,"statsd.bad_lines_seen":0,"a_test_value":100},"sets":null}
# stats.counters.a_test_value.rate 100.000000 1656473117
# stats.counters.a_test_value.count 100 1656473117
# stats.counters.statsd.bad_lines_seen.rate 0.000000 1656473117
# stats.counters.statsd.bad_lines_seen.count 0 1656473117
# stats.counters.statsd.packets_received.rate 1.000000 1656473117
# stats.counters.statsd.packets_received.count 1 1656473117
# stats.statsd.numStats 3 1656473117
# stats.statsd.graphiteStats.calculationtime 0.347000 1656473117
# stats.statsd.processing_time 0.113 1656473117
# stats.statsd.graphiteStats.last_exception 2095526768 1656473117
# stats.statsd.graphiteStats.last_flush 2095526768 1656473117
t/integration-tests/counts-are-valid.t ..... ok
2022-06-29 00:25:17.000000 -0300 note  Net::Statsd::Server: Initializing Net::Statsd::Server::Backend::Graphite backend
2022-06-29 00:25:17.000000 -0300 info  AnyEvent: Autoloaded model 'AnyEvent::Impl::EV', using it.
Couldn't set SO_RCVBUF: No buffer space available at /mnt/cpan_build_dir/goku/Net-Statsd-Server-0.20-0/bin/../lib/Net/Statsd/Server.pm line 709.
2022-06-29 00:25:17.489253 -0300 note  Net::Statsd::Server: statsd server started on 0.0.0.0:40001 (v0.17)
2022-06-29 00:25:17.489253 -0300 note  Net::Statsd::Server: manager interface started on 0.0.0.0:40002
2022-06-29 00:25:17.489253 -0300 note  Net::Statsd::Server: metrics flush will happen every 1s
2022-06-29 00:25:18.497946 -0300 note  Net::Statsd::Server: flushing metrics
# First flush. Test gauge should be there.
2022-06-29 00:25:19.507775 -0300 note  Net::Statsd::Server: flushing metrics
# Second flush. deleteGauges=false should keep the test gauge.
t/integration-tests/delete-gauges-false.t .. ok
2022-06-29 00:25:19.000000 -0300 note  Net::Statsd::Server: Initializing Net::Statsd::Server::Backend::Graphite backend
2022-06-29 00:25:19.000000 -0300 info  AnyEvent: Autoloaded model 'AnyEvent::Impl::EV', using it.
Couldn't set SO_RCVBUF: No buffer space available at /mnt/cpan_build_dir/goku/Net-Statsd-Server-0.20-0/bin/../lib/Net/Statsd/Server.pm line 709.
2022-06-29 00:25:19.946429 -0300 note  Net::Statsd::Server: statsd server started on 0.0.0.0:40001 (v0.17)
2022-06-29 00:25:19.946888 -0300 note  Net::Statsd::Server: manager interface started on 0.0.0.0:40002
2022-06-29 00:25:19.947434 -0300 note  Net::Statsd::Server: metrics flush will happen every 1s
2022-06-29 00:25:20.947952 -0300 note  Net::Statsd::Server: flushing metrics
# First flush. Test gauge should be there.
2022-06-29 00:25:21.957870 -0300 note  Net::Statsd::Server: flushing metrics
# Second flush. deleteIdleStats should have cleared the test gauge.
t/integration-tests/delete-idle-stats.t .... ok
2022-06-29 00:25:22.000000 -0300 note  Net::Statsd::Server: Initializing Net::Statsd::Server::Backend::Console backend
2022-06-29 00:25:22.000000 -0300 note  Net::Statsd::Server: Initializing Net::Statsd::Server::Backend::Graphite backend
2022-06-29 00:25:22.000000 -0300 info  AnyEvent: Autoloaded model 'AnyEvent::Impl::EV', using it.
Couldn't set SO_RCVBUF: No buffer space available at /mnt/cpan_build_dir/goku/Net-Statsd-Server-0.20-0/bin/../lib/Net/Statsd/Server.pm line 709.
2022-06-29 00:25:22.410973 -0300 note  Net::Statsd::Server: statsd server started on 0.0.0.0:40001 (v0.17)
2022-06-29 00:25:22.411427 -0300 note  Net::Statsd::Server: manager interface started on 0.0.0.0:40002
2022-06-29 00:25:22.411901 -0300 note  Net::Statsd::Server: metrics flush will happen every 1s
2022-06-29 00:25:23.417934 -0300 note  Net::Statsd::Server: flushing metrics
Flushing stats at Wed Jun 29 00:25:23 2022
{"pctThreshold":[90],"timer_data":{},"counter_rates":{"statsd.bad_lines_seen":0,"a_test_value,category=web,severity=high":100,"statsd.packets_received":1},"sets":null,"gauges":{},"timers":{},"counters":{"statsd.packets_received":1,"a_test_value,category=web,severity=high":100,"statsd.bad_lines_seen":0}}
# stats.counters.statsd.packets_received.rate 1.000000 1656473123
# stats.counters.statsd.packets_received.count 1 1656473123
# stats.counters.a_test_value,category=web,severity=high.rate 100.000000 1656473123
# stats.counters.a_test_value,category=web,severity=high.count 100 1656473123
# stats.counters.statsd.bad_lines_seen.rate 0.000000 1656473123
# stats.counters.statsd.bad_lines_seen.count 0 1656473123
# stats.statsd.numStats 3 1656473123
# stats.statsd.graphiteStats.calculationtime 0.235000 1656473123
# stats.statsd.processing_time 0.11 1656473123
# stats.statsd.graphiteStats.last_exception 1409307504 1656473123
# stats.statsd.graphiteStats.last_flush 1409307504 1656473123
t/integration-tests/keys-with-tags.t ....... ok
2022-06-29 00:25:23.000000 -0300 note  Net::Statsd::Server: Initializing Net::Statsd::Server::Backend::Graphite backend
2022-06-29 00:25:23.000000 -0300 info  AnyEvent: Autoloaded model 'AnyEvent::Impl::EV', using it.
Couldn't set SO_RCVBUF: No buffer space available at /mnt/cpan_build_dir/goku/Net-Statsd-Server-0.20-0/bin/../lib/Net/Statsd/Server.pm line 709.
2022-06-29 00:25:23.875184 -0300 note  Net::Statsd::Server: statsd server started on 0.0.0.0:40001 (v0.17)
2022-06-29 00:25:23.875654 -0300 note  Net::Statsd::Server: manager interface started on 0.0.0.0:40002
2022-06-29 00:25:23.876147 -0300 note  Net::Statsd::Server: metrics flush will happen every 1s
# Expected mean value is 1840.41
2022-06-29 00:25:24.888854 -0300 note  Net::Statsd::Server: flushing metrics
# stats.counters.statsd.bad_lines_seen.rate 0.000000 1656473124
# stats.counters.statsd.bad_lines_seen.count 0 1656473124
# stats.counters.statsd.packets_received.rate 100.000000 1656473124
# stats.counters.statsd.packets_received.count 100 1656473124
# stats.timers.read_latency.count_99 99.000000 1656473124
# stats.timers.read_latency.std 613.528078 1656473124
# stats.timers.read_latency.upper_98 2940.000000 1656473124
# stats.timers.read_latency.mean_99 1828.979798 1656473124
# stats.timers.read_latency.count 100.000000 1656473124
# stats.timers.read_latency.sum 184041.000000 1656473124
# stats.timers.read_latency.mean_95 1782.747368 1656473124
# stats.timers.read_latency.sum_squares 376352567.000000 1656473124
# stats.timers.read_latency.sum_squares_98 358793667.000000 1656473124
# stats.timers.read_latency.lower 1020.000000 1656473124
# stats.timers.read_latency.mean_98 1817.500000 1656473124
# stats.timers.read_latency.upper_95 2902.000000 1656473124
# stats.timers.read_latency.sum_98 178115.000000 1656473124
# stats.timers.read_latency.count_ps 100.000000 1656473124
# stats.timers.read_latency.median 1713.500000 1656473124
# stats.timers.read_latency.mean 1840.410000 1656473124
# stats.timers.read_latency.sum_squares_95 333248719.000000 1656473124
# stats.timers.read_latency.count_98 98.000000 1656473124
# stats.timers.read_latency.upper_99 2954.000000 1656473124
# stats.timers.read_latency.count_95 95.000000 1656473124
# stats.timers.read_latency.sum_99 181069.000000 1656473124
# stats.timers.read_latency.sum_squares_99 367519783.000000 1656473124
# stats.timers.read_latency.sum_95 169361.000000 1656473124
# stats.timers.read_latency.upper 2972.000000 1656473124
# stats.statsd.numStats 3 1656473124
# stats.statsd.graphiteStats.calculationtime 0.555000 1656473124
# stats.statsd.processing_time 1.305 1656473124
# stats.statsd.graphiteStats.last_exception 1189323632 1656473124
# stats.statsd.graphiteStats.last_flush 1189323632 1656473124
t/integration-tests/percent-threshold.t .... ok
2022-06-29 00:25:25.000000 -0300 note  Net::Statsd::Server: Initializing Net::Statsd::Server::Backend::Console backend
2022-06-29 00:25:25.000000 -0300 note  Net::Statsd::Server: Initializing Net::Statsd::Server::Backend::Graphite backend
2022-06-29 00:25:25.000000 -0300 info  AnyEvent: Autoloaded model 'AnyEvent::Impl::EV', using it.
Couldn't set SO_RCVBUF: No buffer space available at /mnt/cpan_build_dir/goku/Net-Statsd-Server-0.20-0/bin/../lib/Net/Statsd/Server.pm line 709.
2022-06-29 00:25:25.348666 -0300 note  Net::Statsd::Server: statsd server started on 0.0.0.0:40001 (v0.17)
2022-06-29 00:25:25.349107 -0300 note  Net::Statsd::Server: manager interface started on 0.0.0.0:40002
2022-06-29 00:25:25.349576 -0300 note  Net::Statsd::Server: metrics flush will happen every 1s
2022-06-29 00:25:26.357961 -0300 note  Net::Statsd::Server: flushing metrics
Flushing stats at Wed Jun 29 00:25:26 2022
{"counters":{"statsd.packets_received":1,"statsd.bad_lines_seen":0},"gauges":{},"sets":null,"timer_data":{"a_test_value":{"count_90":1,"median":"100","count":1,"std":0,"sum_squares_90":10000,"upper":"100","upper_90":"100","sum_squares":10000,"sum":"100","lower":"100","mean":100,"count_ps":1,"mean_90":"100","sum_90":"100"}},"pctThreshold":["90"],"counter_rates":{"statsd.packets_received":1,"statsd.bad_lines_seen":0},"timers":{"a_test_value":["100"]}}
# stats.counters.statsd.packets_received.rate 1.000000 1656473126
# stats.counters.statsd.packets_received.count 1 1656473126
# stats.counters.statsd.bad_lines_seen.rate 0.000000 1656473126
# stats.counters.statsd.bad_lines_seen.count 0 1656473126
# stats.timers.a_test_value.count_90 1.000000 1656473126
# stats.timers.a_test_value.median 100.000000 1656473126
# stats.timers.a_test_value.count 1.000000 1656473126
# stats.timers.a_test_value.std 0.000000 1656473126
# stats.timers.a_test_value.sum_squares_90 10000.000000 1656473126
# stats.timers.a_test_value.upper 100.000000 1656473126
# stats.timers.a_test_value.upper_90 100.000000 1656473126
# stats.timers.a_test_value.sum_squares 10000.000000 1656473126
# stats.timers.a_test_value.sum 100.000000 1656473126
# stats.timers.a_test_value.lower 100.000000 1656473126
# stats.timers.a_test_value.mean 100.000000 1656473126
# stats.timers.a_test_value.count_ps 1.000000 1656473126
# stats.timers.a_test_value.mean_90 100.000000 1656473126
# stats.timers.a_test_value.sum_90 100.000000 1656473126
# stats.statsd.numStats 3 1656473126
# stats.statsd.graphiteStats.calculationtime 0.461000 1656473126
# stats.statsd.processing_time 0.237 1656473126
# stats.statsd.graphiteStats.last_exception 2076128112 1656473126
# stats.statsd.graphiteStats.last_flush 2076128112 1656473126
t/integration-tests/timers-are-valid.t ..... ok
t/process-metrics.t ........................ ok
t/trim.t ................................... ok
All tests successful.
Files=12, Tests=92, 13 wallclock secs ( 0.07 usr  0.10 sys +  1.87 cusr  1.11 csys =  3.15 CPU)
Result: PASS

------------------------------
PREREQUISITES
------------------------------

Prerequisite modules loaded:

requires:

    Module                Need Have    
    --------------------- ---- --------
    AnyEvent::Handle::UDP 0    0.050   
    IO::Socket::INET      0    1.49    
    JSON::XS              0    4.03    

build_requires:

    Module                Need Have    
    --------------------- ---- --------
    ExtUtils::MakeMaker   0    7.65_01 
    Test::More            0    1.302190

configure_requires:

    Module                Need Have    
    --------------------- ---- --------
    ExtUtils::MakeMaker   0    7.65_01 


------------------------------
ENVIRONMENT AND OTHER CONTEXT
------------------------------

Environment variables:

    AUTOMATED_TESTING = 1
    PATH = /home/goku/perl5/bin:/usr/bin:/bin:/usr/sbin:/sbin:/usr/X11R6/bin:/usr/local/bin:/usr/local/sbin
    PERL5LIB = /home/goku/perl5/lib/perl5
    PERL5OPT = 
    PERL5_CPANPLUS_IS_RUNNING = 35649
    PERL5_CPAN_IS_RUNNING = 35649
    PERL5_CPAN_IS_RUNNING_IN_RECURSION = 1201,35649
    PERL_CR_SMOKER_CURRENT = Net-Statsd-Server-0.20
    PERL_EXTUTILS_AUTOINSTALL = --defaultdeps
    PERL_LOCAL_LIB_ROOT = /home/goku/perl5
    PERL_MB_OPT = --install_base "/home/goku/perl5"
    PERL_MM_OPT = INSTALL_BASE=/home/goku/perl5
    PERL_MM_USE_DEFAULT = 1
    PERL_USE_UNSAFE_INC = 1
    SHELL = /bin/ksh
    TERM = xterm-256color

Perl special variables (and OS-specific diagnostics, for MSWin32):

    $^X = /usr/bin/perl
    $UID/$EUID = 1001 / 1001
    $GID = 1002 1002 1001
    $EGID = 1002 1002 1001

Perl module toolchain versions installed:

    Module              Have    
    ------------------- --------
    CPAN                2.34    
    CPAN::Meta          2.150010
    Cwd                 3.78    
    ExtUtils::CBuilder  0.280236
    ExtUtils::Command   7.65_01 
    ExtUtils::Install   2.20    
    ExtUtils::MakeMaker 7.65_01 
    ExtUtils::Manifest  1.73    
    ExtUtils::ParseXS   3.44    
    File::Spec          3.78    
    JSON                4.06    
    JSON::PP            4.09    
    Module::Build       0.4231  
    Module::Signature   n/a     
    Parse::CPAN::Meta   2.150010
    Test::Harness       3.44    
    Test::More          1.302190
    YAML                1.30    
    YAML::Syck          1.34    
    version             0.9929  


--

Summary of my perl5 (revision 5 version 32 subversion 1) configuration:
   
  Platform:
    osname=openbsd
    osvers=7.1
    archname=i386-openbsd
    uname='openbsd'
    config_args='-dse -Dopenbsd_distribution=defined -Dmksymlinks'
    hint=recommended
    useposix=true
    d_sigaction=define
    useithreads=undef
    usemultiplicity=undef
    use64bitint=undef
    use64bitall=undef
    uselongdouble=undef
    usemymalloc=n
    default_inc_excludes_dot=define
    bincompat5005=undef
  Compiler:
    cc='cc'
    ccflags ='-DNO_LOCALE_NUMERIC -DNO_LOCALE_COLLATE -fno-strict-aliasing -fno-delete-null-pointer-checks -pipe -fstack-protector-strong -I/usr/local/include'
    optimize='-O2'
    cppflags='-DBIG_TIME -DNO_LOCALE_NUMERIC -DNO_LOCALE_COLLATE -fno-strict-aliasing -fno-delete-null-pointer-checks -pipe -fstack-protector-strong -I/usr/local/include'
    ccversion=''
    gccversion='OpenBSD Clang 13.0.0'
    gccosandvers=''
    intsize=4
    longsize=4
    ptrsize=4
    doublesize=8
    byteorder=1234
    doublekind=3
    d_longlong=define
    longlongsize=8
    d_longdbl=define
    longdblsize=12
    longdblkind=3
    ivtype='long'
    ivsize=4
    nvtype='double'
    nvsize=8
    Off_t='off_t'
    lseeksize=8
    alignbytes=4
    prototype=define
  Linker and Libraries:
    ld='cc'
    ldflags ='-Wl,-E  -fstack-protector-strong -L/usr/local/lib'
    libpth=/usr/lib /usr/lib/clang/13.0.0/lib /usr/lib
    libs=-lm -lc
    perllibs=-lm -lc
    libc=/usr/lib/libc.so.96.1
    so=so
    useshrplib=true
    libperl=libperl.so.22.0
    gnulibc_version=''
  Dynamic Linking:
    dlsrc=dl_dlopen.xs
    dlext=so
    d_dlsymun=undef
    ccdlflags='-Wl,-R/usr/libdata/perl5/i386-openbsd/CORE'
    cccdlflags='-DPIC -fpic '
    lddlflags='-shared -fpic  -fstack-protector-strong -L/usr/local/lib'


Characteristics of this binary (from libperl): 
  Compile-time options:
    HAS_TIMES
    PERLIO_LAYERS
    PERL_COPY_ON_WRITE
    PERL_DONT_CREATE_GVSV
    PERL_MALLOC_WRAP
    PERL_OP_PARENT
    PERL_PRESERVE_IVUV
    USE_LARGE_FILES
    USE_LOCALE
    USE_LOCALE_CTYPE
    USE_LOCALE_TIME
    USE_PERLIO
    USE_PERL_ATOF
  Built under openbsd
  %ENV:
    PERL5LIB="/home/goku/perl5/lib/perl5"
    PERL5OPT=""
    PERL5_CPANPLUS_IS_RUNNING="35649"
    PERL5_CPAN_IS_RUNNING="35649"
    PERL5_CPAN_IS_RUNNING_IN_RECURSION="1201,35649"
    PERL_CR_SMOKER_CURRENT="Net-Statsd-Server-0.20"
    PERL_EXTUTILS_AUTOINSTALL="--defaultdeps"
    PERL_LOCAL_LIB_ROOT="/home/goku/perl5"
    PERL_MB_OPT="--install_base "/home/goku/perl5""
    PERL_MM_OPT="INSTALL_BASE=/home/goku/perl5"
    PERL_MM_USE_DEFAULT="1"
    PERL_USE_UNSAFE_INC="1"
  @INC:
    /home/goku/perl5/lib/perl5/5.32.1/i386-openbsd
    /home/goku/perl5/lib/perl5/5.32.1
    /home/goku/perl5/lib/perl5/i386-openbsd
    /home/goku/perl5/lib/perl5
    /usr/local/libdata/perl5/site_perl/i386-openbsd
    /usr/local/libdata/perl5/site_perl
    /usr/libdata/perl5/i386-openbsd
    /usr/libdata/perl5
    .