Dist-Zilla-Plugin-ChangelogFromGit-CPAN-Changes v0.230680 Perl 5 v5.37.10 x86_64-linux-thread-multi

Status
Pass
From
Andreas J. König (ANDK)
Dist
Dist-Zilla-Plugin-ChangelogFromGit-CPAN-Changes v0.230680
Platform
Perl 5 v5.37.10 x86_64-linux-thread-multi
Date
2023-04-03 04:08:50
ID
3d37f84c-d1d5-11ed-9ff5-0cce3f98891d
This distribution has been tested as part of the CPAN Testers
project, supporting the Perl programming language.  See
http://wiki.cpantesters.org/ for more information or email
questions to cpan-testers-discuss@perl.org


--
Dear Ioan Rogers,

This is a computer-generated report for Dist-Zilla-Plugin-ChangelogFromGit-CPAN-Changes-0.230680
on perl 5.37.10, created by CPAN-Reporter-1.2018.

Thank you for uploading your work to CPAN.  Congratulations!
All tests were successful.

Sections of this report:

    * Tester comments
    * Program output
    * Prerequisites
    * Environment and other context

------------------------------
TESTER COMMENTS
------------------------------

Additional comments from tester:

this report is from an automated smoke testing program
and was not reviewed by a human for accuracy

------------------------------
PROGRAM OUTPUT
------------------------------

Output from './Build test':

t/00-check-deps.t ...... ok
t/00-compile.t ......... ok
# 
# Versions for all modules listed in MYMETA.json (including optional ones):
# 
# === Configure Requires ===
# 
#     Module               Want  Have
#     ------------------- ----- -----
#     Module::Build::Tiny 0.034 0.039
# 
# === Test Requires ===
# 
#     Module                       Want     Have
#     --------------------------- ----- --------
#     Archive::Tar                  any     3.00
#     Dist::Zilla::File::InMemory   any    6.030
#     ExtUtils::MakeMaker           any     7.70
#     File::Spec                    any     3.88
#     File::chdir                   any   0.1011
#     IO::Handle                    any     1.51
#     IPC::Open3                    any     1.22
#     Path::Tiny                    any    0.144
#     Test::CPAN::Changes           any 0.400002
#     Test::CheckDeps             0.010    0.010
#     Test::DZil                    any    6.030
#     Test::More                   0.94 1.302194
#     Test::Roo                     any    1.004
#     Test::Roo::Role               any    1.004
#     Test::TempDir::Tiny           any    0.018
#     lib                           any     0.65
#     strict                        any     1.12
#     warnings                      any     1.63
# 
# === Test Recommends ===
# 
#     Module         Want     Have
#     ---------- -------- --------
#     CPAN::Meta 2.120900 2.150010
# 
# === Runtime Requires ===
# 
#     Module                              Want     Have
#     ------------------------------- -------- --------
#     CPAN::Changes                   0.400002 0.400002
#     CPAN::Changes::Release               any    undef
#     Class::Load                          any     0.25
#     DateTime                             any     1.59
#     Dist::Zilla                        6.005    6.030
#     Dist::Zilla::Role::AfterBuild        any    6.030
#     Dist::Zilla::Role::FileGatherer      any    6.030
#     Dist::Zilla::Role::Git::Repo         any    2.048
#     Encode                               any     3.19
#     Git::Wrapper                         any    0.048
#     Moose                                any   2.2203
#     Moose::Util::TypeConstraints         any   2.2203
#     perl                             v5.24.0 5.037010
# 
# === Runtime Recommends ===
# 
#     Module             Want Have
#     ------------------ ---- ----
#     Proc::InvokeEditor  any 1.13
# 
t/00-report-prereqs.t .. ok
        # Extracting /tmp/loop_over_bdir-95083-HAJg94/Dist-Zilla-Plugin-ChangelogFromGit-CPAN-Changes-0.230680-0/t/data/repos/test_repo.tar.gz to /tmp/loop_over_bdir-95083-HAJg94/Dist-Zilla-Plugin-ChangelogFromGit-CPAN-Changes-0.230680-0/tmp/t_changes_t/default_1
        # Comparing /tmp/loop_over_bdir-95083-HAJg94/Dist-Zilla-Plugin-ChangelogFromGit-CPAN-Changes-0.230680-0/tmp/9dUngvFGRc/build/Changes to t/data/changes/v1_defaults
        # Comparing /tmp/loop_over_bdir-95083-HAJg94/Dist-Zilla-Plugin-ChangelogFromGit-CPAN-Changes-0.230680-0/tmp/r8yVIIE0sC/build/Changes to t/data/changes/v1_no_author
        # Comparing /tmp/loop_over_bdir-95083-HAJg94/Dist-Zilla-Plugin-ChangelogFromGit-CPAN-Changes-0.230680-0/tmp/7IetbVkDg8/build/Changes to t/data/changes/v1_email
        # Comparing /tmp/loop_over_bdir-95083-HAJg94/Dist-Zilla-Plugin-ChangelogFromGit-CPAN-Changes-0.230680-0/tmp/uZVlYs7ITP/build/Changes to t/data/changes/v1_group_author
        # Comparing /tmp/loop_over_bdir-95083-HAJg94/Dist-Zilla-Plugin-ChangelogFromGit-CPAN-Changes-0.230680-0/tmp/h5TpDwxgZX/build/Changes to t/data/changes/v1_group_author_email
t/changes.t ............ ok
        # Extracting /tmp/loop_over_bdir-95083-HAJg94/Dist-Zilla-Plugin-ChangelogFromGit-CPAN-Changes-0.230680-0/t/data/repos/first_release.tar.gz to /tmp/loop_over_bdir-95083-HAJg94/Dist-Zilla-Plugin-ChangelogFromGit-CPAN-Changes-0.230680-0/tmp/t_first_release_t/default_1
        # Comparing /tmp/loop_over_bdir-95083-HAJg94/Dist-Zilla-Plugin-ChangelogFromGit-CPAN-Changes-0.230680-0/tmp/eCR3J0AcEg/build/Changes to t/data/changes/first_release
t/first_release.t ...... ok
All tests successful.
Files=5, Tests=36,  4 wallclock secs ( 0.03 usr  0.02 sys +  3.09 cusr  0.85 csys =  3.99 CPU)
Result: PASS

------------------------------
PREREQUISITES
------------------------------

Prerequisite modules loaded:

requires:

    Module                          Need     Have    
    ------------------------------- -------- --------
    Class::Load                     0        0.25    
    CPAN::Changes                   0.400002 0.400002
    CPAN::Changes::Release          0        0       
    DateTime                        0        1.59    
    Dist::Zilla                     6.005    6.030   
    Dist::Zilla::Role::AfterBuild   0        6.030   
    Dist::Zilla::Role::FileGatherer 0        6.030   
    Dist::Zilla::Role::Git::Repo    0        2.048   
    Encode                          0        3.19    
    Git::Wrapper                    0        0.048   
    Moose                           0        2.2203  
    Moose::Util::TypeConstraints    0        2.2203  
    perl                            v5.24.0  5.037010

build_requires:

    Module                          Need     Have    
    ------------------------------- -------- --------
    Archive::Tar                    0        3.00    
    Dist::Zilla::File::InMemory     0        6.030   
    ExtUtils::MakeMaker             0        7.70    
    File::chdir                     0        0.1011  
    File::Spec                      0        3.88    
    IO::Handle                      0        1.51    
    IPC::Open3                      0        1.22    
    lib                             0        0.65    
    Path::Tiny                      0        0.144   
    strict                          0        1.12    
    Test::CheckDeps                 0.010    0.010   
    Test::CPAN::Changes             0        0.400002
    Test::DZil                      0        6.030   
    Test::More                      0.94     1.302194
    Test::Roo                       0        1.004   
    Test::Roo::Role                 0        1.004   
    Test::TempDir::Tiny             0        0.018   
    warnings                        0        1.63    

opt_requires:

    Module                          Need     Have    
    ------------------------------- -------- --------
    Proc::InvokeEditor              0        1.13    


------------------------------
ENVIRONMENT AND OTHER CONTEXT
------------------------------

Environment variables:

    AUTOMATED_TESTING = 1
    LANG = en_US.UTF-8
    LC_ADDRESS = de_DE.UTF-8
    LC_IDENTIFICATION = de_DE.UTF-8
    LC_MEASUREMENT = de_DE.UTF-8
    LC_MONETARY = de_DE.UTF-8
    LC_NAME = de_DE.UTF-8
    LC_NUMERIC = de_DE.UTF-8
    LC_PAPER = de_DE.UTF-8
    LC_TELEPHONE = de_DE.UTF-8
    LC_TIME = de_DE.UTF-8
    PATH = /home/sand/bin:/usr/local/bin:/usr/local/sbin:/usr/sbin:/usr/bin:/sbin:/bin:/usr/games:/usr/local/games:/snap/bin:/usr/local/perl/bin:/usr/X11/bin
    PERL = /tmp/basesmoker-reloperl-ABGN/bin/perl
    PERL5LIB = /tmp/loop_over_bdir-95083-HAJg94/Net-OpenVPN-DDNS-0.1-0/blib/arch:/tmp/loop_over_bdir-95083-HAJg94/Net-OpenVPN-DDNS-0.1-0/blib/lib:/tmp/loop_over_bdir-95083-HAJg94/Devel-Required-0.16-0/blib/arch:/tmp/loop_over_bdir-95083-HAJg94/Devel-Required-0.16-0/blib/lib:/tmp/loop_over_bdir-95083-HAJg94/MP3-PodcastFetch-1.05-0/blib/arch:/tmp/loop_over_bdir-95083-HAJg94/MP3-PodcastFetch-1.05-0/blib/lib:/tmp/loop_over_bdir-95083-HAJg94/Linux-InitFS-0.2-0/blib/arch:/tmp/loop_over_bdir-95083-HAJg94/Linux-InitFS-0.2-0/blib/lib
    PERL5OPT = 
    PERL5_CPANPLUS_IS_RUNNING = 95091
    PERL5_CPAN_IS_RUNNING = 95091
    PERL_CANARY_STABILITY_NOPROMPT = 1
    PERL_MM_USE_DEFAULT = 1
    PERL_USE_UNSAFE_INC = 1
    SHELL = /usr/bin/zsh
    TERM = screen

Perl special variables (and OS-specific diagnostics, for MSWin32):

    $^X = /tmp/basesmoker-reloperl-ABGN/bin/perl
    $UID/$EUID = 1005 / 1005
    $GID = 1005 1005
    $EGID = 1005 1005

Perl module toolchain versions installed:

    Module              Have    
    ------------------- --------
    CPAN                2.34    
    CPAN::Meta          2.150010
    Cwd                 3.89    
    ExtUtils::CBuilder  0.280238
    ExtUtils::Command   7.70    
    ExtUtils::Install   2.22    
    ExtUtils::MakeMaker 7.70    
    ExtUtils::Manifest  1.73    
    ExtUtils::ParseXS   3.49    
    File::Spec          3.88    
    JSON                4.10    
    JSON::PP            4.16    
    Module::Build       0.4232  
    Module::Signature   0.88    
    Parse::CPAN::Meta   2.150010
    Test::Harness       3.44    
    Test::More          1.302194
    YAML                1.30    
    YAML::Syck          1.34    
    version             0.9929  


--

Summary of my perl5 (revision 5 version 37 subversion 10) configuration:
  Commit id: d62f5d9eddd273f5a82c0dbad932a8f4d18f9488
  Platform:
    osname=linux
    osvers=5.19.0-38-generic
    archname=x86_64-linux-thread-multi
    uname='linux k93jammy 5.19.0-38-generic #39~22.04.1-ubuntu smp preempt_dynamic fri mar 17 21:16:15 utc 2 x86_64 x86_64 x86_64 gnulinux '
    config_args='-Dprefix=/home/sand/src/perl/repoperls/installed-perls/host/k93jammy/v5.37.10/b4f3 -Dmyhostname=k93jammy -Dinstallusrbinperl=n -Uversiononly -Dusedevel -des -Ui_db -Dlibswanted=cl pthread socket inet nsl gdbm dbm malloc dl ld sun m crypt sec util c cposix posix ucb BSD gdbm_compat -Duseithreads -Uuselongdouble -DEBUGGING=-g'
    hint=recommended
    useposix=true
    d_sigaction=define
    useithreads=define
    usemultiplicity=define
    use64bitint=define
    use64bitall=define
    uselongdouble=undef
    usemymalloc=n
    default_inc_excludes_dot=define
  Compiler:
    cc='cc'
    ccflags ='-D_REENTRANT -D_GNU_SOURCE -fwrapv -fno-strict-aliasing -pipe -fstack-protector-strong -I/usr/local/include -D_LARGEFILE_SOURCE -D_FILE_OFFSET_BITS=64'
    optimize='-O2 -g'
    cppflags='-D_REENTRANT -D_GNU_SOURCE -fwrapv -fno-strict-aliasing -pipe -fstack-protector-strong -I/usr/local/include'
    ccversion=''
    gccversion='11.3.0'
    gccosandvers=''
    intsize=4
    longsize=8
    ptrsize=8
    doublesize=8
    byteorder=12345678
    doublekind=3
    d_longlong=define
    longlongsize=8
    d_longdbl=define
    longdblsize=16
    longdblkind=3
    ivtype='long'
    ivsize=8
    nvtype='double'
    nvsize=8
    Off_t='off_t'
    lseeksize=8
    alignbytes=8
    prototype=define
  Linker and Libraries:
    ld='cc'
    ldflags =' -fstack-protector-strong -L/usr/local/lib'
    libpth=/usr/local/lib /usr/lib/x86_64-linux-gnu /usr/lib /usr/lib64
    libs=-lpthread -lnsl -ldl -lm -lcrypt -lutil -lc
    perllibs=-lpthread -lnsl -ldl -lm -lcrypt -lutil -lc
    libc=/lib/x86_64-linux-gnu/libc.so.6
    so=so
    useshrplib=false
    libperl=libperl.a
    gnulibc_version='2.35'
  Dynamic Linking:
    dlsrc=dl_dlopen.xs
    dlext=so
    d_dlsymun=undef
    ccdlflags='-Wl,-E'
    cccdlflags='-fPIC'
    lddlflags='-shared -O2 -g -L/usr/local/lib -fstack-protector-strong'


Characteristics of this binary (from libperl): 
  Compile-time options:
    HAS_TIMES
    MULTIPLICITY
    PERLIO_LAYERS
    PERL_COPY_ON_WRITE
    PERL_DONT_CREATE_GVSV
    PERL_HASH_FUNC_SIPHASH13
    PERL_HASH_USE_SBOX32
    PERL_MALLOC_WRAP
    PERL_OP_PARENT
    PERL_PRESERVE_IVUV
    PERL_USE_DEVEL
    PERL_USE_SAFE_PUTENV
    USE_64_BIT_ALL
    USE_64_BIT_INT
    USE_ITHREADS
    USE_LARGE_FILES
    USE_LOCALE
    USE_LOCALE_COLLATE
    USE_LOCALE_CTYPE
    USE_LOCALE_NUMERIC
    USE_LOCALE_TIME
    USE_PERLIO
    USE_PERL_ATOF
    USE_REENTRANT_API
    USE_THREAD_SAFE_LOCALE
  Built under linux
  Compiled at Apr  1 2023 07:03:51
  %ENV:
    PERL="/tmp/basesmoker-reloperl-ABGN/bin/perl"
    PERL5LIB="/tmp/loop_over_bdir-95083-HAJg94/Net-OpenVPN-DDNS-0.1-0/blib/arch:/tmp/loop_over_bdir-95083-HAJg94/Net-OpenVPN-DDNS-0.1-0/blib/lib:/tmp/loop_over_bdir-95083-HAJg94/Devel-Required-0.16-0/blib/arch:/tmp/loop_over_bdir-95083-HAJg94/Devel-Required-0.16-0/blib/lib:/tmp/loop_over_bdir-95083-HAJg94/MP3-PodcastFetch-1.05-0/blib/arch:/tmp/loop_over_bdir-95083-HAJg94/MP3-PodcastFetch-1.05-0/blib/lib:/tmp/loop_over_bdir-95083-HAJg94/Linux-InitFS-0.2-0/blib/arch:/tmp/loop_over_bdir-95083-HAJg94/Linux-InitFS-0.2-0/blib/lib"
    PERL5OPT=""
    PERL5_CPANPLUS_IS_RUNNING="95091"
    PERL5_CPAN_IS_RUNNING="95091"
    PERL_CANARY_STABILITY_NOPROMPT="1"
    PERL_MM_USE_DEFAULT="1"
    PERL_USE_UNSAFE_INC="1"
  @INC:
    /tmp/loop_over_bdir-95083-HAJg94/Net-OpenVPN-DDNS-0.1-0/blib/arch
    /tmp/loop_over_bdir-95083-HAJg94/Net-OpenVPN-DDNS-0.1-0/blib/lib
    /tmp/loop_over_bdir-95083-HAJg94/Devel-Required-0.16-0/blib/arch
    /tmp/loop_over_bdir-95083-HAJg94/Devel-Required-0.16-0/blib/lib
    /tmp/loop_over_bdir-95083-HAJg94/MP3-PodcastFetch-1.05-0/blib/arch
    /tmp/loop_over_bdir-95083-HAJg94/MP3-PodcastFetch-1.05-0/blib/lib
    /tmp/loop_over_bdir-95083-HAJg94/Linux-InitFS-0.2-0/blib/arch
    /tmp/loop_over_bdir-95083-HAJg94/Linux-InitFS-0.2-0/blib/lib
    /home/sand/src/perl/repoperls/installed-perls/host/k93jammy/v5.37.10/b4f3/lib/site_perl/5.37.10/x86_64-linux-thread-multi
    /home/sand/src/perl/repoperls/installed-perls/host/k93jammy/v5.37.10/b4f3/lib/site_perl/5.37.10
    /home/sand/src/perl/repoperls/installed-perls/host/k93jammy/v5.37.10/b4f3/lib/5.37.10/x86_64-linux-thread-multi
    /home/sand/src/perl/repoperls/installed-perls/host/k93jammy/v5.37.10/b4f3/lib/5.37.10
    .