Dependencies-Searcher v0.066_005 Perl 5 v5.32.1 i386-openbsd
- Status
- Pass
- From
- Alceu Rodrigues de Freitas Junior
- Dist
-
Dependencies-Searcher v0.066_005
- Platform
- Perl 5 v5.32.1 i386-openbsd
- Date
- 2022-06-29 15:57:55
- ID
- 3d4d99d6-f7c4-11ec-b737-db65ffa5fe2c
This distribution has been tested as part of the CPAN Testers
project, supporting the Perl programming language. See
http://wiki.cpantesters.org/ for more information or email
questions to cpan-testers-discuss@perl.org
--
Dear Sebastien Feugere,
This is a computer-generated report for Dependencies-Searcher-0.066_005
on perl 5.32.1, created by CPAN-Reporter-1.2018.
Thank you for uploading your work to CPAN. Congratulations!
All tests were successful.
Sections of this report:
* Tester comments
* Program output
* Prerequisites
* Environment and other context
------------------------------
TESTER COMMENTS
------------------------------
Additional comments from tester:
this report is from an automated smoke testing program
and was not reviewed by a human for accuracy
If you would like to try to reproduce this report results or even to work with
the same environment for a bug fix, please refer to
https://github.com/glasswalk3r/cpan-openbsd-smoker to see how to use the
prebuilt virtual machines available.
------------------------------
PROGRAM OUTPUT
------------------------------
Output from '/usr/bin/make test':
PERL_DL_NONLAZY=1 "/usr/bin/perl" "-MExtUtils::Command::MM" "-MTest::Harness" "-e" "undef *Test::Harness::Switches; test_harness(0, 'blib/lib', 'blib/arch')" t/*.t
# Testing Dependencies::Searcher 0.066_005, Perl 5.032001, /usr/bin/perl
t/00-load.t ............... ok
t/01_corelist.t ........... ok
t/02_get_files.t .......... ok
[0;38;5;81m[[0m
[0;38;5;146m[0] [0m[0;38;5;81m"[0m[0;38;5;107muse 5.010;[0m[0;38;5;81m"[0m[0;38;5;81m,[0m
[0;38;5;146m[1] [0m[0;38;5;81m"[0m[0;38;5;107muse Data::Printer;[0m[0;38;5;81m"[0m[0;38;5;81m,[0m
[0;38;5;146m[2] [0m[0;38;5;81m"[0m[0;38;5;107muse feature qw(say);[0m[0;38;5;81m"[0m[0;38;5;81m,[0m
[0;38;5;146m[3] [0m[0;38;5;81m"[0m[0;38;5;107muse Module::CoreList;[0m[0;38;5;81m"[0m[0;38;5;81m,[0m
[0;38;5;146m[4] [0m[0;38;5;81m"[0m[0;38;5;107muse Module::Version 'get_version';[0m[0;38;5;81m"[0m[0;38;5;81m,[0m
[0;38;5;146m[5] [0m[0;38;5;81m"[0m[0;38;5;107muse autodie;[0m[0;38;5;81m"[0m[0;38;5;81m,[0m
[0;38;5;146m[6] [0m[0;38;5;81m"[0m[0;38;5;107muse Moose;[0m[0;38;5;81m"[0m[0;38;5;81m,[0m
[0;38;5;146m[7] [0m[0;38;5;81m"[0m[0;38;5;107muse IO::File; [0m[0;38;5;81m"[0m[0;38;5;81m,[0m
[0;38;5;146m[8] [0m[0;38;5;81m"[0m[0;38;5;107muse File::HomeDir;[0m[0;38;5;81m"[0m[0;38;5;81m,[0m
[0;38;5;146m[9] [0m[0;38;5;81m"[0m[0;38;5;107muse Version::Compare;[0m[0;38;5;81m"[0m[0;38;5;81m,[0m
[0;38;5;146m[10] [0m[0;38;5;81m"[0m[0;38;5;107muse Path::Class;[0m[0;38;5;81m"[0m[0;38;5;81m,[0m
[0;38;5;146m[11] [0m[0;38;5;81m"[0m[0;38;5;107muse ExtUtils::Installed;[0m[0;38;5;81m"[0m[0;38;5;81m,[0m
[0;38;5;146m[12] [0m[0;38;5;81m"[0m[0;38;5;107muse File::Next;[0m[0;38;5;81m"[0m[0;38;5;81m,[0m
[0;38;5;146m[13] [0m[0;38;5;81m"[0m[0;38;5;107muse PPI;[0m[0;38;5;81m"[0m[0;38;5;81m,[0m
[0;38;5;146m[14] [0m[0;38;5;81m"[0m[0;38;5;107muse Term::ANSIColor;[0m[0;38;5;81m"[0m[0;38;5;81m,[0m
[0;38;5;146m[15] [0m[0;38;5;81m"[0m[0;38;5;107muse \s[0m[0;38;5;81m"[0m[0;38;5;81m,[0m
[0;38;5;146m[16] [0m[0;38;5;81m"[0m[0;38;5;107muse 5.010;[0m[0;38;5;81m"[0m[0;38;5;81m,[0m
[0;38;5;146m[17] [0m[0;38;5;81m"[0m[0;38;5;107muse strict;[0m[0;38;5;81m"[0m[0;38;5;81m,[0m
[0;38;5;146m[18] [0m[0;38;5;81m"[0m[0;38;5;107muse warnings FATAL => 'all';[0m[0;38;5;81m"[0m[0;38;5;81m,[0m
[0;38;5;146m[19] [0m[0;38;5;81m"[0m[0;38;5;107muse ExtUtils::MakeMaker;[0m[0;38;5;81m"[0m
[0;38;5;81m][0m
t/03-get_modules.t ........ ok
t/04-avoid-superfluous.t .. ok
t/05-regex-cleaner.t ...... ok
[0;38;5;81m[[0m
[0;38;5;146m[0] [0m[0;38;5;81m"[0m[0;38;5;107muse 5.010;[0m[0;38;5;81m"[0m[0;38;5;81m,[0m
[0;38;5;146m[1] [0m[0;38;5;81m"[0m[0;38;5;107muse Data::Printer;[0m[0;38;5;81m"[0m[0;38;5;81m,[0m
[0;38;5;146m[2] [0m[0;38;5;81m"[0m[0;38;5;107muse feature qw(say);[0m[0;38;5;81m"[0m[0;38;5;81m,[0m
[0;38;5;146m[3] [0m[0;38;5;81m"[0m[0;38;5;107muse Module::CoreList;[0m[0;38;5;81m"[0m[0;38;5;81m,[0m
[0;38;5;146m[4] [0m[0;38;5;81m"[0m[0;38;5;107muse Module::Version 'get_version';[0m[0;38;5;81m"[0m[0;38;5;81m,[0m
[0;38;5;146m[5] [0m[0;38;5;81m"[0m[0;38;5;107muse autodie;[0m[0;38;5;81m"[0m[0;38;5;81m,[0m
[0;38;5;146m[6] [0m[0;38;5;81m"[0m[0;38;5;107muse Moose;[0m[0;38;5;81m"[0m[0;38;5;81m,[0m
[0;38;5;146m[7] [0m[0;38;5;81m"[0m[0;38;5;107muse IO::File; [0m[0;38;5;81m"[0m[0;38;5;81m,[0m
[0;38;5;146m[8] [0m[0;38;5;81m"[0m[0;38;5;107muse File::HomeDir;[0m[0;38;5;81m"[0m[0;38;5;81m,[0m
[0;38;5;146m[9] [0m[0;38;5;81m"[0m[0;38;5;107muse Version::Compare;[0m[0;38;5;81m"[0m[0;38;5;81m,[0m
[0;38;5;146m[10] [0m[0;38;5;81m"[0m[0;38;5;107muse Path::Class;[0m[0;38;5;81m"[0m[0;38;5;81m,[0m
[0;38;5;146m[11] [0m[0;38;5;81m"[0m[0;38;5;107muse ExtUtils::Installed;[0m[0;38;5;81m"[0m[0;38;5;81m,[0m
[0;38;5;146m[12] [0m[0;38;5;81m"[0m[0;38;5;107muse File::Next;[0m[0;38;5;81m"[0m[0;38;5;81m,[0m
[0;38;5;146m[13] [0m[0;38;5;81m"[0m[0;38;5;107muse PPI;[0m[0;38;5;81m"[0m[0;38;5;81m,[0m
[0;38;5;146m[14] [0m[0;38;5;81m"[0m[0;38;5;107muse Term::ANSIColor;[0m[0;38;5;81m"[0m[0;38;5;81m,[0m
[0;38;5;146m[15] [0m[0;38;5;81m"[0m[0;38;5;107muse \s[0m[0;38;5;81m"[0m[0;38;5;81m,[0m
[0;38;5;146m[16] [0m[0;38;5;81m"[0m[0;38;5;107muse 5.010;[0m[0;38;5;81m"[0m[0;38;5;81m,[0m
[0;38;5;146m[17] [0m[0;38;5;81m"[0m[0;38;5;107muse strict;[0m[0;38;5;81m"[0m[0;38;5;81m,[0m
[0;38;5;146m[18] [0m[0;38;5;81m"[0m[0;38;5;107muse warnings FATAL => 'all';[0m[0;38;5;81m"[0m[0;38;5;81m,[0m
[0;38;5;146m[19] [0m[0;38;5;81m"[0m[0;38;5;107muse ExtUtils::MakeMaker;[0m[0;38;5;81m"[0m
[0;38;5;81m][0m
[0;38;5;81m[][0m
t/06-regex-pattern.t ...... ok
t/10-cpanfile.t ........... ok
t/manifest.t .............. skipped: Author tests not required for installation
t/pod-coverage.t .......... ok
t/pod.t ................... ok
All tests successful.
Files=11, Tests=372, 10 wallclock secs ( 0.08 usr 0.08 sys + 6.99 cusr 2.93 csys = 10.08 CPU)
Result: PASS
------------------------------
PREREQUISITES
------------------------------
Prerequisite modules loaded:
requires:
Module Need Have
------------------- ---------- ----------
Data::Printer 0.35 1.000004
File::HomeDir 1 1.006
File::Next 1.12 1.18
Module::CoreList 5.20160429 5.20220620
Module::Version 0.12 0.201
Moose 2.0602 2.2201
Path::Class 0.32 0.37
perl 5.010 5.032001
PPI 1.22 1.274
Version::Compare 0.14 0.14
build_requires:
Module Need Have
------------------- ---------- ----------
IO::File 0 1.48
Module::Version 0.12 0.201
Test::More 0 1.302190
Test::Pod 1.48 1.52
Test::Pod::Coverage 1.08 1.10
configure_requires:
Module Need Have
------------------- ---------- ----------
ExtUtils::MakeMaker 6.74 7.65_01
------------------------------
ENVIRONMENT AND OTHER CONTEXT
------------------------------
Environment variables:
AUTOMATED_TESTING = 1
PATH = /home/goku/perl5/bin:/usr/bin:/bin:/usr/sbin:/sbin:/usr/X11R6/bin:/usr/local/bin:/usr/local/sbin
PERL5LIB = /home/goku/perl5/lib/perl5
PERL5OPT =
PERL5_CPANPLUS_IS_RUNNING = 85762
PERL5_CPAN_IS_RUNNING = 85762
PERL5_CPAN_IS_RUNNING_IN_RECURSION = 1201,85762
PERL_CR_SMOKER_CURRENT = Dependencies-Searcher-0.066_005
PERL_EXTUTILS_AUTOINSTALL = --defaultdeps
PERL_LOCAL_LIB_ROOT = /home/goku/perl5
PERL_MB_OPT = --install_base "/home/goku/perl5"
PERL_MM_OPT = INSTALL_BASE=/home/goku/perl5
PERL_MM_USE_DEFAULT = 1
PERL_USE_UNSAFE_INC = 1
SHELL = /bin/ksh
TERM = xterm-256color
Perl special variables (and OS-specific diagnostics, for MSWin32):
$^X = /usr/bin/perl
$UID/$EUID = 1001 / 1001
$GID = 1002 1002 1001
$EGID = 1002 1002 1001
Perl module toolchain versions installed:
Module Have
------------------- --------
CPAN 2.34
CPAN::Meta 2.150010
Cwd 3.78
ExtUtils::CBuilder 0.280236
ExtUtils::Command 7.65_01
ExtUtils::Install 2.20
ExtUtils::MakeMaker 7.65_01
ExtUtils::Manifest 1.73
ExtUtils::ParseXS 3.44
File::Spec 3.78
JSON 4.06
JSON::PP 4.09
Module::Build 0.4231
Module::Signature n/a
Parse::CPAN::Meta 2.150010
Test::Harness 3.44
Test::More 1.302190
YAML 1.30
YAML::Syck 1.34
version 0.9929
--
Summary of my perl5 (revision 5 version 32 subversion 1) configuration:
Platform:
osname=openbsd
osvers=7.1
archname=i386-openbsd
uname='openbsd'
config_args='-dse -Dopenbsd_distribution=defined -Dmksymlinks'
hint=recommended
useposix=true
d_sigaction=define
useithreads=undef
usemultiplicity=undef
use64bitint=undef
use64bitall=undef
uselongdouble=undef
usemymalloc=n
default_inc_excludes_dot=define
bincompat5005=undef
Compiler:
cc='cc'
ccflags ='-DNO_LOCALE_NUMERIC -DNO_LOCALE_COLLATE -fno-strict-aliasing -fno-delete-null-pointer-checks -pipe -fstack-protector-strong -I/usr/local/include'
optimize='-O2'
cppflags='-DBIG_TIME -DNO_LOCALE_NUMERIC -DNO_LOCALE_COLLATE -fno-strict-aliasing -fno-delete-null-pointer-checks -pipe -fstack-protector-strong -I/usr/local/include'
ccversion=''
gccversion='OpenBSD Clang 13.0.0'
gccosandvers=''
intsize=4
longsize=4
ptrsize=4
doublesize=8
byteorder=1234
doublekind=3
d_longlong=define
longlongsize=8
d_longdbl=define
longdblsize=12
longdblkind=3
ivtype='long'
ivsize=4
nvtype='double'
nvsize=8
Off_t='off_t'
lseeksize=8
alignbytes=4
prototype=define
Linker and Libraries:
ld='cc'
ldflags ='-Wl,-E -fstack-protector-strong -L/usr/local/lib'
libpth=/usr/lib /usr/lib/clang/13.0.0/lib /usr/lib
libs=-lm -lc
perllibs=-lm -lc
libc=/usr/lib/libc.so.96.1
so=so
useshrplib=true
libperl=libperl.so.22.0
gnulibc_version=''
Dynamic Linking:
dlsrc=dl_dlopen.xs
dlext=so
d_dlsymun=undef
ccdlflags='-Wl,-R/usr/libdata/perl5/i386-openbsd/CORE'
cccdlflags='-DPIC -fpic '
lddlflags='-shared -fpic -fstack-protector-strong -L/usr/local/lib'
Characteristics of this binary (from libperl):
Compile-time options:
HAS_TIMES
PERLIO_LAYERS
PERL_COPY_ON_WRITE
PERL_DONT_CREATE_GVSV
PERL_MALLOC_WRAP
PERL_OP_PARENT
PERL_PRESERVE_IVUV
USE_LARGE_FILES
USE_LOCALE
USE_LOCALE_CTYPE
USE_LOCALE_TIME
USE_PERLIO
USE_PERL_ATOF
Built under openbsd
%ENV:
PERL5LIB="/home/goku/perl5/lib/perl5"
PERL5OPT=""
PERL5_CPANPLUS_IS_RUNNING="85762"
PERL5_CPAN_IS_RUNNING="85762"
PERL5_CPAN_IS_RUNNING_IN_RECURSION="1201,85762"
PERL_CR_SMOKER_CURRENT="Dependencies-Searcher-0.066_005"
PERL_EXTUTILS_AUTOINSTALL="--defaultdeps"
PERL_LOCAL_LIB_ROOT="/home/goku/perl5"
PERL_MB_OPT="--install_base "/home/goku/perl5""
PERL_MM_OPT="INSTALL_BASE=/home/goku/perl5"
PERL_MM_USE_DEFAULT="1"
PERL_USE_UNSAFE_INC="1"
@INC:
/home/goku/perl5/lib/perl5/5.32.1/i386-openbsd
/home/goku/perl5/lib/perl5/5.32.1
/home/goku/perl5/lib/perl5/i386-openbsd
/home/goku/perl5/lib/perl5
/usr/local/libdata/perl5/site_perl/i386-openbsd
/usr/local/libdata/perl5/site_perl
/usr/libdata/perl5/i386-openbsd
/usr/libdata/perl5
.