DBD-BlackHole v0.04 Perl 5 v5.8.9 i686-linux-thread-multi
- Status
- Pass
- From
- Nigel Horne
- Dist
-
DBD-BlackHole v0.04
- Platform
- Perl 5 v5.8.9 i686-linux-thread-multi
- Date
- 2017-08-28 12:05:53
- ID
- 3d66f81e-8be9-11e7-8929-daabf0ac1f1e
This distribution has been tested as part of the CPAN Testers
project, supporting the Perl programming language. See
http://wiki.cpantesters.org/ for more information or email
questions to cpan-testers-discuss@perl.org
--
Dear karupanerura,
This is a computer-generated report for DBD-BlackHole-0.04
on perl 5.8.9, created by CPAN-Reporter-1.2017.
Thank you for uploading your work to CPAN. Congratulations!
All tests were successful.
Sections of this report:
* Tester comments
* Program output
* Prerequisites
* Environment and other context
------------------------------
TESTER COMMENTS
------------------------------
Additional comments from tester:
this report is from an automated smoke testing program
and was not reviewed by a human for accuracy
------------------------------
PROGRAM OUTPUT
------------------------------
Output from './Build test':
t/00_compile.t ...... ok
t/01_connect.t ...... ok
t/02_do.t ........... ok
t/03_prepare.t ...... ok
t/04_quote.t ........ ok
t/05_transaction.t .. ok
t/06_sth.t .......... ok
All tests successful.
Files=7, Tests=67, 0 wallclock secs ( 0.04 usr 0.02 sys + 0.26 cusr 0.03 csys = 0.35 CPU)
Result: PASS
------------------------------
PREREQUISITES
------------------------------
Prerequisite modules loaded:
requires:
Module Need Have
------------------- -------- --------
DBI 0 1.634
perl 5.008001 5.008009
build_requires:
Module Need Have
------------------- -------- --------
Test::More 0.98 1.001014
configure_requires:
Module Need Have
------------------- -------- --------
Module::Build::Tiny 0.035 0.039
------------------------------
ENVIRONMENT AND OTHER CONTEXT
------------------------------
Environment variables:
AUTOMATED_TESTING = 1
HARNESS_OPTIONS = j2
LANG = en_US.UTF-8
PATH = /home/njh/perl5/perlbrew/bin:/home/njh/perl5/perlbrew/perls/perl-5.8.9/bin:/home/njh/perl5/perlbrew/bin:/usr/bin:/bin
PERL5LIB = /home/njh/.cpan/build/Module-Build-Tiny-0.039-8/blib/arch:/home/njh/.cpan/build/Module-Build-Tiny-0.039-8/blib/lib:/home/njh/.cpan/build/ExtUtils-InstallPaths-0.011-8/blib/arch:/home/njh/.cpan/build/ExtUtils-InstallPaths-0.011-8/blib/lib:/home/njh/.cpan/build/ExtUtils-Helpers-0.026-8/blib/arch:/home/njh/.cpan/build/ExtUtils-Helpers-0.026-8/blib/lib:/home/njh/.cpan/build/ExtUtils-Config-0.008-8/blib/arch:/home/njh/.cpan/build/ExtUtils-Config-0.008-8/blib/lib
PERL5OPT =
PERL5_CPANPLUS_IS_RUNNING = 22613
PERL5_CPAN_IS_RUNNING = 22613
PERLBREW_BASHRC_VERSION = 0.73
PERLBREW_HOME = /home/njh/.perlbrew
PERLBREW_LIB =
PERLBREW_MANPATH = /home/njh/perl5/perlbrew/perls/perl-5.8.9/man
PERLBREW_PATH = /home/njh/perl5/perlbrew/bin:/home/njh/perl5/perlbrew/perls/perl-5.8.9/bin
PERLBREW_PERL = perl-5.8.9
PERLBREW_ROOT = /home/njh/perl5/perlbrew
PERLBREW_VERSION = 0.73
PERL_LOCAL_LIB_ROOT =
SHELL = /bin/sh
Perl special variables (and OS-specific diagnostics, for MSWin32):
$^X = /home/njh/perl5/perlbrew/perls/perl-5.8.9/bin/perl5.8.9
$UID/$EUID = 1000 / 1000
$GID = 1000 4 24 25 29 30 44 46 108 1000
$EGID = 1000 4 24 25 29 30 44 46 108 1000
Perl module toolchain versions installed:
Module Have
------------------- --------
CPAN 2.16
CPAN::Meta 2.150005
Cwd 3.60
ExtUtils::CBuilder 0.280224
ExtUtils::Command 7.18
ExtUtils::Install 1.54
ExtUtils::MakeMaker 7.18
ExtUtils::Manifest 1.70
ExtUtils::ParseXS 3.30
File::Spec 3.60
JSON n/a
JSON::PP 2.27203
Module::Build 0.4216
Module::Signature n/a
Parse::CPAN::Meta 1.4417
Test::Harness 3.35
Test::More 1.001014
YAML 1.23
YAML::Syck 1.30
version 0.9912
--
Summary of my perl5 (revision 5 version 8 subversion 9) configuration:
Platform:
osname=linux, osvers=4.2.0-1-686-pae, archname=i686-linux-thread-multi
uname='linux zack 4.2.0-1-686-pae #1 smp debian 4.2.6-1 (2015-11-10) i686 gnulinux '
config_args='-de -Dprefix=/home/njh/perl5/perlbrew/perls/perl-5.8.9 -Duseithreads -Dusemultiplicity -Dusedevel -Accflags= -Aeval:scriptdir=/home/njh/perl5/perlbrew/perls/perl-5.8.9/bin'
hint=recommended, useposix=true, d_sigaction=define
usethreads=define use5005threads=undef useithreads=define usemultiplicity=define
useperlio=define d_sfio=undef uselargefiles=define usesocks=undef
use64bitint=undef use64bitall=undef uselongdouble=undef
usemymalloc=n, bincompat5005=undef
Compiler:
cc='cc', ccflags ='-D_REENTRANT -D_GNU_SOURCE -fno-strict-aliasing -pipe -I/usr/local/include -D_LARGEFILE_SOURCE -D_FILE_OFFSET_BITS=64',
optimize='-O2',
cppflags='-D_REENTRANT -D_GNU_SOURCE -fno-strict-aliasing -pipe -I/usr/local/include'
ccversion='', gccversion='5.2.1 20151121', gccosandvers=''
intsize=4, longsize=4, ptrsize=4, doublesize=8, byteorder=1234
d_longlong=define, longlongsize=8, d_longdbl=define, longdblsize=12
ivtype='long', ivsize=4, nvtype='double', nvsize=8, Off_t='off_t', lseeksize=8
alignbytes=4, prototype=define
Linker and Libraries:
ld='cc', ldflags =' -L/usr/local/lib'
libpth=/usr/local/lib /lib/i386-linux-gnu /lib/../lib /usr/lib/i386-linux-gnu /usr/lib/../lib /lib /usr/lib
libs=-lnsl -lgdbm -ldb -ldl -lm -lcrypt -lutil -lpthread -lc -lgdbm_compat
perllibs=-lnsl -ldl -lm -lcrypt -lutil -lpthread -lc -lgdbm_compat
libc=libc-2.19.so, so=so, useshrplib=false, libperl=libperl.a
gnulibc_version='2.19'
Dynamic Linking:
dlsrc=dl_dlopen.xs, dlext=so, d_dlsymun=undef, ccdlflags='-Wl,-E'
cccdlflags='-fPIC', lddlflags='-shared -O2 -L/usr/local/lib'
Characteristics of this binary (from libperl):
Compile-time options: MULTIPLICITY PERL_IMPLICIT_CONTEXT PERL_MALLOC_WRAP
USE_FAST_STDIO USE_ITHREADS USE_LARGE_FILES
USE_PERLIO USE_REENTRANT_API
Locally applied patches:
Devel::PatchPerl 1.38
Built under linux
Compiled at Nov 24 2015 05:20:18
%ENV:
PERL5LIB="/home/njh/.cpan/build/Module-Build-Tiny-0.039-8/blib/arch:/home/njh/.cpan/build/Module-Build-Tiny-0.039-8/blib/lib:/home/njh/.cpan/build/ExtUtils-InstallPaths-0.011-8/blib/arch:/home/njh/.cpan/build/ExtUtils-InstallPaths-0.011-8/blib/lib:/home/njh/.cpan/build/ExtUtils-Helpers-0.026-8/blib/arch:/home/njh/.cpan/build/ExtUtils-Helpers-0.026-8/blib/lib:/home/njh/.cpan/build/ExtUtils-Config-0.008-8/blib/arch:/home/njh/.cpan/build/ExtUtils-Config-0.008-8/blib/lib"
PERL5OPT=""
PERL5_CPANPLUS_IS_RUNNING="22613"
PERL5_CPAN_IS_RUNNING="22613"
PERLBREW_BASHRC_VERSION="0.73"
PERLBREW_HOME="/home/njh/.perlbrew"
PERLBREW_LIB=""
PERLBREW_MANPATH="/home/njh/perl5/perlbrew/perls/perl-5.8.9/man"
PERLBREW_PATH="/home/njh/perl5/perlbrew/bin:/home/njh/perl5/perlbrew/perls/perl-5.8.9/bin"
PERLBREW_PERL="perl-5.8.9"
PERLBREW_ROOT="/home/njh/perl5/perlbrew"
PERLBREW_VERSION="0.73"
PERL_LOCAL_LIB_ROOT=""
@INC:
/home/njh/.cpan/build/Module-Build-Tiny-0.039-8/blib/arch
/home/njh/.cpan/build/Module-Build-Tiny-0.039-8/blib/lib
/home/njh/.cpan/build/ExtUtils-InstallPaths-0.011-8/blib/arch
/home/njh/.cpan/build/ExtUtils-InstallPaths-0.011-8/blib/lib
/home/njh/.cpan/build/ExtUtils-Helpers-0.026-8/blib/arch
/home/njh/.cpan/build/ExtUtils-Helpers-0.026-8/blib/lib
/home/njh/.cpan/build/ExtUtils-Config-0.008-8/blib/arch
/home/njh/.cpan/build/ExtUtils-Config-0.008-8/blib/lib
/home/njh/perl5/perlbrew/perls/perl-5.8.9/lib/5.8.9/i686-linux-thread-multi
/home/njh/perl5/perlbrew/perls/perl-5.8.9/lib/5.8.9
/home/njh/perl5/perlbrew/perls/perl-5.8.9/lib/site_perl/5.8.9/i686-linux-thread-multi
/home/njh/perl5/perlbrew/perls/perl-5.8.9/lib/site_perl/5.8.9
.