Report for XML-XPath-1.42

Back
From: metabase:user:266999b2-030e-11e4-a1d5-1dc8ae65d48f
Subject: PASS XML-XPath-1.42 v5.24.1 Mac OS X
Date: 2017-08-08T03:11:15Z

This distribution has been tested as part of the CPAN Testers
project, supporting the Perl programming language.  See
http://wiki.cpantesters.org/ for more information or email
questions to cpan-testers-discuss@perl.org


--
Dear Mohammad S Anwar,

This is a computer-generated report for XML-XPath-1.42
on perl 5.24.1, created by CPAN-Reporter-1.2018.

Thank you for uploading your work to CPAN.  Congratulations!
All tests were successful.

Sections of this report:

    * Tester comments
    * Program output
    * Prerequisites
    * Environment and other context

------------------------------
TESTER COMMENTS
------------------------------

Additional comments from tester:

none provided

------------------------------
PROGRAM OUTPUT
------------------------------

Output from '/opt/local/bin/gmake test':

PERL_DL_NONLAZY=1 "/opt/Perl/bin/perl" "-MExtUtils::Command::MM" "-MTest::Harness" "-e" "undef *Test::Harness::Switches; test_harness(0, 'blib/lib', 'blib/arch')" t/*.t
# Testing XML::XPath 1.42, Perl 5.024001, /opt/Perl/bin/perl
t/00load.t .................... ok
t/01basic.t ................... ok
t/02descendant.t .............. ok
t/03star.t .................... ok
t/04pos.t ..................... ok
t/05attrib.t .................. ok
t/06attrib_val.t .............. ok
t/07count.t ................... ok
t/08name.t .................... ok
t/09a_string_length.t ......... ok
t/09string_length.t ........... ok
t/10pipe.t .................... ok
t/11axischild.t ............... ok
t/12axisdescendant.t .......... ok
t/13axisparent.t .............. ok
t/14axisancestor.t ............ ok
t/15axisfol_sib.t ............. ok
t/16axisprec_sib.t ............ ok
t/17axisfollowing.t ........... ok
t/18axispreceding.t ........... ok
t/19axisd_or_s.t .............. ok
t/20axisa_or_s.t .............. ok
t/21allnodes.t ................ ok
t/22name_select.t ............. ok
t/23func.t .................... ok
t/24namespaces.t .............. ok
t/25scope.t ................... ok
t/26predicate.t ............... ok
t/27asxml.t ................... ok
t/28ancestor2.t ............... ok
t/29desc_with_predicate.t ..... ok
t/30lang.t .................... ok
t/31dots.t .................... ok
t/32duplicate_nodes.t ......... ok
t/33getnodetext.t ............. ok
t/34non_abbreviated_attrib.t .. ok
t/35namespace_uri.t ........... ok
t/36substring.t ............... ok
t/37concat.t .................. ok
t/38starts_with.t ............. ok
t/39contains.t ................ ok
t/40substring_before.t ........ ok
t/41substring_after.t ......... ok
t/42create_node.t ............. ok
t/43op_div.t .................. ok
t/44test_compare.t ............ ok
t/45cmp_nodeset.t ............. ok
t/46context.t ................. ok
t/47position.t ................ ok
t/48translate.t ............... ok
t/49literal.t ................. ok
t/50xmlxpathparsercache.t ..... ok
t/51elementname.t ............. ok
t/insert.t .................... ok
t/meta-json.t ................. ok
t/meta-yml.t .................. ok
t/rdf.t ....................... ok
t/remove.t .................... ok
t/stress.t .................... ok
All tests successful.
Files=59, Tests=414,  5 wallclock secs ( 0.16 usr  0.12 sys +  4.35 cusr  0.51 csys =  5.14 CPU)
Result: PASS

------------------------------
PREREQUISITES
------------------------------

Prerequisite modules loaded:

requires:

    Module              Need  Have    
    ------------------- ----- --------
    perl                5.006 5.024001
    Scalar::Util        1.45  1.48    
    XML::Parser         2.23  2.44    

build_requires:

    Module              Need  Have    
    ------------------- ----- --------
    Path::Tiny          0.076 0.104   
    Test::More          0     1.302085

configure_requires:

    Module              Need  Have    
    ------------------- ----- --------
    ExtUtils::MakeMaker 0     7.24    


------------------------------
ENVIRONMENT AND OTHER CONTEXT
------------------------------

Environment variables:

    LANG = en_US.UTF-8
    LC_ALL = en_US.UTF-8
    LC_CTYPE = C
    PATH = /Library/Frameworks/Python.framework/Versions/3.4/bin:/opt/Perl/bin:/opt/Perl/sbin:/Users/greeneg/bin:/opt/X11/bin:/opt/local/bin:/opt/local/sbin:/opt/local/libexec/gnubin:/opt/local/libexec/qt4/bin:/opt/local/Library/Frameworks/wxWidgets.framework/Versions/wxWidgets/3.1/bin:/usr/local/mysql/bin:/usr/local/go/bin:/Users/ggreene/Development/hrs:/bin:/sbin:/usr/bin:/usr/sbin:/usr/local/bin:/usr/local/sbin:/Users/greeneg/.rvm/bin
    PERL5LIB = 
    PERL5OPT = 
    PERL5_CPANPLUS_IS_RUNNING = 28375
    PERL5_CPAN_IS_RUNNING = 28375
    SHELL = /bin/zsh
    TERM = xterm-256color
    TMPDIR = /var/folders/3t/npnc6gy118v52__f4hpd56s4000102/T/

Perl special variables (and OS-specific diagnostics, for MSWin32):

    $^X = /opt/Perl/bin/perl
    $UID/$EUID = 1026 / 1026
    $GID = 20 20 702 12 61 79 80 81 98 704 703 33 100 204 395 398 399
    $EGID = 20 20 702 12 61 79 80 81 98 704 703 33 100 204 395 398 399

Perl module toolchain versions installed:

    Module              Have    
    ------------------- --------
    CPAN                2.16    
    CPAN::Meta          2.150010
    Cwd                 3.63_01 
    ExtUtils::CBuilder  0.280225
    ExtUtils::Command   7.24    
    ExtUtils::Install   2.12    
    ExtUtils::MakeMaker 7.24    
    ExtUtils::Manifest  1.70    
    ExtUtils::ParseXS   3.31    
    File::Spec          3.63_01 
    JSON                2.93    
    JSON::PP            2.93    
    Module::Build       0.4222  
    Module::Signature   0.81    
    Parse::CPAN::Meta   2.150010
    Test::Harness       3.39    
    Test::More          1.302085
    YAML                1.23    
    YAML::Syck          1.30    
    version             0.9918  


--

Summary of my perl5 (revision 5 version 24 subversion 1) configuration:
   
  Platform:
    osname=darwin, osvers=16.5.0, archname=darwin-thread-multi-2level
    uname='darwin vertandi.tolharadys.net 16.5.0 darwin kernel version 16.5.0: fri mar 3 16:45:33 pst 2017; root:xnu-3789.51.2~1release_x86_64 x86_64 i386 imac13,2 darwin '
    config_args=''
    hint=recommended, useposix=true, d_sigaction=define
    useithreads=define, usemultiplicity=define
    use64bitint=define, use64bitall=define, uselongdouble=undef
    usemymalloc=n, bincompat5005=undef
  Compiler:
    cc='gcc', ccflags ='-fno-common -DPERL_DARWIN -mmacosx-version-min=10.12 -fno-strict-aliasing -pipe -fstack-protector-strong -I/usr/local/include -I/opt/local/include -DPERL_USE_SAFE_PUTENV',
    optimize='-O3',
    cppflags='-fno-common -DPERL_DARWIN -mmacosx-version-min=10.12 -fno-strict-aliasing -pipe -fstack-protector-strong -I/usr/local/include -I/opt/local/include'
    ccversion='', gccversion='4.2.1 Compatible Apple LLVM 8.0.0 (clang-800.0.42.1)', gccosandvers=''
    intsize=4, longsize=8, ptrsize=8, doublesize=8, byteorder=12345678, doublekind=3
    d_longlong=define, longlongsize=8, d_longdbl=define, longdblsize=16, longdblkind=3
    ivtype='long', ivsize=8, nvtype='double', nvsize=8, Off_t='off_t', lseeksize=8
    alignbytes=8, prototype=define
  Linker and Libraries:
    ld='gcc', ldflags =' -mmacosx-version-min=10.12 -fstack-protector-strong -L/usr/local/lib -L/opt/local/lib'
    libpth=/usr/local/lib /Applications/Xcode.app/Contents/Developer/Toolchains/XcodeDefault.xctoolchain/usr/bin/../lib/clang/8.0.0/lib /Applications/Xcode.app/Contents/Developer/Toolchains/XcodeDefault.xctoolchain/usr/lib /usr/lib /opt/local/lib
    libs=-lpthread -lgdbm -ldbm -ldl -lm -lutil -lc
    perllibs=-lpthread -ldl -lm -lutil -lc
    libc=, so=dylib, useshrplib=false, libperl=libperl.a
    gnulibc_version=''
  Dynamic Linking:
    dlsrc=dl_dlopen.xs, dlext=bundle, d_dlsymun=undef, ccdlflags=' '
    cccdlflags=' ', lddlflags=' -mmacosx-version-min=10.12 -bundle -undefined dynamic_lookup -L/usr/local/lib -L/opt/local/lib -fstack-protector-strong'


Characteristics of this binary (from libperl): 
  Compile-time options: HAS_TIMES MULTIPLICITY PERLIO_LAYERS
                        PERL_COPY_ON_WRITE PERL_DONT_CREATE_GVSV
                        PERL_HASH_FUNC_ONE_AT_A_TIME_HARD
                        PERL_IMPLICIT_CONTEXT PERL_MALLOC_WRAP
                        PERL_PRESERVE_IVUV PERL_USE_SAFE_PUTENV
                        USE_64_BIT_ALL USE_64_BIT_INT USE_ITHREADS
                        USE_LARGE_FILES USE_LOCALE USE_LOCALE_COLLATE
                        USE_LOCALE_CTYPE USE_LOCALE_NUMERIC USE_LOCALE_TIME
                        USE_PERLIO USE_PERL_ATOF
  Built under darwin
  Compiled at Mar 17 2017 21:01:33
  %ENV:
    PERL5LIB=""
    PERL5OPT=""
    PERL5_CPANPLUS_IS_RUNNING="28375"
    PERL5_CPAN_IS_RUNNING="28375"
  @INC:
    /opt/Perl/lib/perl5/site_perl/5.24.1/darwin-thread-multi-2level
    /opt/Perl/lib/perl5/site_perl/5.24.1
    /opt/Perl/lib/perl5/5.24.1/darwin-thread-multi-2level
    /opt/Perl/lib/perl5/5.24.1
    /opt/Perl/lib/perl5/site_perl/5.24.0/darwin-thread-multi-2level
    /opt/Perl/lib/perl5/site_perl/5.24.0
    /opt/Perl/lib/perl5/site_perl
    .