Back
From: metabase:user:8d44a2bc-b4ba-11e0-8d77-09d09eb71fc2
Subject: PASS WWW-Hashbang-Pastebin-Client-0.003 v5.16.2 RC1 GNU/Linux
Date: 2012-10-27T03:27:31Z
This distribution has been tested as part of the CPAN Testers
project, supporting the Perl programming language. See
http://wiki.cpantesters.org/ for more information or email
questions to cpan-testers-discuss@perl.org
--
Dear Mike Doherty,
This is a computer-generated report for WWW-Hashbang-Pastebin-Client-0.003
on perl 5.16.2, created by CPAN-Reporter-1.2006.
Thank you for uploading your work to CPAN. Congratulations!
All tests were successful.
Sections of this report:
* Tester comments
* Program output
* Prerequisites
* Environment and other context
------------------------------
TESTER COMMENTS
------------------------------
Additional comments from tester:
none provided
------------------------------
PROGRAM OUTPUT
------------------------------
Output from './Build test':
t/00-compile.t ... ok
t/01-use.t ....... ok
t/02-retrieve.t .. skipped: Specify $ENV{'TEST_SITE'} with a webserver running WWW::Hashbang::Pastebin
t/03-create.t .... skipped: Specify $ENV{'TEST_SITE'} with a webserver running WWW::Hashbang::Pastebin
All tests successful.
Files=4, Tests=5, 1 wallclock secs ( 0.04 usr 0.01 sys + 0.32 cusr 0.06 csys = 0.43 CPU)
Result: PASS
------------------------------
PREREQUISITES
------------------------------
Prerequisite modules loaded:
requires:
Module Need Have
------------------- ------- --------
Carp 0 1.26
Getopt::Long 0 2.38
HTTP::Tiny 0 0.017
perl v5.10.1 5.016002
Pod::Usage 0 1.51
strict 0 1.07
warnings 0 1.13
build_requires:
Module Need Have
------------------- ------- --------
File::Find 0 1.20
File::Temp 0 0.22
Module::Build 0.3601 0.4003
Test::More 0.96 0.98
configure_requires:
Module Need Have
------------------- ------- --------
ExtUtils::MakeMaker 6.30 6.63_02
Module::Build 0.3601 0.4003
------------------------------
ENVIRONMENT AND OTHER CONTEXT
------------------------------
Environment variables:
LANG = en_CA.UTF-8
LD_LIBRARY_PATH = /lib
MANPATH_WITHOUT_PERLBREW =
PATH = /home/mike/perl5/perlbrew/bin:/home/mike/perl5/perlbrew/perls/perl-5.16.2-RC1/bin:/home/mike/.bin:/usr/lib/lightdm/lightdm:/usr/local/sbin:/usr/local/bin:/usr/sbin:/usr/bin:/sbin:/bin:/usr/games:/home/mike/Downloads/android-sdk-linux_x86/tools:/home/mike/Downloads/android-sdk-linux_x86/platform-tools
PATH_WITHOUT_PERLBREW = /home/mike/.bin:/usr/lib/lightdm/lightdm:/usr/local/sbin:/usr/local/bin:/usr/sbin:/usr/bin:/sbin:/bin:/usr/games:/home/mike/Downloads/android-sdk-linux_x86/tools:/home/mike/Downloads/android-sdk-linux_x86/platform-tools
PERL5LIB = /home/mike/.cpan/build/Task-CPAN-Reporter-0.001-3lFtk9/blib/arch:/home/mike/.cpan/build/Task-CPAN-Reporter-0.001-3lFtk9/blib/lib
PERL5OPT =
PERL5_CPANPLUS_IS_RUNNING = 25084
PERL5_CPAN_IS_RUNNING = 25084
PERLBREW_BASHRC_VERSION = 0.42
PERLBREW_HOME = /home/mike/.perlbrew
PERLBREW_MANPATH = /home/mike/perl5/perlbrew/perls/perl-5.16.2-RC1/man
PERLBREW_PATH = /home/mike/perl5/perlbrew/bin:/home/mike/perl5/perlbrew/perls/perl-5.16.2-RC1/bin
PERLBREW_PERL = perl-5.16.2-RC1
PERLBREW_ROOT = /home/mike/perl5/perlbrew
PERLBREW_VERSION = 0.42
SHELL = /bin/bash
TERM = xterm
Perl special variables (and OS-specific diagnostics, for MSWin32):
$^X = /home/mike/perl5/perlbrew/perls/perl-5.16.2-RC1/bin/perl
$UID/$EUID = 1000 / 1000
$GID = 1000 4 20 24 46 105 119 122 129 1000
$EGID = 1000 4 20 24 46 105 119 122 129 1000
Perl module toolchain versions installed:
Module Have
------------------- --------
CPAN 1.9800
CPAN::Meta 2.120921
Cwd 3.39_02
ExtUtils::CBuilder 0.280206
ExtUtils::Command 1.17
ExtUtils::Install 1.58
ExtUtils::MakeMaker 6.63_02
ExtUtils::Manifest 1.61
ExtUtils::ParseXS 3.16
File::Spec 3.39_02
JSON 2.53
JSON::PP 2.27200
Module::Build 0.4003
Module::Signature n/a
Parse::CPAN::Meta 1.4404
Test::Harness 3.23
Test::More 0.98
YAML 0.84
YAML::Syck n/a
version 0.99
--
Summary of my perl5 (revision 5 version 16 subversion 2) configuration:
Platform:
osname=linux, osvers=3.2.0-32-generic, archname=x86_64-linux
uname='linux charron 3.2.0-32-generic #51-ubuntu smp wed sep 26 21:33:09 utc 2012 x86_64 x86_64 x86_64 gnulinux '
config_args='-de -Dprefix=/home/mike/perl5/perlbrew/perls/perl-5.16.2-RC1'
hint=recommended, useposix=true, d_sigaction=define
useithreads=undef, usemultiplicity=undef
useperlio=define, d_sfio=undef, uselargefiles=define, usesocks=undef
use64bitint=define, use64bitall=define, uselongdouble=undef
usemymalloc=n, bincompat5005=undef
Compiler:
cc='cc', ccflags ='-fno-strict-aliasing -pipe -fstack-protector -I/usr/local/include -D_LARGEFILE_SOURCE -D_FILE_OFFSET_BITS=64',
optimize='-O2',
cppflags='-fno-strict-aliasing -pipe -fstack-protector -I/usr/local/include'
ccversion='', gccversion='4.6.3', gccosandvers=''
intsize=4, longsize=8, ptrsize=8, doublesize=8, byteorder=12345678
d_longlong=define, longlongsize=8, d_longdbl=define, longdblsize=16
ivtype='long', ivsize=8, nvtype='double', nvsize=8, Off_t='off_t', lseeksize=8
alignbytes=8, prototype=define
Linker and Libraries:
ld='cc', ldflags =' -fstack-protector -L/usr/local/lib'
libpth=/usr/local/lib /lib/x86_64-linux-gnu /lib/../lib /usr/lib/x86_64-linux-gnu /usr/lib/../lib /lib /usr/lib
libs=-lnsl -ldl -lm -lcrypt -lutil -lc
perllibs=-lnsl -ldl -lm -lcrypt -lutil -lc
libc=, so=so, useshrplib=false, libperl=libperl.a
gnulibc_version='2.15'
Dynamic Linking:
dlsrc=dl_dlopen.xs, dlext=so, d_dlsymun=undef, ccdlflags='-Wl,-E'
cccdlflags='-fPIC', lddlflags='-shared -O2 -L/usr/local/lib -fstack-protector'
Characteristics of this binary (from libperl):
Compile-time options: HAS_TIMES PERLIO_LAYERS PERL_DONT_CREATE_GVSV
PERL_MALLOC_WRAP PERL_PRESERVE_IVUV USE_64_BIT_ALL
USE_64_BIT_INT USE_LARGE_FILES USE_LOCALE
USE_LOCALE_COLLATE USE_LOCALE_CTYPE
USE_LOCALE_NUMERIC USE_PERLIO USE_PERL_ATOF
Locally applied patches:
RC1
Built under linux
Compiled at Oct 26 2012 22:49:37
%ENV:
PERL5LIB="/home/mike/.cpan/build/Task-CPAN-Reporter-0.001-3lFtk9/blib/arch:/home/mike/.cpan/build/Task-CPAN-Reporter-0.001-3lFtk9/blib/lib"
PERL5OPT=""
PERL5_CPANPLUS_IS_RUNNING="25084"
PERL5_CPAN_IS_RUNNING="25084"
PERLBREW_BASHRC_VERSION="0.42"
PERLBREW_HOME="/home/mike/.perlbrew"
PERLBREW_MANPATH="/home/mike/perl5/perlbrew/perls/perl-5.16.2-RC1/man"
PERLBREW_PATH="/home/mike/perl5/perlbrew/bin:/home/mike/perl5/perlbrew/perls/perl-5.16.2-RC1/bin"
PERLBREW_PERL="perl-5.16.2-RC1"
PERLBREW_ROOT="/home/mike/perl5/perlbrew"
PERLBREW_VERSION="0.42"
@INC:
/home/mike/.cpan/build/Task-CPAN-Reporter-0.001-3lFtk9/blib/arch
/home/mike/.cpan/build/Task-CPAN-Reporter-0.001-3lFtk9/blib/lib
/home/mike/perl5/perlbrew/perls/perl-5.16.2-RC1/lib/site_perl/5.16.2/x86_64-linux
/home/mike/perl5/perlbrew/perls/perl-5.16.2-RC1/lib/site_perl/5.16.2
/home/mike/perl5/perlbrew/perls/perl-5.16.2-RC1/lib/5.16.2/x86_64-linux
/home/mike/perl5/perlbrew/perls/perl-5.16.2-RC1/lib/5.16.2
.