Back
From: metabase:user:30f4dfbe-2aae-11df-837a-5e0a49663a4f
Subject: PASS HTML-FormatText-WithLinks-0.15 v5.22.2 GNU/Linux
Date: 2017-07-21T23:06:34Z
This distribution has been tested as part of the CPAN Testers
project, supporting the Perl programming language. See
http://wiki.cpantesters.org/ for more information or email
questions to cpan-testers-discuss@perl.org
--
Dear Struan Donald,
This is a computer-generated report for HTML-FormatText-WithLinks-0.15
on perl 5.22.2, created by CPAN-Reporter-1.2018.
Thank you for uploading your work to CPAN. Congratulations!
All tests were successful.
Sections of this report:
* Tester comments
* Program output
* Prerequisites
* Environment and other context
------------------------------
TESTER COMMENTS
------------------------------
Additional comments from tester:
this report is from an automated smoke testing program
and was not reviewed by a human for accuracy
------------------------------
PROGRAM OUTPUT
------------------------------
Output from './Build test':
t/no_html_passed.t .............. ok
t/custom_format.t ............... ok
t/01load.t ...................... ok
t/basic_parse.t ................. ok
t/parse_file.t .................. ok
t/parse_a_with_no_href.t ........ ok
t/parse_missing_file.t .......... ok
t/parse_multiple_times.t ........ ok
t/parse_with_base.t ............. ok
t/parse_with_html_fragment.t .... ok
t/parse_with_identical_links.t .. ok
t/parse_with_links.t ............ ok
t/parse_with_local_links.t ...... ok
t/parse_with_name.t ............. ok
t/parse_with_relative_links.t ... ok
t/pod.t ......................... ok
t/skip_linked_urls.t ............ ok
t/treebuilder_problem.t ......... ok
t/podcover.t .................... ok
t/with_emphasis.t ............... ok
All tests successful.
Files=20, Tests=97, 0 wallclock secs ( 0.07 usr 0.01 sys + 1.47 cusr 0.24 csys = 1.79 CPU)
Result: PASS
------------------------------
PREREQUISITES
------------------------------
Prerequisite modules loaded:
requires:
Module Need Have
----------------- ---- --------
HTML::FormatText 2 2.16
HTML::TreeBuilder 0 5.06
URI::WithBase 0 2.20
build_requires:
Module Need Have
----------------- ---- --------
Test::More 0 1.302075
configure_requires:
Module Need Have
----------------- ---- --------
Module::Build 0.38 0.4218
------------------------------
ENVIRONMENT AND OTHER CONTEXT
------------------------------
Environment variables:
AUTOMATED_TESTING = 1
HARNESS_OPTIONS = j4
LANG = en_GB.UTF-8
LANGUAGE = en_GB:en
PATH = /home/njh/perl5/perlbrew/bin:/home/njh/perl5/perlbrew/perls/perl-5.22.2/bin:/home/njh/perl5/perlbrew/bin:/usr/bin:/bin
PERL5LIB = /home/njh/.cpan/build/HTML-Formatter-2.16-13/blib/arch:/home/njh/.cpan/build/HTML-Formatter-2.16-13/blib/lib:/home/njh/.cpan/build/HTML-Tree-5.06-5/blib/arch:/home/njh/.cpan/build/HTML-Tree-5.06-5/blib/lib:/home/njh/.cpan/build/Font-AFM-1.20-13/blib/arch:/home/njh/.cpan/build/Font-AFM-1.20-13/blib/lib:/home/njh/.cpan/build/File-Slurper-0.009-13/blib/arch:/home/njh/.cpan/build/File-Slurper-0.009-13/blib/lib:/home/njh/.cpan/build/Data-Printer-0.39-13/blib/arch:/home/njh/.cpan/build/Data-Printer-0.39-13/blib/lib:/home/njh/.cpan/build/Sort-Naturally-1.03-13/blib/arch:/home/njh/.cpan/build/Sort-Naturally-1.03-13/blib/lib:/home/njh/.cpan/build/Clone-PP-1.07-13/blib/arch:/home/njh/.cpan/build/Clone-PP-1.07-13/blib/lib:/home/njh/.cpan/build/LWP-CurlLog-0.02-24/blib/arch:/home/njh/.cpan/build/LWP-CurlLog-0.02-24/blib/lib
PERL5OPT =
PERL5_CPANPLUS_IS_RUNNING = 26247
PERL5_CPAN_IS_RUNNING = 26247
PERLBREW_BASHRC_VERSION = 0.73
PERLBREW_HOME = /home/njh/.perlbrew
PERLBREW_LIB =
PERLBREW_MANPATH = /home/njh/perl5/perlbrew/perls/perl-5.22.2/man
PERLBREW_PATH = /home/njh/perl5/perlbrew/bin:/home/njh/perl5/perlbrew/perls/perl-5.22.2/bin
PERLBREW_PERL = perl-5.22.2
PERLBREW_ROOT = /home/njh/perl5/perlbrew
PERLBREW_VERSION = 0.73
PERL_LOCAL_LIB_ROOT =
SHELL = /bin/sh
Perl special variables (and OS-specific diagnostics, for MSWin32):
$^X = /home/njh/perl5/perlbrew/perls/perl-5.22.2/bin/perl
$UID/$EUID = 1000 / 1000
$GID = 1000 4 24 25 29 30 44 46 108 112 1000
$EGID = 1000 4 24 25 29 30 44 46 108 112 1000
Perl module toolchain versions installed:
Module Have
------------------- --------
CPAN 2.16
CPAN::Meta 2.150005
Cwd 3.62
ExtUtils::CBuilder 0.280224
ExtUtils::Command 7.22
ExtUtils::Install 2.04
ExtUtils::MakeMaker 7.22
ExtUtils::Manifest 1.70
ExtUtils::ParseXS 3.30
File::Spec 3.62
JSON 2.93
JSON::PP 2.27400
Module::Build 0.4218
Module::Signature n/a
Parse::CPAN::Meta 1.4417
Test::Harness 3.36
Test::More 1.302075
YAML 1.23
YAML::Syck 1.30
version 0.9916
--
Summary of my perl5 (revision 5 version 22 subversion 2) configuration:
Platform:
osname=linux, osvers=4.3.0-1-amd64, archname=x86_64-linux-thread-multi
uname='linux nigelhorne.force9.co.uk 4.3.0-1-amd64 #1 smp debian 4.3.5-1 (2016-02-06) x86_64 gnulinux '
config_args='-de -Dprefix=/home/njh/perl5/perlbrew/perls/perl-5.22.2 -Duseithreads -Dusemultiplicity -Dusedevel -Accflags= -Aeval:scriptdir=/home/njh/perl5/perlbrew/perls/perl-5.22.2/bin'
hint=recommended, useposix=true, d_sigaction=define
useithreads=define, usemultiplicity=define
use64bitint=define, use64bitall=define, uselongdouble=undef
usemymalloc=n, bincompat5005=undef
Compiler:
cc='cc', ccflags ='-D_REENTRANT -D_GNU_SOURCE -fwrapv -fno-strict-aliasing -pipe -fstack-protector-strong -I/usr/local/include -D_LARGEFILE_SOURCE -D_FILE_OFFSET_BITS=64 -D_FORTIFY_SOURCE=2',
optimize='-O2',
cppflags='-D_REENTRANT -D_GNU_SOURCE -fwrapv -fno-strict-aliasing -pipe -fstack-protector-strong -I/usr/local/include'
ccversion='', gccversion='5.3.1 20160409', gccosandvers=''
intsize=4, longsize=8, ptrsize=8, doublesize=8, byteorder=12345678, doublekind=3
d_longlong=define, longlongsize=8, d_longdbl=define, longdblsize=16, longdblkind=3
ivtype='long', ivsize=8, nvtype='double', nvsize=8, Off_t='off_t', lseeksize=8
alignbytes=8, prototype=define
Linker and Libraries:
ld='cc', ldflags =' -fstack-protector-strong -L/usr/local/lib'
libpth=/usr/local/lib /usr/lib/gcc/x86_64-linux-gnu/5/include-fixed /usr/include/x86_64-linux-gnu /usr/lib /lib/x86_64-linux-gnu /lib/../lib /usr/lib/x86_64-linux-gnu /usr/lib/../lib /lib
libs=-lpthread -lnsl -lgdbm -ldb -ldl -lm -lcrypt -lutil -lc -lgdbm_compat
perllibs=-lpthread -lnsl -ldl -lm -lcrypt -lutil -lc
libc=libc-2.22.so, so=so, useshrplib=false, libperl=libperl.a
gnulibc_version='2.22'
Dynamic Linking:
dlsrc=dl_dlopen.xs, dlext=so, d_dlsymun=undef, ccdlflags='-Wl,-E'
cccdlflags='-fPIC', lddlflags='-shared -O2 -L/usr/local/lib -fstack-protector-strong'
Characteristics of this binary (from libperl):
Compile-time options: HAS_TIMES MULTIPLICITY PERLIO_LAYERS
PERL_DONT_CREATE_GVSV
PERL_HASH_FUNC_ONE_AT_A_TIME_HARD
PERL_IMPLICIT_CONTEXT PERL_MALLOC_WRAP
PERL_NEW_COPY_ON_WRITE PERL_PRESERVE_IVUV
PERL_USE_DEVEL USE_64_BIT_ALL USE_64_BIT_INT
USE_ITHREADS USE_LARGE_FILES USE_LOCALE
USE_LOCALE_COLLATE USE_LOCALE_CTYPE
USE_LOCALE_NUMERIC USE_LOCALE_TIME USE_PERLIO
USE_PERL_ATOF USE_REENTRANT_API
Built under linux
Compiled at May 2 2016 00:32:13
%ENV:
PERL5LIB="/home/njh/.cpan/build/HTML-Formatter-2.16-13/blib/arch:/home/njh/.cpan/build/HTML-Formatter-2.16-13/blib/lib:/home/njh/.cpan/build/HTML-Tree-5.06-5/blib/arch:/home/njh/.cpan/build/HTML-Tree-5.06-5/blib/lib:/home/njh/.cpan/build/Font-AFM-1.20-13/blib/arch:/home/njh/.cpan/build/Font-AFM-1.20-13/blib/lib:/home/njh/.cpan/build/File-Slurper-0.009-13/blib/arch:/home/njh/.cpan/build/File-Slurper-0.009-13/blib/lib:/home/njh/.cpan/build/Data-Printer-0.39-13/blib/arch:/home/njh/.cpan/build/Data-Printer-0.39-13/blib/lib:/home/njh/.cpan/build/Sort-Naturally-1.03-13/blib/arch:/home/njh/.cpan/build/Sort-Naturally-1.03-13/blib/lib:/home/njh/.cpan/build/Clone-PP-1.07-13/blib/arch:/home/njh/.cpan/build/Clone-PP-1.07-13/blib/lib:/home/njh/.cpan/build/LWP-CurlLog-0.02-24/blib/arch:/home/njh/.cpan/build/LWP-CurlLog-0.02-24/blib/lib"
PERL5OPT=""
PERL5_CPANPLUS_IS_RUNNING="26247"
PERL5_CPAN_IS_RUNNING="26247"
PERLBREW_BASHRC_VERSION="0.73"
PERLBREW_HOME="/home/njh/.perlbrew"
PERLBREW_LIB=""
PERLBREW_MANPATH="/home/njh/perl5/perlbrew/perls/perl-5.22.2/man"
PERLBREW_PATH="/home/njh/perl5/perlbrew/bin:/home/njh/perl5/perlbrew/perls/perl-5.22.2/bin"
PERLBREW_PERL="perl-5.22.2"
PERLBREW_ROOT="/home/njh/perl5/perlbrew"
PERLBREW_VERSION="0.73"
PERL_LOCAL_LIB_ROOT=""
@INC:
/home/njh/.cpan/build/HTML-Formatter-2.16-13/blib/arch
/home/njh/.cpan/build/HTML-Formatter-2.16-13/blib/lib
/home/njh/.cpan/build/HTML-Tree-5.06-5/blib/arch
/home/njh/.cpan/build/HTML-Tree-5.06-5/blib/lib
/home/njh/.cpan/build/Font-AFM-1.20-13/blib/arch
/home/njh/.cpan/build/Font-AFM-1.20-13/blib/lib
/home/njh/.cpan/build/File-Slurper-0.009-13/blib/arch
/home/njh/.cpan/build/File-Slurper-0.009-13/blib/lib
/home/njh/.cpan/build/Data-Printer-0.39-13/blib/arch
/home/njh/.cpan/build/Data-Printer-0.39-13/blib/lib
/home/njh/.cpan/build/Sort-Naturally-1.03-13/blib/arch
/home/njh/.cpan/build/Sort-Naturally-1.03-13/blib/lib
/home/njh/.cpan/build/Clone-PP-1.07-13/blib/arch
/home/njh/.cpan/build/Clone-PP-1.07-13/blib/lib
/home/njh/.cpan/build/LWP-CurlLog-0.02-24/blib/arch
/home/njh/.cpan/build/LWP-CurlLog-0.02-24/blib/lib
/home/njh/perl5/perlbrew/perls/perl-5.22.2/lib/site_perl/5.22.2/x86_64-linux-thread-multi
/home/njh/perl5/perlbrew/perls/perl-5.22.2/lib/site_perl/5.22.2
/home/njh/perl5/perlbrew/perls/perl-5.22.2/lib/5.22.2/x86_64-linux-thread-multi
/home/njh/perl5/perlbrew/perls/perl-5.22.2/lib/5.22.2
.