ExtUtils-ParseXS v3.35 Perl 5 v5.26.1 sparc-netbsd

Status
Pass
From
Nigel Horne
Dist
ExtUtils-ParseXS v3.35
Platform
Perl 5 v5.26.1 sparc-netbsd
Date
2018-01-12 19:10:23
ID
3dc11e76-f7cc-11e7-af2b-acaf1d79aee4
This distribution has been tested as part of the CPAN Testers
project, supporting the Perl programming language.  See
http://wiki.cpantesters.org/ for more information or email
questions to cpan-testers-discuss@perl.org


--
Dear Steffen Mueller,

This is a computer-generated report for ExtUtils-ParseXS-3.35
on perl 5.26.1, created by CPAN-Reporter-1.2018.

Thank you for uploading your work to CPAN.  Congratulations!
All tests were successful.

Sections of this report:

    * Tester comments
    * Program output
    * Prerequisites
    * Environment and other context

------------------------------
TESTER COMMENTS
------------------------------

Additional comments from tester:

none provided

------------------------------
PROGRAM OUTPUT
------------------------------

Output from '/usr/bin/make test':

PERL_DL_NONLAZY=1 "/home/njh/perl5/perlbrew/perls/perl-5.26.1/bin/perl" "-MExtUtils::Command::MM" "-MTest::Harness" "-e" "undef *Test::Harness::Switches; test_harness(0, 'blib/lib', 'blib/arch')" t/*.t
compilet-RPck1.c:1: warning: function declaration isn't a prototype
In file included from /home/njh/perl5/perlbrew/perls/perl-5.26.1/lib/5.26.1/sparc-netbsd/CORE/hv.h:653,
                 from /home/njh/perl5/perlbrew/perls/perl-5.26.1/lib/5.26.1/sparc-netbsd/CORE/perl.h:3922,
                 from XSTest.xs:2:
/home/njh/perl5/perlbrew/perls/perl-5.26.1/lib/5.26.1/sparc-netbsd/CORE/hv_func.h: In function 'S_perl_hash_one_at_a_time_hard':
/home/njh/perl5/perlbrew/perls/perl-5.26.1/lib/5.26.1/sparc-netbsd/CORE/hv_func.h:266: warning: cast increases required alignment of target type
In file included from /home/njh/perl5/perlbrew/perls/perl-5.26.1/lib/5.26.1/sparc-netbsd/CORE/perl.h:5785,
                 from XSTest.xs:2:
/home/njh/perl5/perlbrew/perls/perl-5.26.1/lib/5.26.1/sparc-netbsd/CORE/inline.h: In function 'Perl_valid_utf8_to_uvchr':
/home/njh/perl5/perlbrew/perls/perl-5.26.1/lib/5.26.1/sparc-netbsd/CORE/inline.h:294: warning: declaration of 'send' shadows a global declaration
/usr/include/sys/socket.h:595: warning: shadowed declaration is here
/home/njh/perl5/perlbrew/perls/perl-5.26.1/lib/5.26.1/sparc-netbsd/CORE/inline.h: In function 'S_is_utf8_invariant_string':
/home/njh/perl5/perlbrew/perls/perl-5.26.1/lib/5.26.1/sparc-netbsd/CORE/inline.h:361: warning: declaration of 'send' shadows a global declaration
/usr/include/sys/socket.h:595: warning: shadowed declaration is here
/home/njh/perl5/perlbrew/perls/perl-5.26.1/lib/5.26.1/sparc-netbsd/CORE/inline.h: In function 'Perl_is_utf8_string':
/home/njh/perl5/perlbrew/perls/perl-5.26.1/lib/5.26.1/sparc-netbsd/CORE/inline.h:406: warning: declaration of 'send' shadows a global declaration
/usr/include/sys/socket.h:595: warning: shadowed declaration is here
/home/njh/perl5/perlbrew/perls/perl-5.26.1/lib/5.26.1/sparc-netbsd/CORE/inline.h: In function 'S_is_strict_utf8_string':
/home/njh/perl5/perlbrew/perls/perl-5.26.1/lib/5.26.1/sparc-netbsd/CORE/inline.h:460: warning: declaration of 'send' shadows a global declaration
/usr/include/sys/socket.h:595: warning: shadowed declaration is here
/home/njh/perl5/perlbrew/perls/perl-5.26.1/lib/5.26.1/sparc-netbsd/CORE/inline.h: In function 'S_is_c9strict_utf8_string':
/home/njh/perl5/perlbrew/perls/perl-5.26.1/lib/5.26.1/sparc-netbsd/CORE/inline.h:516: warning: declaration of 'send' shadows a global declaration
/usr/include/sys/socket.h:595: warning: shadowed declaration is here
/home/njh/perl5/perlbrew/perls/perl-5.26.1/lib/5.26.1/sparc-netbsd/CORE/inline.h: In function 'S_is_utf8_string_flags':
/home/njh/perl5/perlbrew/perls/perl-5.26.1/lib/5.26.1/sparc-netbsd/CORE/inline.h:578: warning: declaration of 'send' shadows a global declaration
/usr/include/sys/socket.h:595: warning: shadowed declaration is here
/home/njh/perl5/perlbrew/perls/perl-5.26.1/lib/5.26.1/sparc-netbsd/CORE/inline.h: In function 'Perl_is_utf8_string_loclen':
/home/njh/perl5/perlbrew/perls/perl-5.26.1/lib/5.26.1/sparc-netbsd/CORE/inline.h:644: warning: declaration of 'send' shadows a global declaration
/usr/include/sys/socket.h:595: warning: shadowed declaration is here
/home/njh/perl5/perlbrew/perls/perl-5.26.1/lib/5.26.1/sparc-netbsd/CORE/inline.h: In function 'S_is_strict_utf8_string_loclen':
/home/njh/perl5/perlbrew/perls/perl-5.26.1/lib/5.26.1/sparc-netbsd/CORE/inline.h:702: warning: declaration of 'send' shadows a global declaration
/usr/include/sys/socket.h:595: warning: shadowed declaration is here
/home/njh/perl5/perlbrew/perls/perl-5.26.1/lib/5.26.1/sparc-netbsd/CORE/inline.h: In function 'S_is_c9strict_utf8_string_loclen':
/home/njh/perl5/perlbrew/perls/perl-5.26.1/lib/5.26.1/sparc-netbsd/CORE/inline.h:760: warning: declaration of 'send' shadows a global declaration
/usr/include/sys/socket.h:595: warning: shadowed declaration is here
/home/njh/perl5/perlbrew/perls/perl-5.26.1/lib/5.26.1/sparc-netbsd/CORE/inline.h: In function 'S_is_utf8_string_loclen_flags':
/home/njh/perl5/perlbrew/perls/perl-5.26.1/lib/5.26.1/sparc-netbsd/CORE/inline.h:823: warning: declaration of 'send' shadows a global declaration
/usr/include/sys/socket.h:595: warning: shadowed declaration is here
/home/njh/perl5/perlbrew/perls/perl-5.26.1/lib/5.26.1/sparc-netbsd/CORE/inline.h: In function 'Perl_utf8_hop':
/home/njh/perl5/perlbrew/perls/perl-5.26.1/lib/5.26.1/sparc-netbsd/CORE/inline.h:920: warning: cast discards qualifiers from pointer target type
/home/njh/perl5/perlbrew/perls/perl-5.26.1/lib/5.26.1/sparc-netbsd/CORE/inline.h: In function 'Perl_utf8_hop_forward':
/home/njh/perl5/perlbrew/perls/perl-5.26.1/lib/5.26.1/sparc-netbsd/CORE/inline.h:957: warning: cast discards qualifiers from pointer target type
/home/njh/perl5/perlbrew/perls/perl-5.26.1/lib/5.26.1/sparc-netbsd/CORE/inline.h:964: warning: cast discards qualifiers from pointer target type
/home/njh/perl5/perlbrew/perls/perl-5.26.1/lib/5.26.1/sparc-netbsd/CORE/inline.h: In function 'Perl_utf8_hop_back':
/home/njh/perl5/perlbrew/perls/perl-5.26.1/lib/5.26.1/sparc-netbsd/CORE/inline.h:1004: warning: cast discards qualifiers from pointer target type
/home/njh/perl5/perlbrew/perls/perl-5.26.1/lib/5.26.1/sparc-netbsd/CORE/inline.h: In function 'Perl_foldEQ_locale':
/home/njh/perl5/perlbrew/perls/perl-5.26.1/lib/5.26.1/sparc-netbsd/CORE/inline.h:1718: warning: nested extern declaration of 'Perl___notused'
XSTest.xs: At top level:
XSTest.xs:7: warning: no previous prototype for 'xstest_something'
XSTest.xs:13: warning: no previous prototype for 'xstest_something2'
XSTest.c: In function 'XS_XSTest_is_even':
XSTest.c:176: warning: nested extern declaration of 'Perl___notused'
XSTest.c: In function 'XS_XSTest_something':
XSTest.c:196: warning: nested extern declaration of 'Perl___notused'
XSTest.c: In function 'XS_XSTest_something2':
XSTest.c:212: warning: nested extern declaration of 'Perl___notused'
XSTest.c: In function 'XS_XSTest_something3':
XSTest.c:228: warning: nested extern declaration of 'Perl___notused'
XSTest.c: In function 'XS_XSTest_consts':
XSTest.c:257: warning: nested extern declaration of 'Perl___notused'
XSTest.c: In function 'XS_XSTest_T_BOOL':
XSTest.c:281: warning: nested extern declaration of 'Perl___notused'
XSTest.c:285: warning: comparing floating point with == or != is unsafe
XSTest.c: In function 'XS_XSTest_T_BOOL_2':
XSTest.c:300: warning: nested extern declaration of 'Perl___notused'
XSTest.c:304: warning: comparing floating point with == or != is unsafe
XSTest.c:306: warning: unused variable 'RETVAL'
XSTest.c: In function 'XS_XSTest_T_BOOL_OUT':
XSTest.c:319: warning: nested extern declaration of 'Perl___notused'
XSTest.c:323: warning: comparing floating point with == or != is unsafe
XSTest.c:325: warning: comparing floating point with == or != is unsafe
XSTest.c: In function 'boot_XSTest':
XSTest.c:345: warning: nested extern declaration of 'Perl___notused'
t/001-basic.t ............................ ok
compilet-Rb9us.c:1: warning: function declaration isn't a prototype
In file included from /home/njh/perl5/perlbrew/perls/perl-5.26.1/lib/5.26.1/sparc-netbsd/CORE/hv.h:653,
                 from /home/njh/perl5/perlbrew/perls/perl-5.26.1/lib/5.26.1/sparc-netbsd/CORE/perl.h:3922,
                 from XSMore.xs:2:
/home/njh/perl5/perlbrew/perls/perl-5.26.1/lib/5.26.1/sparc-netbsd/CORE/hv_func.h: In function 'S_perl_hash_one_at_a_time_hard':
/home/njh/perl5/perlbrew/perls/perl-5.26.1/lib/5.26.1/sparc-netbsd/CORE/hv_func.h:266: warning: cast increases required alignment of target type
In file included from /home/njh/perl5/perlbrew/perls/perl-5.26.1/lib/5.26.1/sparc-netbsd/CORE/perl.h:5785,
                 from XSMore.xs:2:
/home/njh/perl5/perlbrew/perls/perl-5.26.1/lib/5.26.1/sparc-netbsd/CORE/inline.h: In function 'Perl_valid_utf8_to_uvchr':
/home/njh/perl5/perlbrew/perls/perl-5.26.1/lib/5.26.1/sparc-netbsd/CORE/inline.h:294: warning: declaration of 'send' shadows a global declaration
/usr/include/sys/socket.h:595: warning: shadowed declaration is here
/home/njh/perl5/perlbrew/perls/perl-5.26.1/lib/5.26.1/sparc-netbsd/CORE/inline.h: In function 'S_is_utf8_invariant_string':
/home/njh/perl5/perlbrew/perls/perl-5.26.1/lib/5.26.1/sparc-netbsd/CORE/inline.h:361: warning: declaration of 'send' shadows a global declaration
/usr/include/sys/socket.h:595: warning: shadowed declaration is here
/home/njh/perl5/perlbrew/perls/perl-5.26.1/lib/5.26.1/sparc-netbsd/CORE/inline.h: In function 'Perl_is_utf8_string':
/home/njh/perl5/perlbrew/perls/perl-5.26.1/lib/5.26.1/sparc-netbsd/CORE/inline.h:406: warning: declaration of 'send' shadows a global declaration
/usr/include/sys/socket.h:595: warning: shadowed declaration is here
/home/njh/perl5/perlbrew/perls/perl-5.26.1/lib/5.26.1/sparc-netbsd/CORE/inline.h: In function 'S_is_strict_utf8_string':
/home/njh/perl5/perlbrew/perls/perl-5.26.1/lib/5.26.1/sparc-netbsd/CORE/inline.h:460: warning: declaration of 'send' shadows a global declaration
/usr/include/sys/socket.h:595: warning: shadowed declaration is here
/home/njh/perl5/perlbrew/perls/perl-5.26.1/lib/5.26.1/sparc-netbsd/CORE/inline.h: In function 'S_is_c9strict_utf8_string':
/home/njh/perl5/perlbrew/perls/perl-5.26.1/lib/5.26.1/sparc-netbsd/CORE/inline.h:516: warning: declaration of 'send' shadows a global declaration
/usr/include/sys/socket.h:595: warning: shadowed declaration is here
/home/njh/perl5/perlbrew/perls/perl-5.26.1/lib/5.26.1/sparc-netbsd/CORE/inline.h: In function 'S_is_utf8_string_flags':
/home/njh/perl5/perlbrew/perls/perl-5.26.1/lib/5.26.1/sparc-netbsd/CORE/inline.h:578: warning: declaration of 'send' shadows a global declaration
/usr/include/sys/socket.h:595: warning: shadowed declaration is here
/home/njh/perl5/perlbrew/perls/perl-5.26.1/lib/5.26.1/sparc-netbsd/CORE/inline.h: In function 'Perl_is_utf8_string_loclen':
/home/njh/perl5/perlbrew/perls/perl-5.26.1/lib/5.26.1/sparc-netbsd/CORE/inline.h:644: warning: declaration of 'send' shadows a global declaration
/usr/include/sys/socket.h:595: warning: shadowed declaration is here
/home/njh/perl5/perlbrew/perls/perl-5.26.1/lib/5.26.1/sparc-netbsd/CORE/inline.h: In function 'S_is_strict_utf8_string_loclen':
/home/njh/perl5/perlbrew/perls/perl-5.26.1/lib/5.26.1/sparc-netbsd/CORE/inline.h:702: warning: declaration of 'send' shadows a global declaration
/usr/include/sys/socket.h:595: warning: shadowed declaration is here
/home/njh/perl5/perlbrew/perls/perl-5.26.1/lib/5.26.1/sparc-netbsd/CORE/inline.h: In function 'S_is_c9strict_utf8_string_loclen':
/home/njh/perl5/perlbrew/perls/perl-5.26.1/lib/5.26.1/sparc-netbsd/CORE/inline.h:760: warning: declaration of 'send' shadows a global declaration
/usr/include/sys/socket.h:595: warning: shadowed declaration is here
/home/njh/perl5/perlbrew/perls/perl-5.26.1/lib/5.26.1/sparc-netbsd/CORE/inline.h: In function 'S_is_utf8_string_loclen_flags':
/home/njh/perl5/perlbrew/perls/perl-5.26.1/lib/5.26.1/sparc-netbsd/CORE/inline.h:823: warning: declaration of 'send' shadows a global declaration
/usr/include/sys/socket.h:595: warning: shadowed declaration is here
/home/njh/perl5/perlbrew/perls/perl-5.26.1/lib/5.26.1/sparc-netbsd/CORE/inline.h: In function 'Perl_utf8_hop':
/home/njh/perl5/perlbrew/perls/perl-5.26.1/lib/5.26.1/sparc-netbsd/CORE/inline.h:920: warning: cast discards qualifiers from pointer target type
/home/njh/perl5/perlbrew/perls/perl-5.26.1/lib/5.26.1/sparc-netbsd/CORE/inline.h: In function 'Perl_utf8_hop_forward':
/home/njh/perl5/perlbrew/perls/perl-5.26.1/lib/5.26.1/sparc-netbsd/CORE/inline.h:957: warning: cast discards qualifiers from pointer target type
/home/njh/perl5/perlbrew/perls/perl-5.26.1/lib/5.26.1/sparc-netbsd/CORE/inline.h:964: warning: cast discards qualifiers from pointer target type
/home/njh/perl5/perlbrew/perls/perl-5.26.1/lib/5.26.1/sparc-netbsd/CORE/inline.h: In function 'Perl_utf8_hop_back':
/home/njh/perl5/perlbrew/perls/perl-5.26.1/lib/5.26.1/sparc-netbsd/CORE/inline.h:1004: warning: cast discards qualifiers from pointer target type
/home/njh/perl5/perlbrew/perls/perl-5.26.1/lib/5.26.1/sparc-netbsd/CORE/inline.h: In function 'Perl_foldEQ_locale':
/home/njh/perl5/perlbrew/perls/perl-5.26.1/lib/5.26.1/sparc-netbsd/CORE/inline.h:1718: warning: nested extern declaration of 'Perl___notused'
XSMore.c: In function 'XS_XSMore_typemaptest1':
XSMore.c:204: warning: nested extern declaration of 'Perl___notused'
XSMore.c: In function 'XS_XSMore_typemaptest2':
XSMore.c:222: warning: nested extern declaration of 'Perl___notused'
XSMore.c: In function 'XS_XSMore_typemaptest3':
XSMore.c:240: warning: nested extern declaration of 'Perl___notused'
XSMore.c: In function 'XS_XSMore_typemaptest6':
XSMore.c:266: warning: nested extern declaration of 'Perl___notused'
XSMore.c: In function 'XS_XSMore_prototype_ssa':
XSMore.c:286: warning: nested extern declaration of 'Perl___notused'
XSMore.c: In function 'XS_XSMore_attr_method':
XSMore.c:301: warning: nested extern declaration of 'Perl___notused'
XSMore.c: In function 'XS_XSMore_return_1':
XSMore.c:318: warning: nested extern declaration of 'Perl___notused'
XSMore.c: In function 'XS_XSMore_arg_init':
XSMore.c:347: warning: nested extern declaration of 'Perl___notused'
XSMore.c: In function 'XS_XSMore_myabs':
XSMore.c:366: warning: nested extern declaration of 'Perl___notused'
XSMore.c: In function 'XS_XSMore_hook':
XSMore.c:384: warning: nested extern declaration of 'Perl___notused'
XSMore.c: In function 'XS_XSMore_outlist':
XSMore.c:417: warning: nested extern declaration of 'Perl___notused'
XSMore.c: In function 'XS_XSMore_len':
XSMore.c:438: warning: nested extern declaration of 'Perl___notused'
XSMore.c: In function 'XS_XSMore_sum':
XSMore.c:463: warning: nested extern declaration of 'Perl___notused'
XSMore.c: In function 'XS_XSMore_include_ok':
XSMore.c:494: warning: nested extern declaration of 'Perl___notused'
XSMore.c: In function 'XS_XSMore_nil':
XSMore.c:516: warning: unused variable 'items'
XSMore.c: In function 'boot_XSMore':
XSMore.c:529: warning: nested extern declaration of 'Perl___notused'
t/002-more.t ............................. ok
compilet-zxGhR.c:1: warning: function declaration isn't a prototype
In file included from /home/njh/perl5/perlbrew/perls/perl-5.26.1/lib/5.26.1/sparc-netbsd/CORE/hv.h:653,
                 from /home/njh/perl5/perlbrew/perls/perl-5.26.1/lib/5.26.1/sparc-netbsd/CORE/perl.h:3922,
                 from XSUsage.xs:2:
/home/njh/perl5/perlbrew/perls/perl-5.26.1/lib/5.26.1/sparc-netbsd/CORE/hv_func.h: In function 'S_perl_hash_one_at_a_time_hard':
/home/njh/perl5/perlbrew/perls/perl-5.26.1/lib/5.26.1/sparc-netbsd/CORE/hv_func.h:266: warning: cast increases required alignment of target type
In file included from /home/njh/perl5/perlbrew/perls/perl-5.26.1/lib/5.26.1/sparc-netbsd/CORE/perl.h:5785,
                 from XSUsage.xs:2:
/home/njh/perl5/perlbrew/perls/perl-5.26.1/lib/5.26.1/sparc-netbsd/CORE/inline.h: In function 'Perl_valid_utf8_to_uvchr':
/home/njh/perl5/perlbrew/perls/perl-5.26.1/lib/5.26.1/sparc-netbsd/CORE/inline.h:294: warning: declaration of 'send' shadows a global declaration
/usr/include/sys/socket.h:595: warning: shadowed declaration is here
/home/njh/perl5/perlbrew/perls/perl-5.26.1/lib/5.26.1/sparc-netbsd/CORE/inline.h: In function 'S_is_utf8_invariant_string':
/home/njh/perl5/perlbrew/perls/perl-5.26.1/lib/5.26.1/sparc-netbsd/CORE/inline.h:361: warning: declaration of 'send' shadows a global declaration
/usr/include/sys/socket.h:595: warning: shadowed declaration is here
/home/njh/perl5/perlbrew/perls/perl-5.26.1/lib/5.26.1/sparc-netbsd/CORE/inline.h: In function 'Perl_is_utf8_string':
/home/njh/perl5/perlbrew/perls/perl-5.26.1/lib/5.26.1/sparc-netbsd/CORE/inline.h:406: warning: declaration of 'send' shadows a global declaration
/usr/include/sys/socket.h:595: warning: shadowed declaration is here
/home/njh/perl5/perlbrew/perls/perl-5.26.1/lib/5.26.1/sparc-netbsd/CORE/inline.h: In function 'S_is_strict_utf8_string':
/home/njh/perl5/perlbrew/perls/perl-5.26.1/lib/5.26.1/sparc-netbsd/CORE/inline.h:460: warning: declaration of 'send' shadows a global declaration
/usr/include/sys/socket.h:595: warning: shadowed declaration is here
/home/njh/perl5/perlbrew/perls/perl-5.26.1/lib/5.26.1/sparc-netbsd/CORE/inline.h: In function 'S_is_c9strict_utf8_string':
/home/njh/perl5/perlbrew/perls/perl-5.26.1/lib/5.26.1/sparc-netbsd/CORE/inline.h:516: warning: declaration of 'send' shadows a global declaration
/usr/include/sys/socket.h:595: warning: shadowed declaration is here
/home/njh/perl5/perlbrew/perls/perl-5.26.1/lib/5.26.1/sparc-netbsd/CORE/inline.h: In function 'S_is_utf8_string_flags':
/home/njh/perl5/perlbrew/perls/perl-5.26.1/lib/5.26.1/sparc-netbsd/CORE/inline.h:578: warning: declaration of 'send' shadows a global declaration
/usr/include/sys/socket.h:595: warning: shadowed declaration is here
/home/njh/perl5/perlbrew/perls/perl-5.26.1/lib/5.26.1/sparc-netbsd/CORE/inline.h: In function 'Perl_is_utf8_string_loclen':
/home/njh/perl5/perlbrew/perls/perl-5.26.1/lib/5.26.1/sparc-netbsd/CORE/inline.h:644: warning: declaration of 'send' shadows a global declaration
/usr/include/sys/socket.h:595: warning: shadowed declaration is here
/home/njh/perl5/perlbrew/perls/perl-5.26.1/lib/5.26.1/sparc-netbsd/CORE/inline.h: In function 'S_is_strict_utf8_string_loclen':
/home/njh/perl5/perlbrew/perls/perl-5.26.1/lib/5.26.1/sparc-netbsd/CORE/inline.h:702: warning: declaration of 'send' shadows a global declaration
/usr/include/sys/socket.h:595: warning: shadowed declaration is here
/home/njh/perl5/perlbrew/perls/perl-5.26.1/lib/5.26.1/sparc-netbsd/CORE/inline.h: In function 'S_is_c9strict_utf8_string_loclen':
/home/njh/perl5/perlbrew/perls/perl-5.26.1/lib/5.26.1/sparc-netbsd/CORE/inline.h:760: warning: declaration of 'send' shadows a global declaration
/usr/include/sys/socket.h:595: warning: shadowed declaration is here
/home/njh/perl5/perlbrew/perls/perl-5.26.1/lib/5.26.1/sparc-netbsd/CORE/inline.h: In function 'S_is_utf8_string_loclen_flags':
/home/njh/perl5/perlbrew/perls/perl-5.26.1/lib/5.26.1/sparc-netbsd/CORE/inline.h:823: warning: declaration of 'send' shadows a global declaration
/usr/include/sys/socket.h:595: warning: shadowed declaration is here
/home/njh/perl5/perlbrew/perls/perl-5.26.1/lib/5.26.1/sparc-netbsd/CORE/inline.h: In function 'Perl_utf8_hop':
/home/njh/perl5/perlbrew/perls/perl-5.26.1/lib/5.26.1/sparc-netbsd/CORE/inline.h:920: warning: cast discards qualifiers from pointer target type
/home/njh/perl5/perlbrew/perls/perl-5.26.1/lib/5.26.1/sparc-netbsd/CORE/inline.h: In function 'Perl_utf8_hop_forward':
/home/njh/perl5/perlbrew/perls/perl-5.26.1/lib/5.26.1/sparc-netbsd/CORE/inline.h:957: warning: cast discards qualifiers from pointer target type
/home/njh/perl5/perlbrew/perls/perl-5.26.1/lib/5.26.1/sparc-netbsd/CORE/inline.h:964: warning: cast discards qualifiers from pointer target type
/home/njh/perl5/perlbrew/perls/perl-5.26.1/lib/5.26.1/sparc-netbsd/CORE/inline.h: In function 'Perl_utf8_hop_back':
/home/njh/perl5/perlbrew/perls/perl-5.26.1/lib/5.26.1/sparc-netbsd/CORE/inline.h:1004: warning: cast discards qualifiers from pointer target type
/home/njh/perl5/perlbrew/perls/perl-5.26.1/lib/5.26.1/sparc-netbsd/CORE/inline.h: In function 'Perl_foldEQ_locale':
/home/njh/perl5/perlbrew/perls/perl-5.26.1/lib/5.26.1/sparc-netbsd/CORE/inline.h:1718: warning: nested extern declaration of 'Perl___notused'
XSUsage.xs: At top level:
XSUsage.xs:19: warning: function declaration isn't a prototype
XSUsage.xs:20: warning: function declaration isn't a prototype
XSUsage.xs:21: warning: function declaration isn't a prototype
XSUsage.xs:22: warning: function declaration isn't a prototype
XSUsage.xs:23: warning: no previous prototype for 'xsusage_five'
XSUsage.xs:24: warning: no previous prototype for 'xsusage_six'
XSUsage.c: In function 'XS_XSUsage_one':
XSUsage.c:184: warning: nested extern declaration of 'Perl___notused'
XSUsage.c: In function 'XS_XSUsage_two':
XSUsage.c:201: warning: nested extern declaration of 'Perl___notused'
XSUsage.c:202: warning: unused variable 'ix'
XSUsage.c: In function 'XS_XSUsage_interface_v_i':
XSUsage.c:219: warning: nested extern declaration of 'Perl___notused'
XSUsage.c:220: warning: function declaration isn't a prototype
XSUsage.c:226: warning: function declaration isn't a prototype
XSUsage.c: In function 'XS_XSUsage_four':
XSUsage.c:238: warning: nested extern declaration of 'Perl___notused'
XSUsage.c:238: warning: unused variable 'items'
XSUsage.c: In function 'XS_XSUsage_five':
XSUsage.c:254: warning: nested extern declaration of 'Perl___notused'
XSUsage.c: In function 'XS_XSUsage_six':
XSUsage.c:273: warning: nested extern declaration of 'Perl___notused'
XSUsage.c: In function 'boot_XSUsage':
XSUsage.c:303: warning: nested extern declaration of 'Perl___notused'
XSUsage.c:323: warning: declaration of 'cv' shadows a parameter
XSUsage.c:298: warning: shadowed declaration is here
t/003-usage.t ............................ ok
t/101-standard_typemap_locations.t ....... ok
t/102-trim_whitespace.t .................. ok
t/103-tidy_type.t ........................ ok
t/104-map_type.t ......................... ok
t/105-valid_proto_string.t ............... ok
t/106-process_typemaps.t ................. ok
t/108-map_type.t ......................... ok
t/109-standard_XS_defs.t ................. ok
t/110-assign_func_args.t ................. ok
t/111-analyze_preprocessor_statements.t .. ok
t/112-set_cond.t ......................... ok
t/113-check_cond_preproc_statements.t .... ok
t/114-blurt_death_Warn.t ................. ok
t/115-avoid-noise.t ...................... ok
t/501-t-compile.t ........................ ok
t/510-t-bare.t ........................... ok
t/511-t-whitespace.t ..................... ok
t/512-t-file.t ........................... ok
t/513-t-merge.t .......................... ok
t/514-t-embed.t .......................... ok
t/515-t-cmd.t ............................ ok
t/516-t-clone.t .......................... ok
t/517-t-targetable.t ..................... ok
t/600-t-compat.t ......................... ok
All tests successful.
Files=27, Tests=264, 81 wallclock secs ( 1.35 usr  0.70 sys + 68.14 cusr  9.31 csys = 79.50 CPU)
Result: PASS

------------------------------
PREREQUISITES
------------------------------

Prerequisite modules loaded:

requires:

    Module              Need Have    
    ------------------- ---- --------
    Carp                0    1.42    
    Cwd                 0    3.67    
    DynaLoader          0    1.42    
    Exporter            5.57 5.72    
    ExtUtils::CBuilder  0    0.280230
    ExtUtils::MakeMaker 6.46 7.30    
    File::Basename      0    2.85    
    File::Spec          0    3.67    
    Symbol              0    1.08    
    Test::More          0.47 1.302073

build_requires:

    Module              Need Have    
    ------------------- ---- --------
    ExtUtils::MakeMaker 0    7.30    

configure_requires:

    Module              Need Have    
    ------------------- ---- --------
    ExtUtils::MakeMaker 6.46 7.30    


------------------------------
ENVIRONMENT AND OTHER CONTEXT
------------------------------

Environment variables:

    PATH = /home/njh/perl5/perlbrew/bin:/home/njh/perl5/perlbrew/perls/perl-5.26.1/bin:/home/njh/bin:/bin:/sbin:/usr/bin:/usr/sbin:/usr/X11R7/bin:/usr/X11R6/bin:/usr/pkg/bin:/usr/pkg/sbin:/usr/games:/usr/local/bin:/usr/local/sbin
    PATH_WITHOUT_PERLBREW = /home/njh/bin:/bin:/sbin:/usr/bin:/usr/sbin:/usr/X11R7/bin:/usr/X11R6/bin:/usr/pkg/bin:/usr/pkg/sbin:/usr/games:/usr/local/bin:/usr/local/sbin
    PERL5LIB = 
    PERL5OPT = 
    PERL5_CPANPLUS_IS_RUNNING = 386
    PERL5_CPAN_IS_RUNNING = 386
    PERLBREW_HOME = /home/njh/.perlbrew
    PERLBREW_PATH = /home/njh/perl5/perlbrew/bin:/home/njh/perl5/perlbrew/perls/perl-5.26.1/bin
    PERLBREW_PERL = perl-5.26.1
    PERLBREW_ROOT = /home/njh/perl5/perlbrew
    PERLBREW_VERSION = 0.29
    PERL_USE_UNSAFE_INC = 1
    SHELL = /bin/ksh
    TERM = linux

Perl special variables (and OS-specific diagnostics, for MSWin32):

    $^X = /home/njh/perl5/perlbrew/perls/perl-5.26.1/bin/perl
    $UID/$EUID = 1000 / 1000
    $GID = 100 100 0
    $EGID = 100 100 0

Perl module toolchain versions installed:

    Module              Have      
    ------------------- ----------
    CPAN                2.18      
    CPAN::Meta          2.150010  
    Cwd                 3.67      
    ExtUtils::CBuilder  0.280230  
    ExtUtils::Command   7.30      
    ExtUtils::Install   2.14      
    ExtUtils::MakeMaker 7.30      
    ExtUtils::Manifest  1.70      
    ExtUtils::ParseXS   3.34      
    File::Spec          3.67      
    JSON                n/a       
    JSON::PP            2.27400_02
    Module::Build       n/a       
    Module::Signature   n/a       
    Parse::CPAN::Meta   2.150010  
    Test::Harness       3.38      
    Test::More          1.302073  
    YAML                n/a       
    YAML::Syck          n/a       
    version             0.9917    


--

Summary of my perl5 (revision 5 version 26 subversion 1) configuration:
   
  Platform:
    osname=netbsd
    osvers=5.0.2
    archname=sparc-netbsd
    uname='netbsd qemusparcnetbsd5-0-2.bandsman.co.uk 5.0.2 netbsd 5.0.2 (generic) #0: sat feb 6 22:12:02 utc 2010 builds@b8.netbsd.org:homebuildsabnetbsd-5-0-2-releasesparc201002061851z-objhomebuildsabnetbsd-5-0-2-releasesrcsysarchsparccompilegeneric sparc '
    config_args='-de -Dprefix=/home/njh/perl5/perlbrew/perls/perl-5.26.1'
    hint=recommended
    useposix=true
    d_sigaction=define
    useithreads=undef
    usemultiplicity=undef
    use64bitint=undef
    use64bitall=undef
    uselongdouble=undef
    usemymalloc=n
    default_inc_excludes_dot=define
    bincompat5005=undef
  Compiler:
    cc='cc'
    ccflags ='-fno-strict-aliasing -pipe -fstack-protector -I/usr/pkg/include -D_FORTIFY_SOURCE=2'
    optimize='-O'
    cppflags='-fno-strict-aliasing -pipe -fstack-protector -I/usr/pkg/include'
    ccversion=''
    gccversion='4.1.3 20080704 prerelease (NetBSD nb2 20081120)'
    gccosandvers=''
    intsize=4
    longsize=4
    ptrsize=4
    doublesize=8
    byteorder=4321
    doublekind=4
    d_longlong=define
    longlongsize=8
    d_longdbl=define
    longdblsize=8
    longdblkind=0
    ivtype='long'
    ivsize=4
    nvtype='double'
    nvsize=8
    Off_t='off_t'
    lseeksize=8
    alignbytes=8
    prototype=define
  Linker and Libraries:
    ld='cc'
    ldflags =' -Wl,-rpath,/usr/pkg/lib -Wl,-rpath,/usr/local/lib -fstack-protector -L/usr/pkg/lib -L/usr/local/lib'
    libpth=/usr/lib /usr/pkg/lib /usr/local/lib /lib
    libs=-lpthread -lm -lcrypt -lutil -lc -lposix
    perllibs=-lpthread -lm -lcrypt -lutil -lc -lposix
    libc=/lib/libc.so
    so=so
    useshrplib=false
    libperl=libperl.a
    gnulibc_version=''
  Dynamic Linking:
    dlsrc=dl_dlopen.xs
    dlext=so
    d_dlsymun=undef
    ccdlflags='-Wl,-E '
    cccdlflags='-DPIC -fPIC '
    lddlflags='--whole-archive -shared  -L/usr/pkg/lib -L/usr/local/lib -fstack-protector'


Characteristics of this binary (from libperl): 
  Compile-time options:
    HAS_TIMES
    PERLIO_LAYERS
    PERL_COPY_ON_WRITE
    PERL_DONT_CREATE_GVSV
    PERL_HASH_FUNC_ONE_AT_A_TIME_HARD
    PERL_MALLOC_WRAP
    PERL_OP_PARENT
    PERL_PRESERVE_IVUV
    USE_LARGE_FILES
    USE_LOCALE
    USE_LOCALE_COLLATE
    USE_LOCALE_CTYPE
    USE_LOCALE_NUMERIC
    USE_LOCALE_TIME
    USE_PERLIO
    USE_PERL_ATOF
  Built under netbsd
  Compiled at Oct 23 2017 09:34:08
  %ENV:
    PERL5LIB=""
    PERL5OPT=""
    PERL5_CPANPLUS_IS_RUNNING="386"
    PERL5_CPAN_IS_RUNNING="386"
    PERLBREW_HOME="/home/njh/.perlbrew"
    PERLBREW_PATH="/home/njh/perl5/perlbrew/bin:/home/njh/perl5/perlbrew/perls/perl-5.26.1/bin"
    PERLBREW_PERL="perl-5.26.1"
    PERLBREW_ROOT="/home/njh/perl5/perlbrew"
    PERLBREW_VERSION="0.29"
    PERL_USE_UNSAFE_INC="1"
  @INC:
    /home/njh/perl5/perlbrew/perls/perl-5.26.1/lib/site_perl/5.26.1/sparc-netbsd
    /home/njh/perl5/perlbrew/perls/perl-5.26.1/lib/site_perl/5.26.1
    /home/njh/perl5/perlbrew/perls/perl-5.26.1/lib/5.26.1/sparc-netbsd
    /home/njh/perl5/perlbrew/perls/perl-5.26.1/lib/5.26.1
    .