Report for ExtUtils-ParseXS-3.35

Back
From: metabase:user:31d414ea-2aae-11df-837a-5e0a49663a4f
Subject: PASS ExtUtils-ParseXS-3.35 v5.14.4 GNU/Linux
Date: 2017-08-08T14:52:46Z

This distribution has been tested as part of the CPAN Testers
project, supporting the Perl programming language.  See
http://wiki.cpantesters.org/ for more information or email
questions to cpan-testers-discuss@perl.org


--
Dear Steffen Mueller,

This is a computer-generated report for ExtUtils-ParseXS-3.35
on perl 5.14.4, created by CPAN-Reporter-1.2018.

Thank you for uploading your work to CPAN.  Congratulations!
All tests were successful.

Sections of this report:

    * Tester comments
    * Program output
    * Prerequisites
    * Environment and other context

------------------------------
TESTER COMMENTS
------------------------------

Additional comments from tester:

this report is from an automated smoke testing program
and was not reviewed by a human for accuracy

------------------------------
PROGRAM OUTPUT
------------------------------

Output from '/usr/bin/make test':

PERL_DL_NONLAZY=1 "/home/david/cpantesting/perl-5.14.4/bin/perl" "-MExtUtils::Command::MM" "-MTest::Harness" "-e" "undef *Test::Harness::Switches; test_harness(0, 'blib/lib', 'blib/arch')" t/*.t
t/001-basic.t ............................ ok
t/002-more.t ............................. ok
t/003-usage.t ............................ ok
t/101-standard_typemap_locations.t ....... ok
t/102-trim_whitespace.t .................. ok
t/103-tidy_type.t ........................ ok
t/104-map_type.t ......................... ok
t/105-valid_proto_string.t ............... ok
t/106-process_typemaps.t ................. ok
t/108-map_type.t ......................... ok
t/109-standard_XS_defs.t ................. ok
t/110-assign_func_args.t ................. ok
t/111-analyze_preprocessor_statements.t .. ok
t/112-set_cond.t ......................... ok
t/113-check_cond_preproc_statements.t .... ok
t/114-blurt_death_Warn.t ................. ok
t/115-avoid-noise.t ...................... ok
t/501-t-compile.t ........................ ok
t/510-t-bare.t ........................... ok
t/511-t-whitespace.t ..................... ok
t/512-t-file.t ........................... ok
t/513-t-merge.t .......................... ok
t/514-t-embed.t .......................... ok
t/515-t-cmd.t ............................ ok
t/516-t-clone.t .......................... ok
t/517-t-targetable.t ..................... ok
t/600-t-compat.t ......................... ok
All tests successful.
Files=27, Tests=264,  6 wallclock secs ( 0.05 usr  0.10 sys +  1.71 cusr  0.42 csys =  2.28 CPU)
Result: PASS

------------------------------
PREREQUISITES
------------------------------

Prerequisite modules loaded:

requires:

    Module              Need Have    
    ------------------- ---- --------
    Carp                0    1.38    
    Cwd                 0    3.36    
    DynaLoader          0    1.13    
    Exporter            5.57 5.64_03 
    ExtUtils::CBuilder  0    0.280203
    ExtUtils::MakeMaker 6.46 7.30    
    File::Basename      0    2.82    
    File::Spec          0    3.33    
    Symbol              0    1.07    
    Test::More          0.47 1.302086

build_requires:

    Module              Need Have    
    ------------------- ---- --------
    ExtUtils::MakeMaker 0    7.30    

configure_requires:

    Module              Need Have    
    ------------------- ---- --------
    ExtUtils::MakeMaker 6.46 7.30    


------------------------------
ENVIRONMENT AND OTHER CONTEXT
------------------------------

Environment variables:

    AUTOMATED_TESTING = 1
    NONINTERACTIVE_TESTING = 1
    PATH = /usr/local/bin:/usr/bin:/bin:/usr/local/games:/usr/games
    PERL = 5.14.4
    PERL5LIB = 
    PERL5OPT = 
    PERL5_CPANPLUS_IS_RUNNING = 3683
    PERL5_CPAN_IS_RUNNING = 3683
    PERLVER = 5.14.4
    PERL_INLINE_DIRECTORY = /home/david/.Inline-5.14.4
    PERL_MM_USE_DEFAULT = 1
    PERL_USE_UNSAFE_INC = 0
    SHELL = /bin/bash
    TERM = screen

Perl special variables (and OS-specific diagnostics, for MSWin32):

    $^X = /home/david/cpantesting/perl-5.14.4/bin/perl
    $UID/$EUID = 1000 / 1000
    $GID = 1000 1000
    $EGID = 1000 1000

Perl module toolchain versions installed:

    Module              Have     
    ------------------- ---------
    CPAN                1.9600_01
    CPAN::Meta          2.150010 
    Cwd                 3.36     
    ExtUtils::CBuilder  0.280203 
    ExtUtils::Command   7.30     
    ExtUtils::Install   2.06     
    ExtUtils::MakeMaker 7.30     
    ExtUtils::Manifest  1.70     
    ExtUtils::ParseXS   2.2210   
    File::Spec          3.33     
    JSON                2.90     
    JSON::PP            2.27400  
    Module::Build       0.3800   
    Module::Signature   n/a      
    Parse::CPAN::Meta   2.150010 
    Test::Harness       3.39     
    Test::More          1.302086 
    YAML                1.18     
    YAML::Syck          1.30     
    version             0.88     


--

Summary of my perl5 (revision 5 version 14 subversion 4) configuration:
   
  Platform:
    osname=linux, osvers=3.16.0-4-amd64, archname=x86_64-linux-thread-multi
    uname='linux pigsty.barnyard.co.uk 3.16.0-4-amd64 #1 smp debian 3.16.36-1+deb8u1 (2016-09-03) x86_64 gnulinux '
    config_args='-de -Duse64bitall -Dusethreads -Dprefix=/home/david/cpantesting/perl-5.14.4'
    hint=recommended, useposix=true, d_sigaction=define
    useithreads=define, usemultiplicity=define
    useperlio=define, d_sfio=undef, uselargefiles=define, usesocks=undef
    use64bitint=define, use64bitall=define, uselongdouble=undef
    usemymalloc=n, bincompat5005=undef
  Compiler:
    cc='cc', ccflags ='-D_REENTRANT -D_GNU_SOURCE -fno-strict-aliasing -pipe -fstack-protector -I/usr/local/include -D_LARGEFILE_SOURCE -D_FILE_OFFSET_BITS=64',
    optimize='-O2',
    cppflags='-D_REENTRANT -D_GNU_SOURCE -fno-strict-aliasing -pipe -fstack-protector -I/usr/local/include'
    ccversion='', gccversion='4.9.2', gccosandvers=''
    intsize=4, longsize=8, ptrsize=8, doublesize=8, byteorder=12345678
    d_longlong=define, longlongsize=8, d_longdbl=define, longdblsize=16
    ivtype='long', ivsize=8, nvtype='double', nvsize=8, Off_t='off_t', lseeksize=8
    alignbytes=8, prototype=define
  Linker and Libraries:
    ld='cc', ldflags =' -fstack-protector -L/usr/local/lib'
    libpth=/usr/local/lib /lib/x86_64-linux-gnu /lib/../lib /usr/lib/x86_64-linux-gnu /usr/lib/../lib /lib /usr/lib
    libs=-lnsl -ldb -ldl -lm -lcrypt -lutil -lpthread -lc
    perllibs=-lnsl -ldl -lm -lcrypt -lutil -lpthread -lc
    libc=libc-2.19.so, so=so, useshrplib=false, libperl=libperl.a
    gnulibc_version='2.19'
  Dynamic Linking:
    dlsrc=dl_dlopen.xs, dlext=so, d_dlsymun=undef, ccdlflags='-Wl,-E'
    cccdlflags='-fPIC', lddlflags='-shared -O2 -L/usr/local/lib -fstack-protector'


Characteristics of this binary (from libperl): 
  Compile-time options: MULTIPLICITY PERL_DONT_CREATE_GVSV
                        PERL_IMPLICIT_CONTEXT PERL_MALLOC_WRAP
                        PERL_PRESERVE_IVUV USE_64_BIT_ALL USE_64_BIT_INT
                        USE_ITHREADS USE_LARGE_FILES USE_PERLIO USE_PERL_ATOF
                        USE_REENTRANT_API
  Locally applied patches:
	Devel::PatchPerl 1.44
  Built under linux
  Compiled at Oct 12 2016 15:07:52
  %ENV:
    PERL="5.14.4"
    PERL5LIB=""
    PERL5OPT=""
    PERL5_CPANPLUS_IS_RUNNING="3683"
    PERL5_CPAN_IS_RUNNING="3683"
    PERLVER="5.14.4"
    PERL_INLINE_DIRECTORY="/home/david/.Inline-5.14.4"
    PERL_MM_USE_DEFAULT="1"
    PERL_USE_UNSAFE_INC="0"
  @INC:
    /home/david/cpantesting/perl-5.14.4/lib/site_perl/5.14.4/x86_64-linux-thread-multi
    /home/david/cpantesting/perl-5.14.4/lib/site_perl/5.14.4
    /home/david/cpantesting/perl-5.14.4/lib/5.14.4/x86_64-linux-thread-multi
    /home/david/cpantesting/perl-5.14.4/lib/5.14.4
    .