Promise-XS v0.20 Perl 5 v5.40.0 x86_64-linux-thread-multi-quadmath
- Status
- Pass
- From
- Andreas J. König (ANDK)
- Dist
-
Promise-XS v0.20
- Platform
- Perl 5 v5.40.0 x86_64-linux-thread-multi-quadmath
- Date
- 2025-01-14 12:44:06
- ID
- 3dcda098-d275-11ef-9e57-f37b49aab083
This distribution has been tested as part of the CPAN Testers
project, supporting the Perl programming language. See
http://wiki.cpantesters.org/ for more information or email
questions to cpan-testers-discuss@perl.org
--
Dear Felipe Gasper,
This is a computer-generated report for Promise-XS-0.20
on perl 5.40.0, created by CPAN-Reporter-1.2020.
Thank you for uploading your work to CPAN. Congratulations!
All tests were successful.
Sections of this report:
* Tester comments
* Program output
* Prerequisites
* Environment and other context
------------------------------
TESTER COMMENTS
------------------------------
Additional comments from tester:
this report is from an automated smoke testing program
and was not reviewed by a human for accuracy
------------------------------
PROGRAM OUTPUT
------------------------------
Output from '/usr/bin/make test':
"/home/sand/src/perl/repoperls/installed-perls/host/k93msid/v5.40.0/db45/bin/perl" -MExtUtils::Command::MM -e 'cp_nonempty' -- XS.bs blib/arch/auto/Promise/XS/XS.bs 644
PERL_DL_NONLAZY=1 "/home/sand/src/perl/repoperls/installed-perls/host/k93msid/v5.40.0/db45/bin/perl" "-MExtUtils::Command::MM" "-MTest::Harness" "-e" "undef *Test::Harness::Switches; test_harness(0, 'blib/lib', 'blib/arch')" t/*.t
t/alias.t ........................ ok
# AnyEvent 7.17
t/anyevent.t ..................... ok
t/aplus.t ........................ ok
# Future::AsyncAwait 0.70
Promise::XS::Promise: Unhandled rejection: Late oopsie
Promise::XS::Promise: Unhandled rejection: Oopsie
t/async_await.t .................. ok
t/async_await__several_awaits.t .. ok
t/async_await__simple.t .......... ok
t/async_await_hold_ref.t ......... skipped: DEBUGGING perls confuse Future::AsyncAwait (as of 0.59, at least).
# Future::AsyncAwait 0.70
t/async_await_version.t .......... ok
t/await_wait__anyevent.t ......... ok
t/await_wait__ioasync.t .......... ok
t/await_wait__mojo.t ............. ok
t/detect_memory_leaks.t .......... ok
t/finally.t ...................... ok
t/infinite_recursion.t ........... ok
# IO::Async::Loop 0.803
t/ioasync.t ...................... ok
# Mojolicious 9.37
t/mojo.t ......................... ok
t/multi_return.t ................. ok
t/no_leak_stashed_ref.t .......... ok
t/oserror.t ...................... ok
t/promise_all_race.t ............. ok
t/reject_undef.t ................. ok
t/subclass.t ..................... ok
t/sync.t ......................... ok
t/unhandled_rejection.t .......... ok
Useless assignment to a temporary at t/XSPromises.t line 62.
t/XSPromises.t ................... ok
All tests successful.
Files=25, Tests=193, 15 wallclock secs ( 0.08 usr 0.07 sys + 3.95 cusr 1.15 csys = 5.25 CPU)
Result: PASS
------------------------------
PREREQUISITES
------------------------------
Prerequisite modules loaded:
build_requires:
Module Need Have
----------------------------- ---- --------
ExtUtils::MakeMaker 0 7.70
File::Temp 0 0.2311
Test::Deep 0 1.204
Test::FailWarnings 0 0.008
Test::More 0 1.302199
configure_requires:
Module Need Have
----------------------------- ---- --------
ExtUtils::MakeMaker::CPANfile 0.09 0.09
------------------------------
ENVIRONMENT AND OTHER CONTEXT
------------------------------
Environment variables:
AUTOMATED_TESTING = 1
LANG = en_US.UTF-8
LANGUAGE = en_US:en
PATH = /home/sand/bin:/usr/local/bin:/usr/bin:/bin:/usr/games:/usr/local/perl/bin:/usr/X11/bin:/sbin:/usr/sbin
PERL5LIB =
PERL5OPT =
PERL5_CPANPLUS_IS_RUNNING = 3980524
PERL5_CPAN_IS_RUNNING = 3980524
PERL_CANARY_STABILITY_NOPROMPT = 1
PERL_MM_USE_DEFAULT = 1
PERL_USE_UNSAFE_INC = 1
SHELL = /usr/bin/zsh
TERM = screen
Perl special variables (and OS-specific diagnostics, for MSWin32):
$^X = /home/sand/src/perl/repoperls/installed-perls/host/k93msid/v5.40.0/db45/bin/perl
$UID/$EUID = 1005 / 1005
$GID = 1005 1005
$EGID = 1005 1005
Perl module toolchain versions installed:
Module Have
------------------- --------
CPAN 2.36
CPAN::Meta 2.150010
Cwd 3.90
ExtUtils::CBuilder 0.280240
ExtUtils::Command 7.70
ExtUtils::Install 2.22
ExtUtils::MakeMaker 7.70
ExtUtils::Manifest 1.75
ExtUtils::ParseXS 3.51
File::Spec 3.90
JSON 4.10
JSON::PP 4.16
Module::Build 0.4234
Module::Signature 0.88
Parse::CPAN::Meta 2.150010
Test2 1.302199
Test::Harness 3.50
Test::More 1.302199
YAML 1.31
YAML::Syck 1.34
version 0.9932
--
Summary of my perl5 (revision 5 version 40 subversion 0) configuration:
Commit id: f22a16ecf4821b7e93d2569f630817a2631fddd9
Platform:
osname=linux
osvers=6.8.9-amd64
archname=x86_64-linux-thread-multi-quadmath
uname='linux k93msid 6.8.9-amd64 #1 smp preempt_dynamic debian 6.8.9-1 (2024-05-15) x86_64 gnulinux '
config_args='-Dprefix=/home/sand/src/perl/repoperls/installed-perls/host/k93msid/v5.40.0/db45 -Dmyhostname=k93msid -Dinstallusrbinperl=n -Uversiononly -Dusedevel -des -Ui_db -Dlibswanted=cl pthread socket inet nsl gdbm dbm malloc dl ld sun m crypt sec util c cposix posix ucb BSD gdbm_compat -Duseithreads -Uuselongdouble -DEBUGGING=both -Dusequadmath'
hint=recommended
useposix=true
d_sigaction=define
useithreads=define
usemultiplicity=define
use64bitint=define
use64bitall=define
uselongdouble=undef
usemymalloc=n
default_inc_excludes_dot=define
Compiler:
cc='cc'
ccflags ='-D_REENTRANT -D_GNU_SOURCE -fwrapv -DDEBUGGING -fno-strict-aliasing -pipe -fstack-protector-strong -I/usr/local/include -D_LARGEFILE_SOURCE -D_FILE_OFFSET_BITS=64 -D_FORTIFY_SOURCE=2'
optimize='-O2 -g'
cppflags='-D_REENTRANT -D_GNU_SOURCE -fwrapv -DDEBUGGING -fno-strict-aliasing -pipe -fstack-protector-strong -I/usr/local/include'
ccversion=''
gccversion='13.2.0'
gccosandvers=''
intsize=4
longsize=8
ptrsize=8
doublesize=8
byteorder=12345678
doublekind=3
d_longlong=define
longlongsize=8
d_longdbl=define
longdblsize=16
longdblkind=3
ivtype='long'
ivsize=8
nvtype='__float128'
nvsize=16
Off_t='off_t'
lseeksize=8
alignbytes=16
prototype=define
Linker and Libraries:
ld='cc'
ldflags =' -fstack-protector-strong -L/usr/local/lib'
libpth=/usr/local/lib /usr/lib/x86_64-linux-gnu /usr/lib /usr/lib64
libs=-lpthread -ldl -lm -lcrypt -lutil -lc -lquadmath
perllibs=-lpthread -ldl -lm -lcrypt -lutil -lc -lquadmath
libc=/lib/x86_64-linux-gnu/libc.so.6
so=so
useshrplib=false
libperl=libperl.a
gnulibc_version='2.38'
Dynamic Linking:
dlsrc=dl_dlopen.xs
dlext=so
d_dlsymun=undef
ccdlflags='-Wl,-E'
cccdlflags='-fPIC'
lddlflags='-shared -O2 -g -L/usr/local/lib -fstack-protector-strong'
Characteristics of this binary (from libperl):
Compile-time options:
DEBUGGING
HAS_LONG_DOUBLE
HAS_STRTOLD
HAS_TIMES
MULTIPLICITY
PERLIO_LAYERS
PERL_COPY_ON_WRITE
PERL_DONT_CREATE_GVSV
PERL_HASH_FUNC_SIPHASH13
PERL_HASH_USE_SBOX32
PERL_MALLOC_WRAP
PERL_OP_PARENT
PERL_PRESERVE_IVUV
PERL_TRACK_MEMPOOL
PERL_USE_DEVEL
PERL_USE_SAFE_PUTENV
USE_64_BIT_ALL
USE_64_BIT_INT
USE_ITHREADS
USE_LARGE_FILES
USE_LOCALE
USE_LOCALE_COLLATE
USE_LOCALE_CTYPE
USE_LOCALE_NUMERIC
USE_LOCALE_TIME
USE_PERLIO
USE_PERL_ATOF
USE_QUADMATH
USE_REENTRANT_API
USE_THREAD_SAFE_LOCALE
Built under linux
Compiled at Jun 10 2024 10:06:21
%ENV:
PERL5LIB=""
PERL5OPT=""
PERL5_CPANPLUS_IS_RUNNING="3980524"
PERL5_CPAN_IS_RUNNING="3980524"
PERL_CANARY_STABILITY_NOPROMPT="1"
PERL_MM_USE_DEFAULT="1"
PERL_USE_UNSAFE_INC="1"
@INC:
/home/sand/src/perl/repoperls/installed-perls/host/k93msid/v5.40.0/db45/lib/site_perl/5.40.0/x86_64-linux-thread-multi-quadmath
/home/sand/src/perl/repoperls/installed-perls/host/k93msid/v5.40.0/db45/lib/site_perl/5.40.0
/home/sand/src/perl/repoperls/installed-perls/host/k93msid/v5.40.0/db45/lib/5.40.0/x86_64-linux-thread-multi-quadmath
/home/sand/src/perl/repoperls/installed-perls/host/k93msid/v5.40.0/db45/lib/5.40.0
.