Back
From: metabase:user:314402c4-2aae-11df-837a-5e0a49663a4f
Subject: PASS MooseX-AbstractFactory-0.004003 v5.19.9 FreeBSD
Date: 2014-02-23T22:52:59Z
This distribution has been tested as part of the CPAN Testers
project, supporting the Perl programming language. See
http://wiki.cpantesters.org/ for more information or email
questions to cpan-testers-discuss@perl.org
--
Dear Caleb Cushing,
This is a computer-generated report for MooseX-AbstractFactory-0.004003
on perl 5.19.9, created by CPAN-Reporter-1.2010.
Thank you for uploading your work to CPAN. Congratulations!
All tests were successful.
Sections of this report:
* Tester comments
* Program output
* Prerequisites
* Environment and other context
------------------------------
TESTER COMMENTS
------------------------------
Additional comments from tester:
none provided
------------------------------
PROGRAM OUTPUT
------------------------------
Output from '/usr/bin/make test':
PERL_DL_NONLAZY=1 /usr/perl5.19.9/bin/perl5.19.9 "-MExtUtils::Command::MM" "-MTest::Harness" "-e" "undef *Test::Harness::Switches; test_harness(0, 'blib/lib', 'blib/arch')" t/*.t
t/00-compile.t ............. ok
#
# Versions for all modules listed in MYMETA.json (including optional ones):
# Version Module
# -------- ------------------------
# 2.133380 CPAN::Meta
# 2.125 CPAN::Meta::Requirements
# 6.90 ExtUtils::MakeMaker
# 3.47 File::Spec
# 3.47 File::Spec::Functions
# 1.35 IO::Handle
# 1.16 IPC::Open3
# 1.38 List::Util
# 0.014 Module::Runtime
# 2.1204 Moose
# 0.15 Moose::Autobox
# 2.1204 Moose::Exporter
# 2.1204 Moose::Meta::Class
# 2.1204 Moose::Role
# 0.013 Test::Fatal
# 2.1204 Test::Moose
# 1.001002 Test::More
# 0.19 Try::Tiny
# 1.08 strict
# 0.9908 version
# 1.22 warnings
t/00-report-prereqs.t ...... ok
t/accept_any_parameters.t .. ok
t/author-critic.t .......... skipped: these tests are for testing by the author
t/author-pod-spell.t ....... skipped: these tests are for testing by the author
t/author-test-eol.t ........ skipped: these tests are for testing by the author
t/factory.t ................ ok
t/factory_validate.t ....... ok
t/impl-does-arrayref.t ..... ok
t/override-get_imp.t ....... ok
t/override-validate-imp.t .. ok
t/release-cpan-changes.t ... skipped: these tests are for release candidate testing
t/release-distmeta.t ....... skipped: these tests are for release candidate testing
t/release-meta-json.t ...... skipped: these tests are for release candidate testing
t/release-mojibake.t ....... skipped: these tests are for release candidate testing
t/release-pod-coverage.t ... skipped: these tests are for release candidate testing
t/release-portability.t .... skipped: these tests are for release candidate testing
t/release-unused-vars.t .... skipped: these tests are for release candidate testing
All tests successful.
Files=18, Tests=24, 6 wallclock secs ( 0.08 usr 0.07 sys + 5.22 cusr 0.64 csys = 6.01 CPU)
Result: PASS
------------------------------
PREREQUISITES
------------------------------
Prerequisite modules loaded:
requires:
Module Need Have
--------------------- ---- --------
Module::Runtime 0 0.014
Moose 0 2.1204
Moose::Autobox 0 0.15
Moose::Exporter 0 2.1204
Moose::Meta::Class 0 2.1204
Moose::Role 0 2.1204
strict 0 1.08
Try::Tiny 0 0.19
warnings 0 1.22
build_requires:
Module Need Have
--------------------- ---- --------
ExtUtils::MakeMaker 0 6.90
File::Spec 0 3.47
File::Spec::Functions 0 3.47
IO::Handle 0 1.35
IPC::Open3 0 1.16
List::Util 0 1.38
Test::Fatal 0 0.013
Test::Moose 0 2.1204
Test::More 0 1.001002
version 0 0.9908
configure_requires:
Module Need Have
--------------------- ---- --------
ExtUtils::MakeMaker 6.30 6.90
------------------------------
ENVIRONMENT AND OTHER CONTEXT
------------------------------
Environment variables:
DBIC_NO_WARN_BAD_PERL = 1
PATH = /usr/local/bin:/usr/bin:/bin:/usr/local/sbin:/usr/sbin:/sbin:/home/cpansand/bin/freebsd10.0:/home/cpansand/bin/sh:/home/cpansand/bin:/usr/games:/home/cpansand/devel:/home/eserte/src/srezic-misc/scripts
PERL5LIB =
PERL5OPT =
PERL5_CPANPLUS_IS_RUNNING = 39627
PERL5_CPAN_IS_RUNNING = 39627
PERL5_CPAN_IS_RUNNING_IN_RECURSION = 39606,39627
PERLDOC = -MPod::Perldoc::ToTextOverstrike
PERL_BATCH = yes
PERL_CPAN_REPORTER_CONFIG = /var/tmp/cpansmoker-1023/8EUmVTTcUu_config.ini
PERL_EXTUTILS_AUTOINSTALL = --defaultdeps
PERL_HTML_DISPLAY_CLASS = HTML::Display::Mozilla
SHELL = /usr/local/bin/zsh
TERM = screen
TMPDIR = /var/tmp/cpansmoker-1023
Perl special variables (and OS-specific diagnostics, for MSWin32):
$^X = /usr/perl5.19.9/bin/perl5.19.9
$UID/$EUID = 1023 / 1023
$GID = 1023 1023
$EGID = 1023 1023
Perl module toolchain versions installed:
Module Have
------------------- --------
CPAN 2.03
CPAN::Meta 2.133380
Cwd 3.47
ExtUtils::CBuilder 0.280216
ExtUtils::Command 1.18
ExtUtils::Install 1.62
ExtUtils::MakeMaker 6.90
ExtUtils::Manifest 1.63
ExtUtils::ParseXS 3.23
File::Spec 3.47
JSON 2.90
JSON::PP 2.27203
Module::Build 0.4205
Module::Signature 0.73
Parse::CPAN::Meta 1.4413
Test::Harness 3.30
Test::More 1.001002
YAML 0.90
YAML::Syck 1.27
version 0.9908
--
Summary of my perl5 (revision 5 version 19 subversion 9) configuration:
Platform:
osname=freebsd, osvers=10.0-release, archname=amd64-freebsd
uname='freebsd cvrsnica-freebsd-10-64bit.herceg.de 10.0-release freebsd 10.0-release #0 r260789: thu jan 16 22:34:59 utc 2014 root@snap.freebsd.org:usrobjusrsrcsysgeneric amd64 '
config_args='-ds -e -Dprefix=/usr/perl5.19.9 -Dusedevel'
hint=recommended, useposix=true, d_sigaction=define
useithreads=undef, usemultiplicity=undef
use64bitint=define, use64bitall=define, uselongdouble=undef
usemymalloc=n, bincompat5005=undef
Compiler:
cc='cc', ccflags ='-DHAS_FPSETMASK -DHAS_FLOATINGPOINT_H -fno-strict-aliasing -pipe -fstack-protector -I/usr/local/include',
optimize='-O',
cppflags='-DHAS_FPSETMASK -DHAS_FLOATINGPOINT_H -fno-strict-aliasing -pipe -fstack-protector -I/usr/local/include'
ccversion='', gccversion='4.2.1 Compatible FreeBSD Clang 3.3 (tags/RELEASE_33/final 183502)', gccosandvers=''
intsize=4, longsize=8, ptrsize=8, doublesize=8, byteorder=12345678
d_longlong=define, longlongsize=8, d_longdbl=define, longdblsize=16
ivtype='long', ivsize=8, nvtype='double', nvsize=8, Off_t='off_t', lseeksize=8
alignbytes=8, prototype=define
Linker and Libraries:
ld='cc', ldflags ='-Wl,-E -fstack-protector -L/usr/local/lib'
libpth=/usr/lib /usr/local/lib /usr/include/clang/3.3 /usr/lib
libs=-lgdbm -lm -lcrypt -lutil -lc
perllibs=-lm -lcrypt -lutil -lc
libc=, so=so, useshrplib=false, libperl=libperl.a
gnulibc_version=''
Dynamic Linking:
dlsrc=dl_dlopen.xs, dlext=so, d_dlsymun=undef, ccdlflags=' '
cccdlflags='-DPIC -fPIC', lddlflags='-shared -L/usr/local/lib -fstack-protector'
Characteristics of this binary (from libperl):
Compile-time options: HAS_TIMES PERLIO_LAYERS PERL_DONT_CREATE_GVSV
PERL_HASH_FUNC_ONE_AT_A_TIME_HARD PERL_MALLOC_WRAP
PERL_NEW_COPY_ON_WRITE PERL_PRESERVE_IVUV
PERL_USE_DEVEL USE_64_BIT_ALL USE_64_BIT_INT
USE_LARGE_FILES USE_LOCALE USE_LOCALE_COLLATE
USE_LOCALE_CTYPE USE_LOCALE_NUMERIC USE_PERLIO
USE_PERL_ATOF
Built under freebsd
Compiled at Feb 20 2014 23:31:33
%ENV:
PERL5LIB=""
PERL5OPT=""
PERL5_CPANPLUS_IS_RUNNING="39627"
PERL5_CPAN_IS_RUNNING="39627"
PERL5_CPAN_IS_RUNNING_IN_RECURSION="39606,39627"
PERLDOC="-MPod::Perldoc::ToTextOverstrike"
PERL_BATCH="yes"
PERL_CPAN_REPORTER_CONFIG="/var/tmp/cpansmoker-1023/8EUmVTTcUu_config.ini"
PERL_EXTUTILS_AUTOINSTALL="--defaultdeps"
PERL_HTML_DISPLAY_CLASS="HTML::Display::Mozilla"
@INC:
/usr/perl5.19.9/lib/site_perl/5.19.9/amd64-freebsd
/usr/perl5.19.9/lib/site_perl/5.19.9
/usr/perl5.19.9/lib/5.19.9/amd64-freebsd
/usr/perl5.19.9/lib/5.19.9
.