Report for DBIx-Class-InflateColumn-Boolean-0.002000

Back
From: metabase:user:e18b858e-6cb1-1014-85fc-dd40bc601cf3
Subject: PASS DBIx-Class-InflateColumn-Boolean-0.002000 v5.14.2 Windows (Cygwin)
Date: 2012-11-03T11:09:41Z

This distribution has been tested as part of the CPAN Testers
project, supporting the Perl programming language.  See
http://wiki.cpantesters.org/ for more information or email
questions to cpan-testers-discuss@perl.org


--
Dear Bernhard Graf,

This is a computer-generated report for DBIx-Class-InflateColumn-Boolean-0.002000
on perl 5.14.2, created by CPAN-Reporter-1.2006.

Thank you for uploading your work to CPAN.  Congratulations!
All tests were successful.

Sections of this report:

    * Tester comments
    * Program output
    * Prerequisites
    * Environment and other context

------------------------------
TESTER COMMENTS
------------------------------

Additional comments from tester:

this report is from an automated smoke testing program
and was not reviewed by a human for accuracy

------------------------------
PROGRAM OUTPUT
------------------------------

Output from '/usr/bin/make test':

PERL_DL_NONLAZY=1 /usr/bin/perl.exe "-MExtUtils::Command::MM" "-e" "test_harness(0, 'inc', 'blib/lib', 'blib/arch')" t/00-load.t t/01-boolean.t t/pod-coverage.t t/pod.t
# Testing DBIx::Class::InflateColumn::Boolean 0.002000, Perl 5.014002, /usr/bin/perl
t/00-load.t ....... ok
cannot unlink file for t/var/test.db: Device or resource busy at /usr/lib/perl5/site_perl/5.14/Path/Class/Dir.pm line 135.
cannot restore permissions to 0100755 for t/var/test.db: Device or resource busy at /usr/lib/perl5/site_perl/5.14/Path/Class/Dir.pm line 135.
cannot remove directory for t/var: Directory not empty at /usr/lib/perl5/site_perl/5.14/Path/Class/Dir.pm line 135.
t/01-boolean.t .... ok
t/pod-coverage.t .. ok
t/pod.t ........... ok
All tests successful.
Files=4, Tests=33,  1 wallclock secs ( 0.03 usr  0.01 sys +  0.78 cusr  0.48 csys =  1.30 CPU)
Result: PASS

------------------------------
PREREQUISITES
------------------------------

Prerequisite modules loaded:

requires:

    Module              Need     Have      
    ------------------- -------- ----------
    Contextual::Return  0.004007 0.004007  
    DBIx::Class         0.08     0.08203_01
    Path::Class         0        0.26      
    Scalar::Util        0        1.25      
    SQL::Translator     0        0.11016   
    Test::More          0        0.98      

build_requires:

    Module              Need     Have      
    ------------------- -------- ----------
    ExtUtils::MakeMaker 6.36     6.62      
    Path::Class         0        0.26      
    Scalar::Util        0        1.25      
    SQL::Translator     0        0.11016   
    Test::More          0        0.98      

configure_requires:

    Module              Need     Have      
    ------------------- -------- ----------
    ExtUtils::MakeMaker 6.36     6.62      


------------------------------
ENVIRONMENT AND OTHER CONTEXT
------------------------------

Environment variables:

    AUTOMATED_TESTING = 1
    COMSPEC = C:\Windows\system32\cmd.exe
    LANG = C.UTF-8
    LC_ALL = en_US.UTF-8
    LC_CTYPE = C.UTF-8
    NUMBER_OF_PROCESSORS = 4
    PATH = /home/Kovensky/bin:/usr/local/bin:/usr/local/sbin:/usr/bin:/usr/sbin:/bin:/sbin:/cygdrive/c/Program Files (x86)/NVIDIA Corporation/PhysX/Common:/cygdrive/c/ProgramData/bin:/cygdrive/c/Windows/system32:/cygdrive/c/Windows:/cygdrive/c/Windows/System32/Wbem:/cygdrive/c/Windows/System32/WindowsPowerShell/v1.0:/cygdrive/c/Program Files (x86)/MKVToolNix:/cygdrive/c/Program Files/Microsoft/Web Platform Installer:/cygdrive/c/Program Files (x86)/Microsoft ASP.NET/ASP.NET Web Pages/v1.0:/cygdrive/c/Program Files (x86)/Windows Kits/8.0/Windows Performance Toolkit:/cygdrive/c/Program Files/Microsoft SQL Server/110/Tools/Binn
    PERL5LIB = 
    PERL5OPT = 
    PERL5_CPANPLUS_IS_RUNNING = 6384
    PERL5_CPAN_IS_RUNNING = 6384
    PERL5_CPAN_IS_RUNNING_IN_RECURSION = 9012,6384
    PERL_CR_SMOKER_CURRENT = DBIx-Class-InflateColumn-Boolean-0.002000
    PERL_EXTUTILS_AUTOINSTALL = --defaultdeps
    PERL_MM_USE_DEFAULT = 1
    PROCESSOR_IDENTIFIER = Intel64 Family 6 Model 30 Stepping 5, GenuineIntel
    TEMP = /cygdrive/c/Users/Kovensky/AppData/Local/Temp
    TERM = xterm-256color

Perl special variables (and OS-specific diagnostics, for MSWin32):

    $^X = /usr/bin/perl
    $UID/$EUID = 1001 / 1001
    $GID = 545 545
    $EGID = 545 545

Perl module toolchain versions installed:

    Module              Have    
    ------------------- --------
    CPAN                1.99_51 
    CPAN::Meta          2.120921
    Cwd                 3.36    
    ExtUtils::CBuilder  0.280205
    ExtUtils::Command   1.17    
    ExtUtils::Install   1.56    
    ExtUtils::MakeMaker 6.62    
    ExtUtils::Manifest  1.61    
    ExtUtils::ParseXS   3.15    
    File::Spec          3.33    
    JSON                2.53    
    JSON::PP            2.27200 
    Module::Build       0.4003  
    Module::Signature   0.68    
    Parse::CPAN::Meta   1.4404  
    Test::Harness       3.25    
    Test::More          0.98    
    YAML                0.84    
    YAML::Syck          1.21    
    version             0.9901  


--

Summary of my perl5 (revision 5 version 14 subversion 2) configuration:
   
  Platform:
    osname=cygwin, osvers=1.7.15(0.26053), archname=cygwin-thread-multi-64int
    uname='cygwin_nt-5.1 winxp 1.7.15(0.26053) 2012-05-09 10:25 i686 cygwin '
    config_args='-de -Dlibperl=cygperl5_14.dll -Dcc=gcc-4 -Dld=g++-4 -Darchname=i686-cygwin-threads-64int -Dmksymlinks -Dusethreads -Accflags=-g'
    hint=recommended, useposix=true, d_sigaction=define
    useithreads=define, usemultiplicity=define
    useperlio=define, d_sfio=undef, uselargefiles=define, usesocks=undef
    use64bitint=define, use64bitall=undef, uselongdouble=undef
    usemymalloc=n, bincompat5005=undef
  Compiler:
    cc='gcc-4', ccflags ='-DPERL_USE_SAFE_PUTENV -U__STRICT_ANSI__ -g -fno-strict-aliasing -pipe -fstack-protector',
    optimize='-O3',
    cppflags='-DPERL_USE_SAFE_PUTENV -U__STRICT_ANSI__ -g -fno-strict-aliasing -pipe -fstack-protector'
    ccversion='', gccversion='4.5.3', gccosandvers=''
    intsize=4, longsize=4, ptrsize=4, doublesize=8, byteorder=12345678
    d_longlong=define, longlongsize=8, d_longdbl=define, longdblsize=12
    ivtype='long long', ivsize=8, nvtype='double', nvsize=8, Off_t='off_t', lseeksize=8
    alignbytes=8, prototype=define
  Linker and Libraries:
    ld='g++-4', ldflags =' -Wl,--enable-auto-import -Wl,--export-all-symbols -Wl,--enable-auto-image-base -fstack-protector -L/usr/local/lib'
    libpth=/usr/local/lib /usr/lib /lib
    libs=-lgdbm -ldb -ldl -lcrypt -lgdbm_compat
    perllibs=-ldl -lcrypt
    libc=/usr/lib/libc.a, so=dll, useshrplib=true, libperl=cygperl5_14.dll
    gnulibc_version=''
  Dynamic Linking:
    dlsrc=dl_dlopen.xs, dlext=dll, d_dlsymun=undef, ccdlflags=' '
    cccdlflags=' ', lddlflags=' --shared  -Wl,--enable-auto-import -Wl,--export-all-symbols -Wl,--enable-auto-image-base -L/usr/local/lib -fstack-protector'


Characteristics of this binary (from libperl): 
  Compile-time options: MULTIPLICITY PERL_DONT_CREATE_GVSV
                        PERL_IMPLICIT_CONTEXT PERL_PRESERVE_IVUV
                        PERL_USE_SAFE_PUTENV USE_64_BIT_INT USE_ITHREADS
                        USE_LARGE_FILES USE_PERLIO USE_PERL_ATOF
                        USE_REENTRANT_API
  Locally applied patches:
	Bug#55162 File::Spec::case_tolerant performance
	CYG07 $vendorarch/auto/.rebase
	CYG15 static Win32CORE
	CYG17 cyg-1.7 paths-utf8
	0c612ce82 Fix building static extensions on cygwin, -UUSEIMPORTLIB
	1bac5ecc1 Fix 64-bit threading sv.c: S_anonymise_cv_maybe
	Cygwin::sync_winenv added
  Built under cygwin
  Compiled at Jul 12 2012 14:17:21
  %ENV:
    PERL5LIB=""
    PERL5OPT=""
    PERL5_CPANPLUS_IS_RUNNING="6384"
    PERL5_CPAN_IS_RUNNING="6384"
    PERL5_CPAN_IS_RUNNING_IN_RECURSION="9012,6384"
    PERL_CR_SMOKER_CURRENT="DBIx-Class-InflateColumn-Boolean-0.002000"
    PERL_EXTUTILS_AUTOINSTALL="--defaultdeps"
    PERL_MM_USE_DEFAULT="1"
  @INC:
    /usr/lib/perl5/site_perl/5.14/i686-cygwin-threads-64int
    /usr/lib/perl5/site_perl/5.14
    /usr/lib/perl5/vendor_perl/5.14/i686-cygwin-threads-64int
    /usr/lib/perl5/vendor_perl/5.14
    /usr/lib/perl5/5.14/i686-cygwin-threads-64int
    /usr/lib/perl5/5.14
    /usr/lib/perl5/site_perl/5.10
    /usr/lib/perl5/vendor_perl/5.10
    /usr/lib/perl5/site_perl/5.8
    .