Tree v1.14 Perl 5 v5.26.3 x86_64-linux-thread-multi
- Status
- Pass
- From
- Andreas J. König (ANDK)
- Dist
-
Tree v1.14
- Platform
- Perl 5 v5.26.3 x86_64-linux-thread-multi
- Date
- 2019-06-04 02:27:04
- ID
- 3e1a3a68-8670-11e9-926f-bf66e63d29e3
This distribution has been tested as part of the CPAN Testers
project, supporting the Perl programming language. See
http://wiki.cpantesters.org/ for more information or email
questions to cpan-testers-discuss@perl.org
--
Dear Ron Savage,
This is a computer-generated report for Tree-1.14
on perl 5.26.3, created by CPAN-Reporter-1.2018.
Thank you for uploading your work to CPAN. Congratulations!
All tests were successful.
Sections of this report:
* Tester comments
* Program output
* Prerequisites
* Environment and other context
------------------------------
TESTER COMMENTS
------------------------------
Additional comments from tester:
this report is from an automated smoke testing program
and was not reviewed by a human for accuracy
------------------------------
PROGRAM OUTPUT
------------------------------
Output from '/usr/bin/make test':
PERL_DL_NONLAZY=1 "/home/sand/src/perl/repoperls/installed-perls/host/k93msid/v5.26.3/1e0c/bin/perl" "-MExtUtils::Command::MM" "-MTest::Harness" "-e" "undef *Test::Harness::Switches; test_harness(0, 'blib/lib', 'blib/arch')" t/*.t t/Tree_Binary/*.t t/Tree/*.t t/Tree_Fast/*.t
# Testing Tree V 1.14
# Using base V 2.26
# Using constant V 1.33
# Using Data::Dumper V 2.173
# Using Exporter V 5.72
# Using lib V 0.64
# Using overload V 1.28
# Using Scalar::Util V 1.5
# Using strict V 1.11
# Using warnings V 1.37
t/00.versions.t ................... ok
t/Tree/000_interface.t ............ ok
t/Tree/001_root_node.t ............ ok
t/Tree/002_null_object.t .......... ok
t/Tree/003_child_node.t ........... ok
t/Tree/004_multiple_children.t .... ok
t/Tree/005_multilevel_tree.t ...... ok
t/Tree/007_add_child.t ............ ok
t/Tree/008_weak_refs.t ............ ok
t/Tree/009_error_handling.t ....... ok
t/Tree/010_errors_addchild.t ...... ok
t/Tree/011_errors_removechild.t ... ok
t/Tree/012_height.t ............... ok
t/Tree/013_width.t ................ ok
t/Tree/014_clone.t ................ ok
t/Tree/015_traverse.t ............. ok
t/Tree/016_events.t ............... ok
t/Tree/017_traverse_scalar.t ...... ok
t/Tree/018_no_fatal_warnings.t .... ok
t/Tree_Binary/000_binary_trees.t .. ok
t/Tree_Binary/001_mirror.t ........ ok
t/Tree_Binary/002_clone.t ......... ok
t/Tree_Fast/001_clone.t ........... ok
All tests successful.
Files=23, Tests=877, 7 wallclock secs ( 0.10 usr 0.10 sys + 2.08 cusr 0.59 csys = 2.87 CPU)
Result: PASS
------------------------------
PREREQUISITES
------------------------------
Prerequisite modules loaded:
requires:
Module Need Have
------------------- -------- --------
base 0 2.26
constant 0 1.33
Data::Dumper 2.161 2.173
Exporter 5.71 5.72
lib 0 0.64
overload 0 1.28
perl 5.006 5.026003
Scalar::Util 1.45 1.50
strict 0 1.11
warnings 0 1.37
build_requires:
Module Need Have
------------------- -------- --------
ExtUtils::MakeMaker 0 7.35_12
Test::Deep 1.123 1.128
Test::Exception 0.43 0.43
Test::More 1.001002 1.302162
Test::Pod 1.51 1.52
Test::Pod::Coverage 1.1 1.10
Test::Warn 0.3 0.36
configure_requires:
Module Need Have
------------------- -------- --------
ExtUtils::MakeMaker 0 7.35_12
------------------------------
ENVIRONMENT AND OTHER CONTEXT
------------------------------
Environment variables:
AUTOMATED_TESTING = 1
LANG = en_US.UTF-8
PATH = /home/sand/bin:/usr/local/bin:/usr/bin:/bin:/usr/games:/usr/local/perl/bin:/usr/X11/bin:/sbin:/usr/sbin
PERL5LIB =
PERL5OPT =
PERL5_CPANPLUS_IS_RUNNING = 15914
PERL5_CPAN_IS_RUNNING = 15914
PERL_CANARY_STABILITY_NOPROMPT = 1
PERL_MM_USE_DEFAULT = 1
PERL_USE_UNSAFE_INC = 1
SHELL = /usr/bin/zsh
TERM = screen
Perl special variables (and OS-specific diagnostics, for MSWin32):
$^X = /home/sand/src/perl/repoperls/installed-perls/host/k93msid/v5.26.3/1e0c/bin/perl
$UID/$EUID = 1005 / 1005
$GID = 1005 1005
$EGID = 1005 1005
Perl module toolchain versions installed:
Module Have
------------------- --------
CPAN 2.25
CPAN::Meta 2.150010
Cwd 3.75
ExtUtils::CBuilder 0.280231
ExtUtils::Command 7.35_12
ExtUtils::Install 2.06
ExtUtils::MakeMaker 7.35_12
ExtUtils::Manifest 1.70
ExtUtils::ParseXS 3.35
File::Spec 3.75
JSON 4.02
JSON::PP 4.00
Module::Build 0.4229
Module::Signature 0.83
Parse::CPAN::Meta 2.150010
Test::Harness 3.42
Test::More 1.302162
YAML 1.27
YAML::Syck 1.31
version 0.9924
--
Summary of my perl5 (revision 5 version 26 subversion 3) configuration:
Commit id: 92583df5dc9b9edbcd4a9649f753e180b9729590
Platform:
osname=linux
osvers=4.18.0-2-amd64
archname=x86_64-linux-thread-multi
uname='linux k93msid 4.18.0-2-amd64 #1 smp debian 4.18.10-2 (2018-10-07) x86_64 gnulinux '
config_args='-Dprefix=/home/sand/src/perl/repoperls/installed-perls/host/k93msid/v5.26.3/1e0c -Dmyhostname=k93msid -Dinstallusrbinperl=n -Uversiononly -Dusedevel -des -Ui_db -Dlibswanted=cl pthread socket inet nsl gdbm dbm malloc dl ld sun m crypt sec util c cposix posix ucb BSD gdbm_compat -Duseithreads -Uuselongdouble -DEBUGGING=-g'
hint=recommended
useposix=true
d_sigaction=define
useithreads=define
usemultiplicity=define
use64bitint=define
use64bitall=define
uselongdouble=undef
usemymalloc=n
default_inc_excludes_dot=define
bincompat5005=undef
Compiler:
cc='cc'
ccflags ='-D_REENTRANT -D_GNU_SOURCE -fwrapv -fno-strict-aliasing -pipe -fstack-protector-strong -I/usr/local/include -D_LARGEFILE_SOURCE -D_FILE_OFFSET_BITS=64'
optimize='-O2 -g'
cppflags='-D_REENTRANT -D_GNU_SOURCE -fwrapv -fno-strict-aliasing -pipe -fstack-protector-strong -I/usr/local/include'
ccversion=''
gccversion='8.2.0'
gccosandvers=''
intsize=4
longsize=8
ptrsize=8
doublesize=8
byteorder=12345678
doublekind=3
d_longlong=define
longlongsize=8
d_longdbl=define
longdblsize=16
longdblkind=3
ivtype='long'
ivsize=8
nvtype='double'
nvsize=8
Off_t='off_t'
lseeksize=8
alignbytes=8
prototype=define
Linker and Libraries:
ld='cc'
ldflags =' -fstack-protector-strong -L/usr/local/lib'
libpth=/usr/local/lib /usr/lib/gcc/x86_64-linux-gnu/8/include-fixed /usr/include/x86_64-linux-gnu /usr/lib /lib/x86_64-linux-gnu /lib/../lib /usr/lib/x86_64-linux-gnu /usr/lib/../lib /lib
libs=-lpthread -lnsl -ldl -lm -lcrypt -lutil -lc
perllibs=-lpthread -lnsl -ldl -lm -lcrypt -lutil -lc
libc=libc-2.27.so
so=so
useshrplib=false
libperl=libperl.a
gnulibc_version='2.27'
Dynamic Linking:
dlsrc=dl_dlopen.xs
dlext=so
d_dlsymun=undef
ccdlflags='-Wl,-E'
cccdlflags='-fPIC'
lddlflags='-shared -O2 -g -L/usr/local/lib -fstack-protector-strong'
Characteristics of this binary (from libperl):
Compile-time options:
HAS_TIMES
MULTIPLICITY
PERLIO_LAYERS
PERL_COPY_ON_WRITE
PERL_DONT_CREATE_GVSV
PERL_IMPLICIT_CONTEXT
PERL_MALLOC_WRAP
PERL_OP_PARENT
PERL_PRESERVE_IVUV
PERL_USE_DEVEL
USE_64_BIT_ALL
USE_64_BIT_INT
USE_ITHREADS
USE_LARGE_FILES
USE_LOCALE
USE_LOCALE_COLLATE
USE_LOCALE_CTYPE
USE_LOCALE_NUMERIC
USE_LOCALE_TIME
USE_PERLIO
USE_PERL_ATOF
USE_REENTRANT_API
Built under linux
Compiled at Nov 30 2018 23:37:37
%ENV:
PERL5LIB=""
PERL5OPT=""
PERL5_CPANPLUS_IS_RUNNING="15914"
PERL5_CPAN_IS_RUNNING="15914"
PERL_CANARY_STABILITY_NOPROMPT="1"
PERL_MM_USE_DEFAULT="1"
PERL_USE_UNSAFE_INC="1"
@INC:
/home/sand/src/perl/repoperls/installed-perls/host/k93msid/v5.26.3/1e0c/lib/site_perl/5.26.3/x86_64-linux-thread-multi
/home/sand/src/perl/repoperls/installed-perls/host/k93msid/v5.26.3/1e0c/lib/site_perl/5.26.3
/home/sand/src/perl/repoperls/installed-perls/host/k93msid/v5.26.3/1e0c/lib/5.26.3/x86_64-linux-thread-multi
/home/sand/src/perl/repoperls/installed-perls/host/k93msid/v5.26.3/1e0c/lib/5.26.3
.