Report for Drupal-Admin-0.04

Back
From: metabase:user:a0e144f2-373b-11e6-8edd-c6848980b093
Subject: PASS Drupal-Admin-0.04 v5.26.0 GNU/Linux
Date: 2017-04-10T05:19:16Z

This distribution has been tested as part of the CPAN Testers
project, supporting the Perl programming language.  See
http://wiki.cpantesters.org/ for more information or email
questions to cpan-testers-discuss@perl.org


--
Dear Dan Urist,

This is a computer-generated report for Drupal-Admin-0.04
on perl 5.26.0, created by CPAN-Reporter-1.2018.

Thank you for uploading your work to CPAN.  Congratulations!
All tests were successful.

Sections of this report:

    * Tester comments
    * Program output
    * Prerequisites
    * Environment and other context

------------------------------
TESTER COMMENTS
------------------------------

Additional comments from tester:

this report is from an automated smoke testing program
and was not reviewed by a human for accuracy

------------------------------
PROGRAM OUTPUT
------------------------------

Output from '/usr/bin/make test':

PERL_DL_NONLAZY=1 "/home/cpan2/install/bin/perl" "-MExtUtils::Command::MM" "-MTest::Harness" "-e" "undef *Test::Harness::Switches; test_harness(0, 'blib/lib', 'blib/arch')" t/*.t
t/pod.t ........... ok
You are overwriting a locally defined function (type) with an accessor at /home/cpan2/install/lib/perl5/site_perl/5.26.0/x86_64-linux-thread-multi/Moose/Meta/Attribute.pm line 1113.
	Moose::Meta::Attribute::_process_accessors(Moose::Meta::Attribute=HASH(0x42b2108), "reader", "type", undef) called at /home/cpan2/install/lib/perl5/site_perl/5.26.0/x86_64-linux-thread-multi/Class/MOP/Attribute.pm line 450
	Class::MOP::Attribute::install_accessors(Moose::Meta::Attribute=HASH(0x42b2108)) called at /home/cpan2/install/lib/perl5/site_perl/5.26.0/x86_64-linux-thread-multi/Moose/Meta/Attribute.pm line 1016
	Moose::Meta::Attribute::install_accessors(Moose::Meta::Attribute=HASH(0x42b2108)) called at /home/cpan2/install/lib/perl5/site_perl/5.26.0/x86_64-linux-thread-multi/Class/MOP/Class.pm line 899
	Class::MOP::Class::try {...} () called at /home/cpan2/install/lib/perl5/site_perl/5.26.0/Try/Tiny.pm line 103
	eval {...} called at /home/cpan2/install/lib/perl5/site_perl/5.26.0/Try/Tiny.pm line 94
	Try::Tiny::try(CODE(0x42a4420), Try::Tiny::Catch=REF(0x42a4390)) called at /home/cpan2/install/lib/perl5/site_perl/5.26.0/x86_64-linux-thread-multi/Class/MOP/Class.pm line 904
	Class::MOP::Class::_post_add_attribute(Moose::Meta::Class=HASH(0x4263080), Moose::Meta::Attribute=HASH(0x42b2108)) called at /home/cpan2/install/lib/perl5/site_perl/5.26.0/x86_64-linux-thread-multi/Class/MOP/Mixin/HasAttributes.pm line 39
	Class::MOP::Mixin::HasAttributes::add_attribute(Moose::Meta::Class=HASH(0x4263080), Moose::Meta::Attribute=HASH(0x42b2108)) called at /home/cpan2/install/lib/perl5/site_perl/5.26.0/x86_64-linux-thread-multi/Moose/Meta/Class.pm line 583
	Moose::Meta::Class::add_attribute(Moose::Meta::Class=HASH(0x4263080), "type", "definition_context", HASH(0x4264ab8), "is", "ro", "isa", "StatusType", ...) called at /home/cpan2/install/lib/perl5/site_perl/5.26.0/x86_64-linux-thread-multi/Moose.pm line 74
	Moose::has(Moose::Meta::Class=HASH(0x4263080), "type", "is", "ro", "isa", "StatusType", "required", 1) called at /home/cpan2/install/lib/perl5/site_perl/5.26.0/x86_64-linux-thread-multi/Moose/Exporter.pm line 419
	Moose::has("type", "is", "ro", "isa", "StatusType", "required", 1) called at /home/cpan2/.cpan/build/Drupal-Admin-0.04-0/blib/lib/Drupal/Admin/Status.pm line 16
	require Drupal/Admin/Status.pm called at /home/cpan2/.cpan/build/Drupal-Admin-0.04-0/blib/lib/Drupal/Admin.pm line 19
	Drupal::Admin::BEGIN() called at /home/cpan2/.cpan/build/Drupal-Admin-0.04-0/blib/lib/Drupal/Admin/Status.pm line 0
	eval {...} called at /home/cpan2/.cpan/build/Drupal-Admin-0.04-0/blib/lib/Drupal/Admin/Status.pm line 0
	require Drupal/Admin.pm called at (eval 10) line 1
	eval ' require Drupal::Admin ' called at /home/cpan2/install/lib/perl5/site_perl/5.26.0/Pod/Coverage.pm line 308
	Pod::Coverage::_get_syms(Pod::Coverage=HASH(0x1a07590), "Drupal::Admin") called at /home/cpan2/install/lib/perl5/site_perl/5.26.0/Pod/Coverage.pm line 152
	Pod::Coverage::coverage(Pod::Coverage=HASH(0x1a07590)) called at /home/cpan2/install/lib/perl5/site_perl/5.26.0/Test/Pod/Coverage.pm line 169
	Test::Pod::Coverage::pod_coverage_ok("Drupal::Admin", HASH(0x19dd958), "Pod coverage on Drupal::Admin") called at /home/cpan2/install/lib/perl5/site_perl/5.26.0/Test/Pod/Coverage.pm line 133
	Test::Pod::Coverage::all_pod_coverage_ok() called at t/pod-coverage.t line 18
You are overwriting a locally defined function (type) with an accessor at /home/cpan2/install/lib/perl5/site_perl/5.26.0/x86_64-linux-thread-multi/Moose/Meta/Attribute.pm line 1116.
	Moose::Meta::Attribute::_process_accessors(Moose::Meta::Attribute=HASH(0x453a228), "reader", "type", undef) called at /home/cpan2/install/lib/perl5/site_perl/5.26.0/x86_64-linux-thread-multi/Class/MOP/Attribute.pm line 450
	Class::MOP::Attribute::install_accessors(Moose::Meta::Attribute=HASH(0x453a228)) called at /home/cpan2/install/lib/perl5/site_perl/5.26.0/x86_64-linux-thread-multi/Moose/Meta/Attribute.pm line 1016
	Moose::Meta::Attribute::install_accessors(Moose::Meta::Attribute=HASH(0x453a228)) called at /home/cpan2/install/lib/perl5/site_perl/5.26.0/x86_64-linux-thread-multi/Class/MOP/Class.pm line 899
	Class::MOP::Class::try {...} () called at /home/cpan2/install/lib/perl5/site_perl/5.26.0/Try/Tiny.pm line 103
	eval {...} called at /home/cpan2/install/lib/perl5/site_perl/5.26.0/Try/Tiny.pm line 94
	Try::Tiny::try(CODE(0x451cef0), Try::Tiny::Catch=REF(0x451c7d0)) called at /home/cpan2/install/lib/perl5/site_perl/5.26.0/x86_64-linux-thread-multi/Class/MOP/Class.pm line 904
	Class::MOP::Class::_post_add_attribute(Moose::Meta::Class=HASH(0x4512898), Moose::Meta::Attribute=HASH(0x453a228)) called at /home/cpan2/install/lib/perl5/site_perl/5.26.0/x86_64-linux-thread-multi/Class/MOP/Mixin/HasAttributes.pm line 39
	Class::MOP::Mixin::HasAttributes::add_attribute(Moose::Meta::Class=HASH(0x4512898), Moose::Meta::Attribute=HASH(0x453a228)) called at /home/cpan2/install/lib/perl5/site_perl/5.26.0/x86_64-linux-thread-multi/Moose/Meta/Class.pm line 583
	Moose::Meta::Class::add_attribute(Moose::Meta::Class=HASH(0x4512898), "type", "definition_context", HASH(0x44de9e8), "is", "ro", "isa", "StatusType", ...) called at /home/cpan2/install/lib/perl5/site_perl/5.26.0/x86_64-linux-thread-multi/Moose.pm line 74
	Moose::has(Moose::Meta::Class=HASH(0x4512898), "type", "is", "ro", "isa", "StatusType", "required", 1) called at /home/cpan2/install/lib/perl5/site_perl/5.26.0/x86_64-linux-thread-multi/Moose/Exporter.pm line 419
	Moose::has("type", "is", "ro", "isa", "StatusType", "required", 1) called at /home/cpan2/.cpan/build/Drupal-Admin-0.04-0/blib/lib/Drupal/Admin/Status.pm line 16
	require Drupal/Admin/Status.pm called at /home/cpan2/.cpan/build/Drupal-Admin-0.04-0/blib/lib/Drupal/Admin.pm line 19
	Drupal::Admin::BEGIN() called at /home/cpan2/.cpan/build/Drupal-Admin-0.04-0/blib/lib/Drupal/Admin/Status.pm line 0
	eval {...} called at /home/cpan2/.cpan/build/Drupal-Admin-0.04-0/blib/lib/Drupal/Admin/Status.pm line 0
	require Drupal/Admin.pm called at t/00-load.t line 6
	main::BEGIN() called at /home/cpan2/.cpan/build/Drupal-Admin-0.04-0/blib/lib/Drupal/Admin/Status.pm line 0
	eval {...} called at /home/cpan2/.cpan/build/Drupal-Admin-0.04-0/blib/lib/Drupal/Admin/Status.pm line 0
	eval 'package main;
BEGIN { ${^WARNING_BITS} = $args[-1] if defined $args[-1] }
#line 6 t/00-load.t
use Drupal::Admin @{$args[0]};
1;
' called at /home/cpan2/install/lib/perl5/site_perl/5.26.0/Test/More.pm line 1031
	Test::More::_eval("package main;\x{a}BEGIN { \${^WARNING_BITS} = \$args[-1] if defined"..., ARRAY(0x2347bc0), undef) called at /home/cpan2/install/lib/perl5/site_perl/5.26.0/Test/More.pm line 1007
	Test::More::use_ok("Drupal::Admin") called at t/00-load.t line 6
	main::BEGIN() called at /home/cpan2/.cpan/build/Drupal-Admin-0.04-0/blib/lib/Drupal/Admin/Status.pm line 0
	eval {...} called at /home/cpan2/.cpan/build/Drupal-Admin-0.04-0/blib/lib/Drupal/Admin/Status.pm line 0
t/pod-coverage.t .. ok
# Testing Drupal::Admin 0.04, Perl 5.026000, /home/cpan2/install/bin/perl
t/00-load.t ....... ok
All tests successful.
Files=3, Tests=9,  0 wallclock secs ( 0.03 usr  0.01 sys +  1.54 cusr  0.08 csys =  1.66 CPU)
Result: PASS

------------------------------
PREREQUISITES
------------------------------

Prerequisite modules loaded:

requires:

    Module                      Need Have    
    --------------------------- ---- --------
    File::Type                  0    0.22    
    Getopt::Long                0    2.49    
    Log::Log4perl               0    1.47    
    Moose                       0    2.2004  
    MooseX::Log::Log4perl::Easy 0    0.47    
    Pod::Usage                  0    1.69    
    Test::More                  0    1.302079
    WWW::Mechanize              0    1.84    
    WWW::Mechanize::TreeBuilder 0    1.20000 

build_requires:

    Module                      Need Have    
    --------------------------- ---- --------
    ExtUtils::MakeMaker         0    7.24    


------------------------------
ENVIRONMENT AND OTHER CONTEXT
------------------------------

Environment variables:

    AUTOMATED_TESTING = 1
    HARNESS_OPTIONS = j3
    LANG = en_US.UTF-8
    PATH = /usr/local/bin:/usr/bin:/bin:/usr/local/games:/usr/games
    PERL5LIB = 
    PERL5OPT = 
    PERL5_CPANPLUS_IS_RUNNING = 21916
    PERL5_CPAN_IS_RUNNING = 21916
    PERL5_CPAN_IS_RUNNING_IN_RECURSION = 1512,21916
    PERL_CR_SMOKER_CURRENT = Drupal-Admin-0.04
    PERL_CR_SMOKER_RUNONCE = 1
    PERL_EXTUTILS_AUTOINSTALL = --defaultdeps
    PERL_MM_USE_DEFAULT = 1
    PERL_USE_UNSAFE_INC = 0
    SHELL = /bin/bash
    TERM = putty-256color

Perl special variables (and OS-specific diagnostics, for MSWin32):

    $^X = /home/cpan2/install/bin/perl
    $UID/$EUID = 1003 / 1003
    $GID = 1003 1003
    $EGID = 1003 1003

Perl module toolchain versions installed:

    Module              Have    
    ------------------- --------
    CPAN                2.18    
    CPAN::Meta          2.150010
    Cwd                 3.62    
    ExtUtils::CBuilder  0.280224
    ExtUtils::Command   7.24    
    ExtUtils::Install   2.04    
    ExtUtils::MakeMaker 7.24    
    ExtUtils::Manifest  1.70    
    ExtUtils::ParseXS   3.34    
    File::Spec          3.62    
    JSON                2.90    
    JSON::PP            2.27400 
    Module::Build       0.4222  
    Module::Signature   0.81    
    Parse::CPAN::Meta   2.150010
    Test::Harness       3.38    
    Test::More          1.302079
    YAML                1.23    
    YAML::Syck          1.29    
    version             0.9917  


--

Summary of my perl5 (revision 5 version 26 subversion 0) configuration:
  Commit id: 2e3b2a1fba7611d1cd6060a5f07f6a0f91a06b3a
  Platform:
    osname=linux
    osvers=3.16.0-4-amd64
    archname=x86_64-linux-thread-multi
    uname='linux digitalis 3.16.0-4-amd64 #1 smp debian 3.16.36-1+deb8u2 (2016-10-19) x86_64 gnulinux '
    config_args='-Dusedevel -DDEBUGGING -Dusethreads -Dprefix=/home/cpan2/install -Uversiononly -des'
    hint=recommended
    useposix=true
    d_sigaction=define
    useithreads=define
    usemultiplicity=define
    use64bitint=define
    use64bitall=define
    uselongdouble=undef
    usemymalloc=n
    default_inc_excludes_dot=define
    bincompat5005=undef
  Compiler:
    cc='cc'
    ccflags ='-D_REENTRANT -D_GNU_SOURCE -fwrapv -DDEBUGGING -fno-strict-aliasing -pipe -fstack-protector-strong -I/usr/local/include -D_LARGEFILE_SOURCE -D_FILE_OFFSET_BITS=64 -D_FORTIFY_SOURCE=2'
    optimize='-O2 -g'
    cppflags='-D_REENTRANT -D_GNU_SOURCE -fwrapv -DDEBUGGING -fno-strict-aliasing -pipe -fstack-protector-strong -I/usr/local/include'
    ccversion=''
    gccversion='4.9.2'
    gccosandvers=''
    intsize=4
    longsize=8
    ptrsize=8
    doublesize=8
    byteorder=12345678
    doublekind=3
    d_longlong=define
    longlongsize=8
    d_longdbl=define
    longdblsize=16
    longdblkind=3
    ivtype='long'
    ivsize=8
    nvtype='double'
    nvsize=8
    Off_t='off_t'
    lseeksize=8
    alignbytes=8
    prototype=define
  Linker and Libraries:
    ld='cc'
    ldflags =' -fstack-protector-strong -L/usr/local/lib'
    libpth=/usr/local/lib /usr/lib/gcc/x86_64-linux-gnu/4.9/include-fixed /usr/include/x86_64-linux-gnu /usr/lib /lib/x86_64-linux-gnu /lib/../lib /usr/lib/x86_64-linux-gnu /usr/lib/../lib /lib /lib64 /usr/lib64
    libs=-lpthread -lnsl -ldl -lm -lcrypt -lutil -lc
    perllibs=-lpthread -lnsl -ldl -lm -lcrypt -lutil -lc
    libc=libc-2.19.so
    so=so
    useshrplib=false
    libperl=libperl.a
    gnulibc_version='2.19'
  Dynamic Linking:
    dlsrc=dl_dlopen.xs
    dlext=so
    d_dlsymun=undef
    ccdlflags='-Wl,-E'
    cccdlflags='-fPIC'
    lddlflags='-shared -O2 -g -L/usr/local/lib -fstack-protector-strong'


Characteristics of this binary (from libperl): 
  Compile-time options:
    DEBUGGING
    HAS_TIMES
    MULTIPLICITY
    PERLIO_LAYERS
    PERL_COPY_ON_WRITE
    PERL_DONT_CREATE_GVSV
    PERL_IMPLICIT_CONTEXT
    PERL_MALLOC_WRAP
    PERL_OP_PARENT
    PERL_PRESERVE_IVUV
    PERL_TRACK_MEMPOOL
    PERL_USE_DEVEL
    USE_64_BIT_ALL
    USE_64_BIT_INT
    USE_ITHREADS
    USE_LARGE_FILES
    USE_LOCALE
    USE_LOCALE_COLLATE
    USE_LOCALE_CTYPE
    USE_LOCALE_NUMERIC
    USE_LOCALE_TIME
    USE_PERLIO
    USE_PERL_ATOF
    USE_REENTRANT_API
  Built under linux
  Compiled at Mar 26 2017 22:45:02
  %ENV:
    PERL5LIB=""
    PERL5OPT=""
    PERL5_CPANPLUS_IS_RUNNING="21916"
    PERL5_CPAN_IS_RUNNING="21916"
    PERL5_CPAN_IS_RUNNING_IN_RECURSION="1512,21916"
    PERL_CR_SMOKER_CURRENT="Drupal-Admin-0.04"
    PERL_CR_SMOKER_RUNONCE="1"
    PERL_EXTUTILS_AUTOINSTALL="--defaultdeps"
    PERL_MM_USE_DEFAULT="1"
    PERL_USE_UNSAFE_INC="0"
  @INC:
    /home/cpan2/install/lib/perl5/site_perl/5.26.0/x86_64-linux-thread-multi
    /home/cpan2/install/lib/perl5/site_perl/5.26.0
    /home/cpan2/install/lib/perl5/5.26.0/x86_64-linux-thread-multi
    /home/cpan2/install/lib/perl5/5.26.0