Soar-WM v0.04 Perl 5 v5.39.7 x86_64-linux-thread-multi-ld
- Status
- Pass
- From
- Andreas J. König (ANDK)
- Dist
-
Soar-WM v0.04
- Platform
- Perl 5 v5.39.7 x86_64-linux-thread-multi-ld
- Date
- 2024-01-25 04:21:42
- ID
- 3e482bbe-bb39-11ee-80c4-a883ac0aabd9
This distribution has been tested as part of the CPAN Testers
project, supporting the Perl programming language. See
http://wiki.cpantesters.org/ for more information or email
questions to cpan-testers-discuss@perl.org
--
Dear Nathan Gary Glenn,
This is a computer-generated report for Soar-WM-0.04
on perl 5.39.7, created by CPAN-Reporter-1.2019.
Thank you for uploading your work to CPAN. Congratulations!
All tests were successful.
Sections of this report:
* Tester comments
* Program output
* Prerequisites
* Environment and other context
------------------------------
TESTER COMMENTS
------------------------------
Additional comments from tester:
this report is from an automated smoke testing program
and was not reviewed by a human for accuracy
------------------------------
PROGRAM OUTPUT
------------------------------
Output from './Build test':
t/00-compile.t ................ ok
#
#
# Generated by Dist::Zilla::Plugin::ReportVersions::Tiny v1.08
# perl: 5.039007 (wanted 5.010) on linux from /tmp/basesmoker-reloperl-08Hk/bin/perl
#
# Carp => 1.54 (want any version)
# Data::Dumper => 2.189 (want any version)
# Data::Section::Simple => 0.07 (want any version)
# Exporter => 5.78 (want any version)
# File::Find => 1.44 (want any version)
# File::Spec => 3.90 (want any version)
# File::Temp => 0.2311 (want any version)
# FindBin => 1.54 (want any version)
# Module::Build => 0.4234 (want 0.3601)
# Pod::Coverage::TrustPod => 0.100006 (want any version)
# Test::CPAN::Meta => 0.25 (want any version)
# Test::Deep => 1.204 (want any version)
# Test::More => 1.302198 (want 0.88)
# Test::NoWarnings => 1.06 (want any version)
# Test::Pod => 1.52 (want 1.41)
# Test::Pod::Coverage => 1.10 (want 1.08)
# Test::Warn => 0.37 (want any version)
# autodie => 2.37 (want any version)
# base => 2.27 (want any version)
# strict => 1.13 (want any version)
# version => 0.9930 (want 0.9901)
# warnings => 1.67 (want any version)
#
# Thanks for using my code. I hope it works for you.
# If not, please try and include this output in the bug report.
# That will help me reproduce the issue and solve your problem.
#
t/000-report-versions-tiny.t .. ok
t/01-slurp.t .................. ok
t/02-wm.t ..................... ok
t/03-traversal.t .............. ok
t/04-errors.t ................. ok
All tests successful.
Files=6, Tests=34, 1 wallclock secs ( 0.02 usr 0.02 sys + 0.61 cusr 0.16 csys = 0.81 CPU)
Result: PASS
------------------------------
PREREQUISITES
------------------------------
Prerequisite modules loaded:
requires:
Module Need Have
--------------------- ------ --------
autodie 0 2.37
base 0 2.27
Carp 0 1.54
Exporter 0 5.78
perl 5.010 5.039007
strict 0 1.13
warnings 0 1.67
build_requires:
Module Need Have
--------------------- ------ --------
Data::Dumper 0 2.189
Data::Section::Simple 0 0.07
File::Find 0 1.44
File::Spec 0 3.90
File::Temp 0 0.2311
FindBin 0 1.54
Module::Build 0.3601 0.4234
Test::Deep 0 1.204
Test::More 0.88 1.302198
Test::NoWarnings 0 1.06
Test::Warn 0 0.37
configure_requires:
Module Need Have
--------------------- ------ --------
Module::Build 0.3601 0.4234
------------------------------
ENVIRONMENT AND OTHER CONTEXT
------------------------------
Environment variables:
AUTOMATED_TESTING = 1
LANG = en_US.UTF-8
LC_ADDRESS = de_DE.UTF-8
LC_IDENTIFICATION = de_DE.UTF-8
LC_MEASUREMENT = de_DE.UTF-8
LC_MONETARY = de_DE.UTF-8
LC_NAME = de_DE.UTF-8
LC_NUMERIC = de_DE.UTF-8
LC_PAPER = de_DE.UTF-8
LC_TELEPHONE = de_DE.UTF-8
LC_TIME = de_DE.UTF-8
PATH = /home/sand/bin:/usr/local/bin:/usr/local/sbin:/usr/sbin:/usr/bin:/sbin:/bin:/usr/games:/usr/local/games:/snap/bin:/usr/local/perl/bin:/usr/X11/bin
PERL = /tmp/basesmoker-reloperl-08Hk/bin/perl
PERL5LIB = /tmp/loop_over_bdir-2870-r09fgr/App-oo_modulino_zsh_completion_helper-0.04-0/blib/arch:/tmp/loop_over_bdir-2870-r09fgr/App-oo_modulino_zsh_completion_helper-0.04-0/blib/lib:/tmp/loop_over_bdir-2870-r09fgr/Alien-SNMP-MIBDEV-2.020000-0/blib/arch:/tmp/loop_over_bdir-2870-r09fgr/Alien-SNMP-MIBDEV-2.020000-0/blib/lib:/tmp/loop_over_bdir-2870-r09fgr/mmds-1.902-0/blib/arch:/tmp/loop_over_bdir-2870-r09fgr/mmds-1.902-0/blib/lib:/tmp/loop_over_bdir-2870-r09fgr/triceps-2.1.0-0/blib/arch:/tmp/loop_over_bdir-2870-r09fgr/triceps-2.1.0-0/blib/lib:/tmp/loop_over_bdir-2870-r09fgr/Debian-Packages-0.03-0/blib/arch:/tmp/loop_over_bdir-2870-r09fgr/Debian-Packages-0.03-0/blib/lib:/tmp/loop_over_bdir-2870-r09fgr/Devel-Required-0.16-0/blib/arch:/tmp/loop_over_bdir-2870-r09fgr/Devel-Required-0.16-0/blib/lib:/tmp/loop_over_bdir-2870-r09fgr/dta-tokwrap-0.98-0/blib/arch:/tmp/loop_over_bdir-2870-r09fgr/dta-tokwrap-0.98-0/blib/lib
PERL5OPT =
PERL5_CPANPLUS_IS_RUNNING = 2878
PERL5_CPAN_IS_RUNNING = 2878
PERL_CANARY_STABILITY_NOPROMPT = 1
PERL_MM_USE_DEFAULT = 1
PERL_USE_UNSAFE_INC = 1
SHELL = /usr/bin/zsh
TERM = screen
Perl special variables (and OS-specific diagnostics, for MSWin32):
$^X = /tmp/basesmoker-reloperl-08Hk/bin/perl
$UID/$EUID = 1005 / 1005
$GID = 1005 1005
$EGID = 1005 1005
Perl module toolchain versions installed:
Module Have
------------------- --------
CPAN 2.36
CPAN::Meta 2.150010
Cwd 3.90
ExtUtils::CBuilder 0.280240
ExtUtils::Command 7.70
ExtUtils::Install 2.22
ExtUtils::MakeMaker 7.70
ExtUtils::Manifest 1.75
ExtUtils::ParseXS 3.51
File::Spec 3.90
JSON 4.10
JSON::PP 4.16
Module::Build 0.4234
Module::Signature 0.88
Parse::CPAN::Meta 2.150010
Test2 1.302198
Test::Harness 3.48
Test::More 1.302198
YAML 1.31
YAML::Syck 1.34
version 0.9930
--
Summary of my perl5 (revision 5 version 39 subversion 7) configuration:
Commit id: 96559478fdc3f2fe9c51cad02ebbae0c950b7b68
Platform:
osname=linux
osvers=6.5.0-14-generic
archname=x86_64-linux-thread-multi-ld
uname='linux k93jammy 6.5.0-14-generic #14~22.04.1-ubuntu smp preempt_dynamic mon nov 20 18:15:30 utc 2 x86_64 x86_64 x86_64 gnulinux '
config_args='-Dprefix=/home/sand/src/perl/repoperls/installed-perls/host/k93jammy/v5.39.7/322f -Dmyhostname=k93jammy -Dinstallusrbinperl=n -Uversiononly -Dusedevel -des -Ui_db -Dlibswanted=cl pthread socket inet nsl gdbm dbm malloc dl ld sun m crypt sec util c cposix posix ucb BSD gdbm_compat -Duseithreads -Duselongdouble -DEBUGGING=-g'
hint=recommended
useposix=true
d_sigaction=define
useithreads=define
usemultiplicity=define
use64bitint=define
use64bitall=define
uselongdouble=define
usemymalloc=n
default_inc_excludes_dot=define
Compiler:
cc='cc'
ccflags ='-D_REENTRANT -D_GNU_SOURCE -fwrapv -fno-strict-aliasing -pipe -fstack-protector-strong -I/usr/local/include -D_LARGEFILE_SOURCE -D_FILE_OFFSET_BITS=64'
optimize='-O2 -g'
cppflags='-D_REENTRANT -D_GNU_SOURCE -fwrapv -fno-strict-aliasing -pipe -fstack-protector-strong -I/usr/local/include'
ccversion=''
gccversion='11.4.0'
gccosandvers=''
intsize=4
longsize=8
ptrsize=8
doublesize=8
byteorder=12345678
doublekind=3
d_longlong=define
longlongsize=8
d_longdbl=define
longdblsize=16
longdblkind=3
ivtype='long'
ivsize=8
nvtype='long double'
nvsize=16
Off_t='off_t'
lseeksize=8
alignbytes=16
prototype=define
Linker and Libraries:
ld='cc'
ldflags =' -fstack-protector-strong -L/usr/local/lib'
libpth=/usr/local/lib /usr/lib/x86_64-linux-gnu /usr/lib /usr/lib64
libs=-lpthread -lnsl -ldl -lm -lcrypt -lutil -lc
perllibs=-lpthread -lnsl -ldl -lm -lcrypt -lutil -lc
libc=/lib/x86_64-linux-gnu/libc.so.6
so=so
useshrplib=false
libperl=libperl.a
gnulibc_version='2.35'
Dynamic Linking:
dlsrc=dl_dlopen.xs
dlext=so
d_dlsymun=undef
ccdlflags='-Wl,-E'
cccdlflags='-fPIC'
lddlflags='-shared -O2 -g -L/usr/local/lib -fstack-protector-strong'
Characteristics of this binary (from libperl):
Compile-time options:
HAS_LONG_DOUBLE
HAS_STRTOLD
HAS_TIMES
MULTIPLICITY
PERLIO_LAYERS
PERL_COPY_ON_WRITE
PERL_DONT_CREATE_GVSV
PERL_HASH_FUNC_SIPHASH13
PERL_HASH_USE_SBOX32
PERL_MALLOC_WRAP
PERL_OP_PARENT
PERL_PRESERVE_IVUV
PERL_USE_DEVEL
PERL_USE_SAFE_PUTENV
USE_64_BIT_ALL
USE_64_BIT_INT
USE_ITHREADS
USE_LARGE_FILES
USE_LOCALE
USE_LOCALE_COLLATE
USE_LOCALE_CTYPE
USE_LOCALE_NUMERIC
USE_LOCALE_TIME
USE_LONG_DOUBLE
USE_PERLIO
USE_PERL_ATOF
USE_REENTRANT_API
USE_THREAD_SAFE_LOCALE
Built under linux
Compiled at Jan 20 2024 13:19:20
%ENV:
PERL="/tmp/basesmoker-reloperl-08Hk/bin/perl"
PERL5LIB="/tmp/loop_over_bdir-2870-r09fgr/App-oo_modulino_zsh_completion_helper-0.04-0/blib/arch:/tmp/loop_over_bdir-2870-r09fgr/App-oo_modulino_zsh_completion_helper-0.04-0/blib/lib:/tmp/loop_over_bdir-2870-r09fgr/Alien-SNMP-MIBDEV-2.020000-0/blib/arch:/tmp/loop_over_bdir-2870-r09fgr/Alien-SNMP-MIBDEV-2.020000-0/blib/lib:/tmp/loop_over_bdir-2870-r09fgr/mmds-1.902-0/blib/arch:/tmp/loop_over_bdir-2870-r09fgr/mmds-1.902-0/blib/lib:/tmp/loop_over_bdir-2870-r09fgr/triceps-2.1.0-0/blib/arch:/tmp/loop_over_bdir-2870-r09fgr/triceps-2.1.0-0/blib/lib:/tmp/loop_over_bdir-2870-r09fgr/Debian-Packages-0.03-0/blib/arch:/tmp/loop_over_bdir-2870-r09fgr/Debian-Packages-0.03-0/blib/lib:/tmp/loop_over_bdir-2870-r09fgr/Devel-Required-0.16-0/blib/arch:/tmp/loop_over_bdir-2870-r09fgr/Devel-Required-0.16-0/blib/lib:/tmp/loop_over_bdir-2870-r09fgr/dta-tokwrap-0.98-0/blib/arch:/tmp/loop_over_bdir-2870-r09fgr/dta-tokwrap-0.98-0/blib/lib"
PERL5OPT=""
PERL5_CPANPLUS_IS_RUNNING="2878"
PERL5_CPAN_IS_RUNNING="2878"
PERL_CANARY_STABILITY_NOPROMPT="1"
PERL_MM_USE_DEFAULT="1"
PERL_USE_UNSAFE_INC="1"
@INC:
/tmp/loop_over_bdir-2870-r09fgr/App-oo_modulino_zsh_completion_helper-0.04-0/blib/arch
/tmp/loop_over_bdir-2870-r09fgr/App-oo_modulino_zsh_completion_helper-0.04-0/blib/lib
/tmp/loop_over_bdir-2870-r09fgr/Alien-SNMP-MIBDEV-2.020000-0/blib/arch
/tmp/loop_over_bdir-2870-r09fgr/Alien-SNMP-MIBDEV-2.020000-0/blib/lib
/tmp/loop_over_bdir-2870-r09fgr/mmds-1.902-0/blib/arch
/tmp/loop_over_bdir-2870-r09fgr/mmds-1.902-0/blib/lib
/tmp/loop_over_bdir-2870-r09fgr/triceps-2.1.0-0/blib/arch
/tmp/loop_over_bdir-2870-r09fgr/triceps-2.1.0-0/blib/lib
/tmp/loop_over_bdir-2870-r09fgr/Debian-Packages-0.03-0/blib/arch
/tmp/loop_over_bdir-2870-r09fgr/Debian-Packages-0.03-0/blib/lib
/tmp/loop_over_bdir-2870-r09fgr/Devel-Required-0.16-0/blib/arch
/tmp/loop_over_bdir-2870-r09fgr/Devel-Required-0.16-0/blib/lib
/tmp/loop_over_bdir-2870-r09fgr/dta-tokwrap-0.98-0/blib/arch
/tmp/loop_over_bdir-2870-r09fgr/dta-tokwrap-0.98-0/blib/lib
/home/sand/src/perl/repoperls/installed-perls/host/k93jammy/v5.39.7/322f/lib/site_perl/5.39.7/x86_64-linux-thread-multi-ld
/home/sand/src/perl/repoperls/installed-perls/host/k93jammy/v5.39.7/322f/lib/site_perl/5.39.7
/home/sand/src/perl/repoperls/installed-perls/host/k93jammy/v5.39.7/322f/lib/5.39.7/x86_64-linux-thread-multi-ld
/home/sand/src/perl/repoperls/installed-perls/host/k93jammy/v5.39.7/322f/lib/5.39.7
.