Report for Redis-hiredis-0.9.2.6

Back
From: metabase:user:322078bc-2aae-11df-837a-5e0a49663a4f
Subject: PASS Redis-hiredis-0.9.2.6 v5.8.9 Debian GNU/kFreeBSD
Date: 2011-03-06T18:26:24Z

This distribution has been tested as part of the CPAN Testers
project, supporting the Perl programming language.  See
http://wiki.cpantesters.org/ for more information or email
questions to cpan-testers-discuss@perl.org


--

Dear NEOPHENIX,
    
This is a computer-generated error report created automatically by
CPANPLUS, version 0.9102. Testers personal comments may appear 
at the end of this report.

MAKE TEST passed: PERL_DL_NONLAZY=1 /home/cpan/pit/rel/perl-5.8.9/bin/perl5.8.9 "-MExtUtils::Command::MM" "-e" "test_harness(0, 'blib/lib', 'blib/arch')" t/*.t
t/001_strings.t ....... ok
t/002_generic.t ....... ok
t/003_lists.t ......... ok
t/004_sets.t .......... ok
t/005_zsets.t ......... ok
t/006_hashes.t ........ ok
t/007_transactions.t .. ok
t/008_pipeline.t ...... skipped: $ENV{'REDISHOST'} isn't set
t/009_errors.t ........ skipped: $ENV{'REDISHOST'} isn't set
t/010_argv.t .......... ok
t/011_autoload.t ...... ok
All tests successful.
Files=11, Tests=155,  3 wallclock secs ( 0.18 usr  0.62 sys +  0.68 cusr  1.58 csys =  3.07 CPU)
Result: PASS

[MSG] [Sun Mar  6 18:15:29 2011] Sending test report for 'Redis-hiredis-0.9.2.6'

This report was machine-generated by CPANPLUS::Dist::YACSmoke 0.62.
Powered by minismokebox version 0.42

------------------------------
ENVIRONMENT AND OTHER CONTEXT
------------------------------

Environment variables:

    AUTOMATED_TESTING = 1
    LANG = en_GB.UTF-8
    LANGUAGE = en_GB:en
    PATH = /usr/local/bin:/usr/bin:/bin:/usr/local/games:/usr/games
    PERL5LIB = :/home/cpan/pit/rel/conf/perl-5.8.9/.cpanplus/5.8.9/build/Redis-hiredis-0.9.2.6/blib/lib:/home/cpan/pit/rel/conf/perl-5.8.9/.cpanplus/5.8.9/build/Redis-hiredis-0.9.2.6/blib/arch
    PERL5_CPANPLUS_IS_RUNNING = 38754
    PERL5_CPANPLUS_IS_VERSION = 0.9102
    PERL5_MINISMOKEBOX = 0.42
    PERL5_YACSMOKE_BASE = /home/cpan/pit/rel/conf/perl-5.8.9
    PERL_EXTUTILS_AUTOINSTALL = --defaultdeps
    PERL_MM_USE_DEFAULT = 1
    SHELL = /bin/bash
    TERM = screen

Perl special variables (and OS-specific diagnostics, for MSWin32):

    Perl: $^X = /home/cpan/pit/rel/perl-5.8.9/bin/perl5.8.9
    UID:  $<  = 1001
    EUID: $>  = 1001
    GID:  $(  = 1001 1001
    EGID: $)  = 1001 1001


-------------------------------


--

Summary of my perl5 (revision 5 version 8 subversion 9) configuration:
  Platform:
    osname=gnukfreebsd, osvers=8.1-1-686, archname=i686-gnukfreebsd-thread-multi-64int
    uname='gnukfreebsd kaiser 8.1-1-686 #0 tue jan 4 17:59:05 utc 2011 i686 i386 amd athlon(tm) neo x2 dual core processor 6850e gnukfreebsd '
    config_args='-des -Dprefix=/home/cpan/pit/rel/perl-5.8.9 -Dusethreads -Duse64bitint'
    hint=recommended, useposix=true, d_sigaction=define
    usethreads=define use5005threads=undef useithreads=define usemultiplicity=define
    useperlio=define d_sfio=undef uselargefiles=define usesocks=undef
    use64bitint=define use64bitall=undef uselongdouble=undef
    usemymalloc=n, bincompat5005=undef
  Compiler:
    cc='cc', ccflags ='-D_REENTRANT -D_GNU_SOURCE -DTHREADS_HAVE_PIDS -fno-strict-aliasing -pipe -I/usr/local/include -D_LARGEFILE_SOURCE -D_FILE_OFFSET_BITS=64',
    optimize='-O2',
    cppflags='-D_REENTRANT -D_GNU_SOURCE -DTHREADS_HAVE_PIDS -fno-strict-aliasing -pipe -I/usr/local/include'
    ccversion='', gccversion='4.4.5', gccosandvers=''
    intsize=4, longsize=4, ptrsize=4, doublesize=8, byteorder=12345678
    d_longlong=define, longlongsize=8, d_longdbl=define, longdblsize=12
    ivtype='long long', ivsize=8, nvtype='double', nvsize=8, Off_t='off_t', lseeksize=8
    alignbytes=4, prototype=define
  Linker and Libraries:
    ld='cc', ldflags =' -L/usr/local/lib'
    libpth=/usr/local/lib /lib /usr/lib
    libs=-lnsl -ldl -lm -lcrypt -lutil -lpthread -lc
    perllibs=-lnsl -ldl -lm -lcrypt -lutil -lpthread -lc
    libc=, so=so, useshrplib=false, libperl=libperl.a
    gnulibc_version='2.11.2'
  Dynamic Linking:
    dlsrc=dl_dlopen.xs, dlext=so, d_dlsymun=undef, ccdlflags='-Wl,-E'
    cccdlflags='-fpic', lddlflags='-shared -L/usr/local/lib'


Characteristics of this binary (from libperl): 
  Compile-time options: MULTIPLICITY PERL_IMPLICIT_CONTEXT PERL_MALLOC_WRAP
                        THREADS_HAVE_PIDS USE_64_BIT_INT USE_FAST_STDIO
                        USE_ITHREADS USE_LARGE_FILES USE_PERLIO
                        USE_REENTRANT_API
  Built under gnukfreebsd
  Compiled at Mar  1 2011 15:29:22
  %ENV:
    PERL5LIB=":/home/cpan/pit/rel/conf/perl-5.8.9/.cpanplus/5.8.9/build/Redis-hiredis-0.9.2.6/blib/lib:/home/cpan/pit/rel/conf/perl-5.8.9/.cpanplus/5.8.9/build/Redis-hiredis-0.9.2.6/blib/arch"
    PERL5_CPANPLUS_IS_RUNNING="38754"
    PERL5_CPANPLUS_IS_VERSION="0.9102"
    PERL5_MINISMOKEBOX="0.42"
    PERL5_YACSMOKE_BASE="/home/cpan/pit/rel/conf/perl-5.8.9"
    PERL_EXTUTILS_AUTOINSTALL="--defaultdeps"
    PERL_MM_USE_DEFAULT="1"
  @INC:
    /home/cpan/pit/rel/conf/perl-5.8.9/.cpanplus/5.8.9/build/Redis-hiredis-0.9.2.6/blib/lib
    /home/cpan/pit/rel/conf/perl-5.8.9/.cpanplus/5.8.9/build/Redis-hiredis-0.9.2.6/blib/arch
    /home/cpan/pit/rel/perl-5.8.9/lib/5.8.9/i686-gnukfreebsd-thread-multi-64int
    /home/cpan/pit/rel/perl-5.8.9/lib/5.8.9
    /home/cpan/pit/rel/perl-5.8.9/lib/site_perl/5.8.9/i686-gnukfreebsd-thread-multi-64int
    /home/cpan/pit/rel/perl-5.8.9/lib/site_perl/5.8.9
    .