Math-MatrixReal v2.13 Perl 5 v5.32.1 i386-openbsd
- Status
- Pass
- From
- Alceu Rodrigues de Freitas Junior
- Dist
-
Math-MatrixReal v2.13
- Platform
- Perl 5 v5.32.1 i386-openbsd
- Date
- 2022-06-15 01:05:27
- ID
- 3e661ff6-ec47-11ec-b737-db65ffa5fe2c
This distribution has been tested as part of the CPAN Testers
project, supporting the Perl programming language. See
http://wiki.cpantesters.org/ for more information or email
questions to cpan-testers-discuss@perl.org
--
Dear Jonathan Leto,
This is a computer-generated report for Math-MatrixReal-2.13
on perl 5.32.1, created by CPAN-Reporter-1.2018.
Thank you for uploading your work to CPAN. Congratulations!
All tests were successful.
Sections of this report:
* Tester comments
* Program output
* Prerequisites
* Environment and other context
------------------------------
TESTER COMMENTS
------------------------------
Additional comments from tester:
this report is from an automated smoke testing program
and was not reviewed by a human for accuracy
------------------------------
PROGRAM OUTPUT
------------------------------
Output from './Build test':
# Testing Math::MatrixReal 2.13 on openbsd, Perl (/usr/bin/perl) 5.032001
t/00-load.t ............ ok
t/adjoint.t ............ ok
t/arith.t .............. ok
t/assign.t ............. ok
t/basic.t .............. ok
* Estimated diagonalization time for 150x150 matrix: 8.51 s
Estimated biggest matrix diagonalisable within 1 day cpu: 3178x3178
* Estimated eigenvalues-only computation time for 150x150 matrix: 1.29 s
Estimated biggest matrix manageable within 1 day cpu: 5880x5880
Btw, do you want to crunch such one now? (no, just kidding...;-)
t/bench_eigen.t ........ ok
t/bench_eigen2.t ....... ok
t/binary.t ............. ok
t/bool.t ............... ok
t/cofactor.t ........... ok
t/concat.t ............. ok
t/condition.t .......... ok
t/decompose_LR.t ....... ok
t/det.t ................ ok
t/diag.t ............... ok
t/display_precision.t .. ok
t/div.t ................ ok
t/each.t ............... ok
t/eigen_3x3.t .......... ok
t/eigen_7x7.t .......... ok
t/eigen_NxN.t .......... ok
t/equality.t ........... ok
t/exponent.t ........... ok
t/ext1.t ............... ok
t/gramian.t ............ ok
t/gsm.t ................ ok
t/inequality.t ......... ok
t/inverse.t ............ ok
t/is_LR.t .............. ok
t/isrowcol.t ........... ok
t/latex.t .............. ok
t/length.t ............. ok
t/list.t ............... ok
t/matlab.t ............. ok
t/max_min.t ............ ok
t/minimax.t ............ ok
t/minor.t .............. ok
t/norm.t ............... ok
t/normality.t .......... ok
t/orthogonal.t ......... ok
t/periodic.t ........... ok
t/positive.t ........... ok
t/product.t ............ ok
t/quadratic.t .......... ok
t/rand.t ............... ok
t/rank.t ............... ok
t/scinotation.t ........ ok
t/similar.t ............ ok
t/spectral.t ........... ok
t/stringify.t .......... ok
t/submatrix.t .......... ok
t/swap.t ............... ok
t/symmetric.t .......... ok
t/trace.t .............. ok
t/transpose.t .......... ok
t/triang.t ............. ok
t/tridiag.t ............ ok
t/vecnorm.t ............ ok
t/yacas.t .............. ok
All tests successful.
Files=59, Tests=353, 15 wallclock secs ( 0.17 usr 0.23 sys + 10.19 cusr 3.76 csys = 14.35 CPU)
Result: PASS
------------------------------
PREREQUISITES
------------------------------
Prerequisite modules loaded:
build_requires:
Module Need Have
------------- ---- ------
File::Spec 0 3.78
Test::Most 0 0.37
configure_requires:
Module Need Have
------------- ---- ------
Module::Build 0.38 0.4231
------------------------------
ENVIRONMENT AND OTHER CONTEXT
------------------------------
Environment variables:
AUTOMATED_TESTING = 1
PATH = /home/goku/perl5/bin:/usr/bin:/bin:/usr/sbin:/sbin:/usr/X11R6/bin:/usr/local/bin:/usr/local/sbin
PERL5LIB = /home/goku/perl5/lib/perl5
PERL5OPT =
PERL5_CPANPLUS_IS_RUNNING = 40778
PERL5_CPAN_IS_RUNNING = 40778
PERL5_CPAN_IS_RUNNING_IN_RECURSION = 6441,40778
PERL_CR_SMOKER_CURRENT = Benchmark-Perl-Formance-0.55
PERL_EXTUTILS_AUTOINSTALL = --defaultdeps
PERL_LOCAL_LIB_ROOT = /home/goku/perl5
PERL_MB_OPT = --install_base "/home/goku/perl5"
PERL_MM_OPT = INSTALL_BASE=/home/goku/perl5
PERL_MM_USE_DEFAULT = 1
PERL_USE_UNSAFE_INC = 1
SHELL = /bin/ksh
TERM = xterm-256color
Perl special variables (and OS-specific diagnostics, for MSWin32):
$^X = /usr/bin/perl
$UID/$EUID = 1001 / 1001
$GID = 1002 1002 1001
$EGID = 1002 1002 1001
Perl module toolchain versions installed:
Module Have
------------------- --------
CPAN 2.34
CPAN::Meta 2.150010
Cwd 3.78
ExtUtils::CBuilder 0.280236
ExtUtils::Command 7.65_01
ExtUtils::Install 2.20
ExtUtils::MakeMaker 7.65_01
ExtUtils::Manifest 1.72
ExtUtils::ParseXS 3.44
File::Spec 3.78
JSON 4.06
JSON::PP 4.09
Module::Build 0.4231
Module::Signature n/a
Parse::CPAN::Meta 2.150010
Test::Harness 3.44
Test::More 1.302190
YAML 1.30
YAML::Syck 1.34
version 0.9924
--
Summary of my perl5 (revision 5 version 32 subversion 1) configuration:
Platform:
osname=openbsd
osvers=7.1
archname=i386-openbsd
uname='openbsd'
config_args='-dse -Dopenbsd_distribution=defined -Dmksymlinks'
hint=recommended
useposix=true
d_sigaction=define
useithreads=undef
usemultiplicity=undef
use64bitint=undef
use64bitall=undef
uselongdouble=undef
usemymalloc=n
default_inc_excludes_dot=define
bincompat5005=undef
Compiler:
cc='cc'
ccflags ='-DNO_LOCALE_NUMERIC -DNO_LOCALE_COLLATE -fno-strict-aliasing -fno-delete-null-pointer-checks -pipe -fstack-protector-strong -I/usr/local/include'
optimize='-O2'
cppflags='-DBIG_TIME -DNO_LOCALE_NUMERIC -DNO_LOCALE_COLLATE -fno-strict-aliasing -fno-delete-null-pointer-checks -pipe -fstack-protector-strong -I/usr/local/include'
ccversion=''
gccversion='OpenBSD Clang 13.0.0'
gccosandvers=''
intsize=4
longsize=4
ptrsize=4
doublesize=8
byteorder=1234
doublekind=3
d_longlong=define
longlongsize=8
d_longdbl=define
longdblsize=12
longdblkind=3
ivtype='long'
ivsize=4
nvtype='double'
nvsize=8
Off_t='off_t'
lseeksize=8
alignbytes=4
prototype=define
Linker and Libraries:
ld='cc'
ldflags ='-Wl,-E -fstack-protector-strong -L/usr/local/lib'
libpth=/usr/lib /usr/lib/clang/13.0.0/lib /usr/lib
libs=-lm -lc
perllibs=-lm -lc
libc=/usr/lib/libc.so.96.1
so=so
useshrplib=true
libperl=libperl.so.22.0
gnulibc_version=''
Dynamic Linking:
dlsrc=dl_dlopen.xs
dlext=so
d_dlsymun=undef
ccdlflags='-Wl,-R/usr/libdata/perl5/i386-openbsd/CORE'
cccdlflags='-DPIC -fpic '
lddlflags='-shared -fpic -fstack-protector-strong -L/usr/local/lib'
Characteristics of this binary (from libperl):
Compile-time options:
HAS_TIMES
PERLIO_LAYERS
PERL_COPY_ON_WRITE
PERL_DONT_CREATE_GVSV
PERL_MALLOC_WRAP
PERL_OP_PARENT
PERL_PRESERVE_IVUV
USE_LARGE_FILES
USE_LOCALE
USE_LOCALE_CTYPE
USE_LOCALE_TIME
USE_PERLIO
USE_PERL_ATOF
Built under openbsd
%ENV:
PERL5LIB="/home/goku/perl5/lib/perl5"
PERL5OPT=""
PERL5_CPANPLUS_IS_RUNNING="40778"
PERL5_CPAN_IS_RUNNING="40778"
PERL5_CPAN_IS_RUNNING_IN_RECURSION="6441,40778"
PERL_CR_SMOKER_CURRENT="Benchmark-Perl-Formance-0.55"
PERL_EXTUTILS_AUTOINSTALL="--defaultdeps"
PERL_LOCAL_LIB_ROOT="/home/goku/perl5"
PERL_MB_OPT="--install_base "/home/goku/perl5""
PERL_MM_OPT="INSTALL_BASE=/home/goku/perl5"
PERL_MM_USE_DEFAULT="1"
PERL_USE_UNSAFE_INC="1"
@INC:
/home/goku/perl5/lib/perl5/i386-openbsd
/home/goku/perl5/lib/perl5
/usr/local/libdata/perl5/site_perl/i386-openbsd
/usr/local/libdata/perl5/site_perl
/usr/libdata/perl5/i386-openbsd
/usr/libdata/perl5
.