Dancer v1.3500 Perl 5 v5.20.0 i386-freebsd-thread-multi
- Status
- Pass
- From
- Chris Williams (BINGOS)
- Dist
-
Dancer v1.3500
- Platform
- Perl 5 v5.20.0 i386-freebsd-thread-multi
- Date
- 2019-03-16 19:32:32
- ID
- 3e6e88de-4822-11e9-9066-e374b0ba08e8
This distribution has been tested as part of the CPAN Testers
project, supporting the Perl programming language. See
http://wiki.cpantesters.org/ for more information or email
questions to cpan-testers-discuss@perl.org
--
Dear David Precious,
This is a computer-generated error report created automatically by
CPANPLUS, version 0.9176. Testers personal comments may appear
at the end of this report.
Thank you for uploading your work to CPAN. Congratulations!
All tests were successful.
TEST RESULTS:
Below is the error stack from stage 'make test':
PERL_DL_NONLAZY=1 "/usr/home/cpan/pit/thr/perl-5.20.0/bin/perl" "-MExtUtils::Command::MM" "-MTest::Harness" "-e" "undef *Test::Harness::Switches; test_harness(0, 'blib/lib', 'blib/arch')" t/*.t t/00_base/*.t t/01_config/*.t t/02_request/*.t t/03_route_handler/*.t t/04_static_file/*.t t/05_views/*.t t/06_helpers/*.t t/07_apphandlers/*.t t/08_session/*.t t/09_cookies/*.t t/10_template/*.t t/11_logger/*.t t/12_response/*.t t/13_engines/*.t t/14_serializer/*.t t/15_plugins/*.t t/16_timer/*.t t/17_apps/*.t t/19_dancer/*.t t/20_deprecation/*.t t/21_dependents/*.t t/22_hooks/*.t t/23_dancer_tests/*.t t/24_deployment/*.t t/25_exceptions/*.t
t/00-compile.t ...................................... ok
#
# Versions for all modules listed in MYMETA.json (including optional ones):
#
# === Configure Requires ===
#
# Module Want Have
# ------------------- ---- ----
# ExtUtils::MakeMaker any 7.34
#
# === Configure Suggests ===
#
# Module Want Have
# -------- ------- ----
# JSON::PP 2.27300 4.00
#
# === Build Requires ===
#
# Module Want Have
# ------------------- ---- ----
# ExtUtils::MakeMaker any 7.34
#
# === Test Requires ===
#
# Module Want Have
# ------------------- ----- --------
# Data::Dump any 1.23
# Devel::Hide any 0.0010
# Digest::MD5 any 2.53
# ExtUtils::MakeMaker any 7.34
# File::Spec any 3.75
# HTTP::CookieJar 0.008 0.008
# HTTP::Request any 6.18
# HTTP::Tiny 0.014 0.043
# IO::Handle any 1.35
# IO::Socket::INET any 1.35
# IPC::Open3 any 1.16
# JSON 2.90 4.02
# Plack::Builder any undef
# Test::More any 1.302162
# Test::NoWarnings any 1.04
# blib 1.01 1.06
# utf8 any 1.13
#
# === Test Recommends ===
#
# Module Want Have
# ---------- -------- --------
# CPAN::Meta 2.120900 2.150010
#
# === Runtime Requires ===
#
# Module Want Have
# -------------------------- ----- --------
# Carp any 1.3301
# Cwd any 3.75
# Data::Dumper any 2.151
# Encode any 2.60
# Exporter any 5.70
# Fcntl any 1.11
# File::Basename any 2.85
# File::Copy any 2.29
# File::Path any 2.16
# File::Spec any 3.75
# File::Spec::Functions any 3.75
# File::Temp any 0.2309
# File::stat any 1.07
# FindBin any 1.51
# Getopt::Long any 2.42
# HTTP::Body any 1.22
# HTTP::Date any 6.02
# HTTP::Headers any 6.18
# HTTP::Server::Simple::PSGI any 0.16
# HTTP::Tiny 0.014 0.043
# Hash::Merge::Simple any 0.051
# IO::File any 1.16
# MIME::Types any 2.17
# Module::Runtime any 0.016
# POSIX any 1.38_03
# Pod::Usage any 1.63
# Scalar::Util any 1.50
# Test::Builder any 1.302162
# Test::More any 1.302162
# Time::HiRes any 1.9726
# Try::Tiny any 0.30
# URI any 1.76
# URI::Escape any 3.31
# base any 2.22
# bytes any 1.04
# constant any 1.31
# lib any 0.63
# overload any 1.22
# parent any 0.228
# strict any 1.08
# vars any 1.03
# warnings any 1.23
#
# === Runtime Recommends ===
#
# Module Want Have
# ----------- ---- -------
# MIME::Types 2.17 2.17
# YAML any missing
# YAML::XS any missing
#
t/00-report-prereqs.t ............................... ok
t/00_base/000_create_fake_env.t ..................... ok
# Testing Dancer 1.3500, Perl 5.020000, /usr/home/cpan/pit/thr/perl-5.20.0/bin/perl
t/00_base/001_load.t ................................ ok
t/00_base/002_strict_and_warnings.t ................. ok
t/00_base/003_syntax.t .............................. ok
t/00_base/004_args.t ................................ ok
t/00_base/005_module_loader.t ....................... ok
t/00_base/007_load_syntax.t ......................... ok
t/00_base/008_export.t .............................. ok
t/00_base/009_syntax_export.t ....................... ok
t/00_base/010_export_script.t ....................... ok
t/00_base/06_dancer_object.t ........................ ok
t/00_base/08_pod_coverage_dancer.t .................. skipped: Test::Pod::Coverage 1.08 required for testing POD coverage
t/00_base/09_load_app.t ............................. ok
t/00_base/11_file_utils.t ........................... ok
t/00_base/12_utf8_charset.t ......................... ok
t/00_base/13_dancer_singleton.t ..................... ok
t/00_base/15_dependent_modules.t .................... skipped: Author tests not required for installation
t/00_base/17_globalwarnings_config_on.t ............. ok
t/00_base/config.t .................................. ok
t/00_base/easymocker.t .............................. ok
t/00_base/normalize_path.t .......................... ok
# Test::TCP 2.19 loaded successfully
# Test::More 1.302162 loaded successfully
# JSON 4.02 loaded successfully
# YAML is not available
# Clone 0.41 loaded successfully
# Plack 1.0047 loaded successfully
# XML::Simple is not available
# HTTP::Parser::XS is not available
t/00_base/optional-module-versions.t ................ ok
t/00_base/uri_for.t ................................. ok
t/01_config/01_settings.t ........................... ok
t/01_config/02_mime_type.t .......................... ok
t/01_config/03_logger.t ............................. ok
t/01_config/04_config_file.t ........................ skipped: YAML or YAML::XS needed to run these tests
t/01_config/05_serializers.t ........................ ok
t/01_config/06_config_api.t ......................... skipped: YAML or YAML::XS needed to run these tests
t/01_config/06_stack_trace.t ........................ skipped: tests require module 'Template' to be installed
t/01_config/07_strict_config.t ...................... skipped: YAML or YAML::XS needed to run these tests
t/01_config/08_environments.t ....................... skipped: YAML or YAML::XS needed to run these tests
t/01_config/yaml_dependency.t ....................... ok
t/02_request/000_create_fake_env.t .................. ok
t/02_request/01_load.t .............................. ok
t/02_request/04_custom.t ............................ ok
t/02_request/04_forward.t ........................... ok
t/02_request/05_cgi_pm_compat.t ..................... ok
t/02_request/06_init_env.t .......................... ok
# OK
t/02_request/07_raw_data.t .......................... ok
t/02_request/08_param_array.t ....................... ok
t/02_request/08_params.t ............................ ok
t/02_request/10_mixed_params.t ...................... ok
t/02_request/11_accessors.t ......................... ok
t/02_request/12_base.t .............................. ok
t/02_request/13_ajax.t .............................. ok
t/02_request/14_uploads.t ........................... ok
t/02_request/15_headers.t ........................... ok
t/02_request/16_delete.t ............................ ok
t/02_request/17_uri_base.t .......................... ok
t/02_request/18_param_accessor.t .................... ok
t/02_request/19_json_body.t ......................... ok
# Selected 127.0.0.1:48057
t/02_request/20_body.t .............................. ok
t/02_request/21_dancer_response_multiple_params.t ... ok
t/03_route_handler/01_http_methods.t ................ ok
t/03_route_handler/02_params.t ...................... ok
t/03_route_handler/03_routes_api.t .................. ok
t/03_route_handler/04_routes_matching.t ............. ok
t/03_route_handler/04_wildcards_megasplat.t ......... ok
t/03_route_handler/05_filter.t ...................... ok
t/03_route_handler/05_unicode.t ..................... ok
t/03_route_handler/06_redirect.t .................... ok
t/03_route_handler/07_compilation_warning.t ......... ok
t/03_route_handler/08_errors.t ...................... ok
t/03_route_handler/12_response.t .................... ok
t/03_route_handler/12_response_halt.t ............... ok
t/03_route_handler/14_options.t ..................... ok
t/03_route_handler/15_prefix.t ...................... ok
t/03_route_handler/16_caching.t ..................... ok
t/03_route_handler/16_embedded_prefixes.t ........... ok
t/03_route_handler/18_auto_page.t ................... ok
t/03_route_handler/21_ajax.t ........................ ok
t/03_route_handler/23_filter_error_catching.t ....... ok
t/03_route_handler/24_multiple_params.t ............. ok
t/03_route_handler/24_named_captures.t .............. ok
t/03_route_handler/28_plack_mount.t ................. ok
t/03_route_handler/29_forward.t ..................... ok
t/03_route_handler/29_redirect_immediately.t ........ ok
t/03_route_handler/30_forward_session.t ............. ok
t/03_route_handler/31_infinite_loop.t ............... ok
t/03_route_handler/33_vars.t ........................ ok
t/03_route_handler/34_forward_body_post.t ........... ok
t/03_route_handler/35_no_further_routes.t ........... ok
t/03_route_handler/36_false_routes.t ................ ok
t/03_route_handler/99_bugs.t ........................ ok
t/04_static_file/001_base.t ......................... ok
t/04_static_file/003_mime_types_reinit.t ............ ok
t/04_static_file/01_mime_types.t .................... ok
t/04_static_file/02_dir_traversal.t ................. ok
t/05_views/002_view_rendering.t ..................... ok
t/05_views/03_layout.t .............................. skipped: Template is needed to run this tests
t/06_helpers/000_create_fake_env.t .................. ok
t/06_helpers/01_send_file.t ......................... ok
t/06_helpers/02_http_status.t ....................... ok
t/06_helpers/03_content_type.t ...................... ok
t/06_helpers/04_status.t ............................ ok
t/06_helpers/05_send_error.t ........................ ok
t/06_helpers/06_load.t .............................. ok
t/07_apphandlers/000_create_fake_env.t .............. ok
t/07_apphandlers/01_base.t .......................... ok
t/07_apphandlers/02_apache2_plack.t ................. ok
t/07_apphandlers/03_psgi_app.t ...................... ok
t/07_apphandlers/04_standalone_app.t ................ ok
t/07_apphandlers/05_middlewares.t ................... ok
t/07_apphandlers/05_psgi_api.t ...................... ok
t/07_apphandlers/06_debug.t ......................... skipped: Test::Output is needed for this test
t/07_apphandlers/07_middleware_map.t ................ ok
t/07_apphandlers/08_is_text.t ....................... ok
t/08_session/000_create_fake_env.t .................. ok
t/08_session/01_load.t .............................. ok
Use of uninitialized value in subroutine entry at /usr/home/cpan/pit/thr/conf/perl-5.20.0/.cpanplus/5.20.0/build/50olJIR5nx/Dancer-1.3500/blib/lib/Dancer/FileUtils.pm line 32.
t/08_session/02_dependency_check.t .................. ok
t/08_session/03_http_requests.t ..................... skipped: YAML is needed to run this test
t/08_session/04_api.t ............................... ok
t/08_session/05_yaml.t .............................. skipped: need YAML
t/08_session/06_abstract.t .......................... ok
t/08_session/07_session_expires.t ................... skipped: YAML is needed for this test
t/08_session/08_simple.t ............................ ok
t/08_session/09_session.t ........................... ok
t/08_session/10_filter.t ............................ ok
t/08_session/11_session_secure.t .................... ok
t/08_session/12_session_name.t ...................... ok
t/08_session/13_session_httponly.t .................. skipped: YAML is needed for this test
t/08_session/14_session_domain.t .................... ok
t/09_cookies/000_create_fake_env.t .................. ok
t/09_cookies/01_use.t ............................... ok
t/09_cookies/02_cookie_object.t ..................... ok
t/09_cookies/03_persistence.t ....................... ok
t/09_cookies/04_secure.t ............................ ok
t/09_cookies/05_api.t ............................... ok
t/09_cookies/06_expires.t ........................... ok
t/10_template/000_create_fake_env.t ................. ok
t/10_template/01_factory.t .......................... skipped: Template needed
t/10_template/02_abstract_class.t ................... ok
t/10_template/03_simple.t ........................... ok
t/10_template/05_template_toolkit.t ................. skipped: need Template to run this test
t/10_template/05_template_toolkit_fromdata.t ........ skipped: module Template::Provider::FromDATA required
t/10_template/extension.t ........................... ok
t/10_template/template.t ............................ ok
t/11_logger/000_create_fake_env.t ................... ok
t/11_logger/01_abstract.t ........................... ok
t/11_logger/02_factory.t ............................ ok
t/11_logger/03_file.t ............................... ok
t/11_logger/04_console.t ............................ skipped: Test::Output is needed for this test
t/11_logger/05_format.t ............................. ok
t/11_logger/06_null.t ............................... ok
t/11_logger/07_diag.t ............................... ok
t/11_logger/08_serialize.t .......................... skipped: Test::Output is needed for this test
t/11_logger/09_capture.t ............................ ok
t/11_logger/10_note.t ............................... ok
t/11_logger/11_runtime_file.t ....................... ok
t/11_logger/unicode.t ............................... ok
t/12_response/000_create_fake_env.t ................. ok
t/12_response/01_CRLF_injection.t ................... ok
t/12_response/02_headers.t .......................... ok
t/12_response/03_charset.t .......................... ok
Wide character in print at /usr/home/cpan/pit/jail/1tA5OtjKY1/lib/perl5/HTTP/Server/Simple/PSGI.pm line 132, <DATA> line 16.
Wide character in print at /usr/home/cpan/pit/jail/1tA5OtjKY1/lib/perl5/HTTP/Server/Simple/PSGI.pm line 132, <DATA> line 16.
t/12_response/04_charset_server.t ................... ok
t/12_response/05_api.t .............................. ok
t/12_response/06_filter_halt_status.t ............... ok
t/12_response/07_cookies.t .......................... ok
t/12_response/08_drop_content.t ..................... ok
t/12_response/09_headers_to_array.t ................. ok
Data exceeding 100 levels, truncating
t/12_response/10_error_dumper.t ..................... ok
Devel::Hide hides Clone.pm
t/12_response/10_error_dumper_without_clone.t ....... ok
t/12_response/11_CVE-2012-5572.t .................... ok
t/13_engines/00_load.t .............................. ok
t/13_engines/02_template_init.t ..................... ok
t/14_serializer/01_helpers.t ........................ ok
t/14_serializer/02_request_json.t ................... ok
t/14_serializer/03_request_yaml.t ................... ok
t/14_serializer/04_request_xml.t .................... ok
t/14_serializer/05_request_mutable.t ................ skipped: YAML or YAML::XS is needed to run this test
t/14_serializer/06_api.t ............................ ok
t/14_serializer/07_request_jsonp.t .................. ok
t/14_serializer/17_clear_serializer.t ............... ok
t/14_serializer/18_mutable_template_or_serialize.t .. ok
t/14_serializer/99_bugs.t ........................... ok
t/15_plugins/000_create_fake_env.t .................. ok
t/15_plugins/01_register.t .......................... ok
t/15_plugins/02_config.t ............................ skipped: YAML or YAML::XS is needed for this test
t/15_plugins/03_namespace.t ......................... ok
t/15_plugins/04_apps_and_plugins.t .................. ok
t/15_plugins/05_keywords.t .......................... ok
t/15_plugins/05_plugins_and_OO.t .................... ok
t/15_plugins/05b_plugins_and_c3.t ................... ok
t/15_plugins/06_hook.t .............................. ok
t/15_plugins/07_ajax_plack_builder.t ................ ok
t/16_timer/00_base.t ................................ ok
t/17_apps/000_create_fake_env.t ..................... ok
t/17_apps/00_base.t ................................. ok
t/17_apps/01_settings.t ............................. ok
t/17_apps/02_load_app.t ............................. ok
t/17_apps/03_prefix.t ............................... ok
t/17_apps/05_api.t .................................. ok
t/19_dancer/01_script.t ............................. ok
t/19_dancer/02_script_version_from.t ................ ok
t/20_deprecation/01_api.t ........................... ok
t/21_dependents/Dancer-Session-Cookie.t ............. skipped: Dancer::Session::Cookie 0.14 required
t/22_hooks/00_syntax.t .............................. ok
t/22_hooks/01_api.t ................................. ok
t/22_hooks/02_before.t .............................. ok
t/22_hooks/03_after.t ............................... ok
t/22_hooks/04_template.t ............................ ok
t/22_hooks/05_layout.t .............................. ok
t/22_hooks/06_serializer.t .......................... ok
t/22_hooks/07_file.t ................................ ok
t/22_hooks/08_error.t ............................... ok
t/22_hooks/09_before_error_init.t ................... ok
t/22_hooks/10_error_in_hook.t ....................... ok
t/22_hooks/11_error_in_hook.t ....................... ok
t/23_dancer_tests/01_basic.t ........................ ok
t/23_dancer_tests/02_tests_functions.t .............. ok
t/23_dancer_tests/03_uris.t ......................... ok
t/24_deployment/01_multi_webapp.t ................... ok
t/25_exceptions/01_exceptions.t ..................... ok
t/25_exceptions/02_exceptions.t ..................... ok
t/25_exceptions/03_exceptions.t ..................... ok
t/25_exceptions/04_exceptions_warn.t ................ ok
t/author-pod-syntax.t ............................... skipped: these tests are for testing by the author
t/pod.t ............................................. skipped: Author tests not required for installation
t/release-distmeta.t ................................ skipped: these tests are for release candidate testing
All tests successful.
Files=222, Tests=1929, 137 wallclock secs ( 1.15 usr 0.74 sys + 102.42 cusr 30.93 csys = 135.24 CPU)
Result: PASS
PREREQUISITES:
Here is a list of prerequisites you specified and versions we
managed to load:
Module Name Have Want
Carp 1.3301 0
Cwd 3.75 0
Data::Dump 1.23 0
Data::Dumper 2.151 0
Devel::Hide 0.0010 0
Digest::MD5 2.53 0
Encode 2.60 0
Exporter 5.70 0
ExtUtils::MakeMaker 7.34 0
Fcntl 1.11 0
File::Basename 2.85 0
File::Copy 2.29 0
File::Path 2.16 0
File::Spec 3.75 0
File::Spec::Functions 3.75 0
File::Temp 0.2309 0
File::stat 1.07 0
FindBin 1.51 0
Getopt::Long 2.42 0
HTTP::Body 1.22 0
HTTP::CookieJar 0.008 0.008
HTTP::Date 6.02 0
HTTP::Headers 6.18 0
HTTP::Request 6.18 0
HTTP::Server::Simple::PSGI 0.16 0
HTTP::Tiny 0.043 0.014
Hash::Merge::Simple 0.051 0
IO::File 1.16 0
IO::Handle 1.35 0
IO::Socket::INET 1.35 0
IPC::Open3 1.16 0
JSON 4.02 2.90
MIME::Types 2.17 0
Module::Runtime 0.016 0
POSIX 1.38_03 0
Plack::Builder 0 0
Pod::Usage 1.63 0
Scalar::Util 1.50 0
Test::Builder 1.302162 0
Test::More 1.302162 0
Test::NoWarnings 1.04 0
Time::HiRes 1.9726 0
Try::Tiny 0.30 0
URI 1.76 0
URI::Escape 3.31 0
base 2.22 0
blib 1.06 1.01
bytes 1.04 0
constant 1.31 0
lib 0.63 0
overload 1.22 0
parent 0.228 0
strict 1.08 0
utf8 1.13 0
vars 1.03 0
warnings 1.23 0
Perl module toolchain versions installed:
Module Name Have
CPANPLUS 0.9176
CPANPLUS::Dist::Build 0.90
Cwd 3.75
ExtUtils::CBuilder 0.280230
ExtUtils::Command 7.34
ExtUtils::Install 2.14
ExtUtils::MakeMaker 7.34
ExtUtils::Manifest 1.71
ExtUtils::ParseXS 3.35
File::Spec 3.75
Module::Build 0.4224
Pod::Parser 1.62
Pod::Simple 3.28
Test2 1.302162
Test::Harness 3.42
Test::More 1.302162
version 0.9924
******************************** NOTE ********************************
The comments above are created mechanically, possibly without manual
checking by the sender. As there are many people performing automatic
tests on each upload to CPAN, it is likely that you will receive
identical messages about the same problem.
If you believe that the message is mistaken, please reply to the first
one with correction and/or additional informations, and do not take
it personally. We appreciate your patience. :)
**********************************************************************
Additional comments:
This report was machine-generated by CPANPLUS::Dist::YACSmoke 1.06.
Powered by minismokebox version 0.68
------------------------------
ENVIRONMENT AND OTHER CONTEXT
------------------------------
Environment variables:
AUTOMATED_TESTING = 1
NONINTERACTIVE_TESTING = 1
PATH = /usr/home/cpan/pit/thr/conf/perl-5.20.0/.cpanplus/5.20.0/build/50olJIR5nx/Dancer-1.3500/blib/script:/sbin:/bin:/usr/sbin:/usr/bin:/usr/local/sbin:/usr/local/bin:/home/cpan/bin
PERL5LIB = /usr/home/cpan/pit/jail/1tA5OtjKY1/lib/perl5:/usr/home/cpan/pit/thr/conf/perl-5.20.0/.cpanplus/5.20.0/build/50olJIR5nx/Dancer-1.3500/blib/lib:/usr/home/cpan/pit/thr/conf/perl-5.20.0/.cpanplus/5.20.0/build/50olJIR5nx/Dancer-1.3500/blib/arch
PERL5_CPANPLUS_IS_RUNNING = 60321
PERL5_CPANPLUS_IS_VERSION = 0.9176
PERL5_MINISMOKEBOX = 0.68
PERL5_YACSMOKE_BASE = /usr/home/cpan/pit/thr/conf/perl-5.20.0
PERL_EXTUTILS_AUTOINSTALL = --defaultdeps
PERL_LOCAL_LIB_ROOT = /usr/home/cpan/pit/jail/1tA5OtjKY1
PERL_MB_OPT = --install_base "/usr/home/cpan/pit/jail/1tA5OtjKY1"
PERL_MM_OPT = INSTALL_BASE=/usr/home/cpan/pit/jail/1tA5OtjKY1
PERL_MM_USE_DEFAULT = 1
SHELL = /usr/local/bin/bash
TERM = screen
Perl special variables (and OS-specific diagnostics, for MSWin32):
Perl: $^X = /usr/home/cpan/pit/thr/perl-5.20.0/bin/perl
UID: $< = 1002
EUID: $> = 1002
GID: $( = 1002 1002
EGID: $) = 1002 1002
-------------------------------
--
Summary of my perl5 (revision 5 version 20 subversion 0) configuration:
Platform:
osname=freebsd, osvers=12.0-release, archname=i386-freebsd-thread-multi
uname='freebsd ffyrc 12.0-release freebsd 12.0-release r341666 generic i386 '
config_args='-des -Dprefix=/usr/home/cpan/pit/thr/perl-5.20.0 -Dusethreads'
hint=recommended, useposix=true, d_sigaction=define
useithreads=define, usemultiplicity=define
use64bitint=undef, use64bitall=undef, uselongdouble=undef
usemymalloc=n, bincompat5005=undef
Compiler:
cc='cc', ccflags ='-DHAS_FPSETMASK -DHAS_FLOATINGPOINT_H -fno-strict-aliasing -pipe -fstack-protector -I/usr/local/include',
optimize='-O2',
cppflags='-DHAS_FPSETMASK -DHAS_FLOATINGPOINT_H -fno-strict-aliasing -pipe -fstack-protector -I/usr/local/include'
ccversion='', gccversion='4.2.1 Compatible FreeBSD Clang 6.0.1 (tags/RELEASE_601/final 335540)', gccosandvers=''
intsize=4, longsize=4, ptrsize=4, doublesize=8, byteorder=1234
d_longlong=define, longlongsize=8, d_longdbl=define, longdblsize=12
ivtype='long', ivsize=4, nvtype='double', nvsize=8, Off_t='off_t', lseeksize=8
alignbytes=4, prototype=define
Linker and Libraries:
ld='cc', ldflags ='-pthread -Wl,-E -fstack-protector -L/usr/local/lib'
libpth=/usr/lib /usr/local/lib /usr/lib/clang/6.0.1/lib /usr/lib
libs=-lgdbm -ldl -lm -lcrypt -lutil
perllibs=-ldl -lm -lcrypt -lutil
libc=, so=so, useshrplib=false, libperl=libperl.a
gnulibc_version=''
Dynamic Linking:
dlsrc=dl_dlopen.xs, dlext=so, d_dlsymun=undef, ccdlflags=' '
cccdlflags='-DPIC -fPIC', lddlflags='-shared -L/usr/local/lib -fstack-protector'
Characteristics of this binary (from libperl):
Compile-time options: HAS_TIMES MULTIPLICITY PERLIO_LAYERS
PERL_DONT_CREATE_GVSV
PERL_HASH_FUNC_ONE_AT_A_TIME_HARD
PERL_IMPLICIT_CONTEXT PERL_MALLOC_WRAP
PERL_NEW_COPY_ON_WRITE PERL_PRESERVE_IVUV
USE_ITHREADS USE_LARGE_FILES USE_LOCALE
USE_LOCALE_COLLATE USE_LOCALE_CTYPE
USE_LOCALE_NUMERIC USE_PERLIO USE_PERL_ATOF
USE_REENTRANT_API
Locally applied patches:
Devel::PatchPerl 1.52
Built under freebsd
Compiled at Dec 15 2018 14:20:44
%ENV:
PERL5LIB="/usr/home/cpan/pit/jail/1tA5OtjKY1/lib/perl5:/usr/home/cpan/pit/thr/conf/perl-5.20.0/.cpanplus/5.20.0/build/50olJIR5nx/Dancer-1.3500/blib/lib:/usr/home/cpan/pit/thr/conf/perl-5.20.0/.cpanplus/5.20.0/build/50olJIR5nx/Dancer-1.3500/blib/arch"
PERL5_CPANPLUS_IS_RUNNING="60321"
PERL5_CPANPLUS_IS_VERSION="0.9176"
PERL5_MINISMOKEBOX="0.68"
PERL5_YACSMOKE_BASE="/usr/home/cpan/pit/thr/conf/perl-5.20.0"
PERL_EXTUTILS_AUTOINSTALL="--defaultdeps"
PERL_LOCAL_LIB_ROOT="/usr/home/cpan/pit/jail/1tA5OtjKY1"
PERL_MB_OPT="--install_base "/usr/home/cpan/pit/jail/1tA5OtjKY1""
PERL_MM_OPT="INSTALL_BASE=/usr/home/cpan/pit/jail/1tA5OtjKY1"
PERL_MM_USE_DEFAULT="1"
@INC:
/usr/home/cpan/pit/jail/1tA5OtjKY1/lib/perl5/5.20.0/i386-freebsd-thread-multi
/usr/home/cpan/pit/jail/1tA5OtjKY1/lib/perl5/5.20.0
/usr/home/cpan/pit/jail/1tA5OtjKY1/lib/perl5/i386-freebsd-thread-multi
/usr/home/cpan/pit/jail/1tA5OtjKY1/lib/perl5
/usr/home/cpan/pit/thr/conf/perl-5.20.0/.cpanplus/5.20.0/build/50olJIR5nx/Dancer-1.3500/blib/lib
/usr/home/cpan/pit/thr/conf/perl-5.20.0/.cpanplus/5.20.0/build/50olJIR5nx/Dancer-1.3500/blib/arch
/usr/home/cpan/pit/thr/perl-5.20.0/lib/site_perl/5.20.0/i386-freebsd-thread-multi
/usr/home/cpan/pit/thr/perl-5.20.0/lib/site_perl/5.20.0
/usr/home/cpan/pit/thr/perl-5.20.0/lib/5.20.0/i386-freebsd-thread-multi
/usr/home/cpan/pit/thr/perl-5.20.0/lib/5.20.0
.