HTML-FormFu-MultiForm v1.03 Perl 5 v5.36.1 darwin-2level

Status
Pass
From
David Cantrell (DCANTRELL)
Dist
HTML-FormFu-MultiForm v1.03
Platform
Perl 5 v5.36.1 darwin-2level
Date
2024-11-21 02:56:45
ID
3e8ee7a8-a7b4-11ef-a5c7-b9b89d565607
This distribution has been tested as part of the CPAN Testers
project, supporting the Perl programming language.  See
http://wiki.cpantesters.org/ for more information or email
questions to cpan-testers-discuss@perl.org


--
Dear Nigel Metheringham,

This is a computer-generated report for HTML-FormFu-MultiForm-1.03
on perl 5.36.1, created by CPAN-Reporter-1.2019.

Thank you for uploading your work to CPAN.  Congratulations!
All tests were successful.

Sections of this report:

    * Tester comments
    * Program output
    * Prerequisites
    * Environment and other context

------------------------------
TESTER COMMENTS
------------------------------

Additional comments from tester:

this report is from an automated smoke testing program
and was not reviewed by a human for accuracy

------------------------------
PROGRAM OUTPUT
------------------------------

Output from '/usr/bin/make test':

PERL_DL_NONLAZY=1 "/Users/cpantesting/cpantesting/perl-5.36.1/bin/perl" "-MExtUtils::Command::MM" "-MTest::Harness" "-e" "undef *Test::Harness::Switches; test_harness(0, 'blib/lib', 'blib/arch')" t/*.t t/multiform-misc/*.t t/multiform-nested-name/*.t t/multiform-no-combine/*.t t/multiform/*.t t/multiform_hidden_name/*.t
# 
# Versions for all modules listed in MYMETA.json (including optional ones):
# 
# === Configure Requires ===
# 
#     Module              Want Have
#     ------------------- ---- ----
#     ExtUtils::MakeMaker  any 7.70
# 
# === Build Requires ===
# 
#     Module              Want Have
#     ------------------- ---- ----
#     ExtUtils::MakeMaker  any 7.70
# 
# === Test Requires ===
# 
#     Module              Want     Have
#     ------------------- ---- --------
#     Cwd                  any     3.84
#     ExtUtils::MakeMaker  any     7.70
#     Fatal                any     2.34
#     File::Spec           any     3.84
#     Test::More          0.92 1.302204
#     YAML::XS             any v0.902.0
#     warnings             any     1.58
# 
# === Test Recommends ===
# 
#     Module         Want     Have
#     ---------- -------- --------
#     CPAN::Meta 2.120900 2.150010
# 
# === Runtime Requires ===
# 
#     Module                                       Want   Have
#     -------------------------------------------- ---- ------
#     Carp                                          any   1.52
#     Clone                                         any   0.47
#     Crypt::CBC                                    any   3.04
#     Crypt::DES                                    any   2.07
#     HTML::FormFu                                  any   2.07
#     HTML::FormFu::Attribute                       any   2.07
#     HTML::FormFu::ObjectUtil                      any   2.07
#     HTML::FormFu::QueryType::CGI                  any   2.07
#     HTML::FormFu::Role::FormAndElementMethods     any   2.07
#     HTML::FormFu::Role::FormBlockAndFieldMethods  any   2.07
#     HTML::FormFu::Role::NestedHashUtils           any   2.07
#     HTML::FormFu::Role::Populate                  any   2.07
#     List::MoreUtils                               any  0.430
#     Moose                                         any 2.2207
#     MooseX::Attribute::Chained                    any  1.0.3
#     Scalar::Util                                  any   1.62
#     Storable                                      any   3.26
#     overload                                      any   1.35
#     strict                                        any   1.12
# 
t/00-report-prereqs.t ........................ ok
t/multiform-misc-file-client-side.t .......... skipped: CGI tmp_upload_dir functionality makes this unusable on modern versions
WARNING: The key derivation method "opensslv1" is deprecated. Using -pbkdf=>'pbkdf2' would be better.
Pass -nodeprecate=>1 to inhibit this message.
 at /Users/cpantesting/cpantesting/perl-5.36.1/.cpan/build/HTML-FormFu-MultiForm-1.03-0/blib/lib/HTML/FormFu/MultiForm.pm line 533.
t/multiform-misc/accessors.t ................. ok
t/multiform-misc/file-server-side.t .......... skipped: CGI tmp_upload_dir functionality makes this unusable on modern versions
t/multiform-nested-name/0_render_page_1.t .... ok
t/multiform-nested-name/1_submit_page_1.t .... ok
WARNING: The key derivation method "opensslv1" is deprecated. Using -pbkdf=>'pbkdf2' would be better.
Pass -nodeprecate=>1 to inhibit this message.
 at /Users/cpantesting/cpantesting/perl-5.36.1/.cpan/build/HTML-FormFu-MultiForm-1.03-0/blib/lib/HTML/FormFu/MultiForm.pm line 533.
WARNING: The key derivation method "opensslv1" is deprecated. Using -pbkdf=>'pbkdf2' would be better.
Pass -nodeprecate=>1 to inhibit this message.
 at /Users/cpantesting/cpantesting/perl-5.36.1/.cpan/build/HTML-FormFu-MultiForm-1.03-0/blib/lib/HTML/FormFu/MultiForm.pm line 533.
t/multiform-nested-name/2_render_page_2.t .... ok
WARNING: The key derivation method "opensslv1" is deprecated. Using -pbkdf=>'pbkdf2' would be better.
Pass -nodeprecate=>1 to inhibit this message.
 at /Users/cpantesting/cpantesting/perl-5.36.1/.cpan/build/HTML-FormFu-MultiForm-1.03-0/blib/lib/HTML/FormFu/MultiForm.pm line 533.
WARNING: The key derivation method "opensslv1" is deprecated. Using -pbkdf=>'pbkdf2' would be better.
Pass -nodeprecate=>1 to inhibit this message.
 at /Users/cpantesting/cpantesting/perl-5.36.1/.cpan/build/HTML-FormFu-MultiForm-1.03-0/blib/lib/HTML/FormFu/MultiForm.pm line 533.
t/multiform-nested-name/3_submit_page_2.t .... ok
WARNING: The key derivation method "opensslv1" is deprecated. Using -pbkdf=>'pbkdf2' would be better.
Pass -nodeprecate=>1 to inhibit this message.
 at /Users/cpantesting/cpantesting/perl-5.36.1/.cpan/build/HTML-FormFu-MultiForm-1.03-0/blib/lib/HTML/FormFu/MultiForm.pm line 533.
WARNING: The key derivation method "opensslv1" is deprecated. Using -pbkdf=>'pbkdf2' would be better.
Pass -nodeprecate=>1 to inhibit this message.
 at /Users/cpantesting/cpantesting/perl-5.36.1/.cpan/build/HTML-FormFu-MultiForm-1.03-0/blib/lib/HTML/FormFu/MultiForm.pm line 533.
t/multiform-nested-name/4_complete_page_3.t .. ok
t/multiform-no-combine/0_render_page_1.t ..... ok
t/multiform-no-combine/1_submit_page_1.t ..... ok
WARNING: The key derivation method "opensslv1" is deprecated. Using -pbkdf=>'pbkdf2' would be better.
Pass -nodeprecate=>1 to inhibit this message.
 at /Users/cpantesting/cpantesting/perl-5.36.1/.cpan/build/HTML-FormFu-MultiForm-1.03-0/blib/lib/HTML/FormFu/MultiForm.pm line 533.
WARNING: The key derivation method "opensslv1" is deprecated. Using -pbkdf=>'pbkdf2' would be better.
Pass -nodeprecate=>1 to inhibit this message.
 at /Users/cpantesting/cpantesting/perl-5.36.1/.cpan/build/HTML-FormFu-MultiForm-1.03-0/blib/lib/HTML/FormFu/MultiForm.pm line 533.
t/multiform-no-combine/2_render_page_2.t ..... ok
WARNING: The key derivation method "opensslv1" is deprecated. Using -pbkdf=>'pbkdf2' would be better.
Pass -nodeprecate=>1 to inhibit this message.
 at /Users/cpantesting/cpantesting/perl-5.36.1/.cpan/build/HTML-FormFu-MultiForm-1.03-0/blib/lib/HTML/FormFu/MultiForm.pm line 533.
WARNING: The key derivation method "opensslv1" is deprecated. Using -pbkdf=>'pbkdf2' would be better.
Pass -nodeprecate=>1 to inhibit this message.
 at /Users/cpantesting/cpantesting/perl-5.36.1/.cpan/build/HTML-FormFu-MultiForm-1.03-0/blib/lib/HTML/FormFu/MultiForm.pm line 533.
t/multiform-no-combine/3_submit_page_2.t ..... ok
WARNING: The key derivation method "opensslv1" is deprecated. Using -pbkdf=>'pbkdf2' would be better.
Pass -nodeprecate=>1 to inhibit this message.
 at /Users/cpantesting/cpantesting/perl-5.36.1/.cpan/build/HTML-FormFu-MultiForm-1.03-0/blib/lib/HTML/FormFu/MultiForm.pm line 533.
WARNING: The key derivation method "opensslv1" is deprecated. Using -pbkdf=>'pbkdf2' would be better.
Pass -nodeprecate=>1 to inhibit this message.
 at /Users/cpantesting/cpantesting/perl-5.36.1/.cpan/build/HTML-FormFu-MultiForm-1.03-0/blib/lib/HTML/FormFu/MultiForm.pm line 533.
t/multiform-no-combine/4_complete_page_3.t ... ok
t/multiform/0_render_page_1.t ................ ok
t/multiform/1_submit_page_1.t ................ ok
WARNING: The key derivation method "opensslv1" is deprecated. Using -pbkdf=>'pbkdf2' would be better.
Pass -nodeprecate=>1 to inhibit this message.
 at /Users/cpantesting/cpantesting/perl-5.36.1/.cpan/build/HTML-FormFu-MultiForm-1.03-0/blib/lib/HTML/FormFu/MultiForm.pm line 533.
WARNING: The key derivation method "opensslv1" is deprecated. Using -pbkdf=>'pbkdf2' would be better.
Pass -nodeprecate=>1 to inhibit this message.
 at /Users/cpantesting/cpantesting/perl-5.36.1/.cpan/build/HTML-FormFu-MultiForm-1.03-0/blib/lib/HTML/FormFu/MultiForm.pm line 533.
t/multiform/2_render_page_2.t ................ ok
WARNING: The key derivation method "opensslv1" is deprecated. Using -pbkdf=>'pbkdf2' would be better.
Pass -nodeprecate=>1 to inhibit this message.
 at /Users/cpantesting/cpantesting/perl-5.36.1/.cpan/build/HTML-FormFu-MultiForm-1.03-0/blib/lib/HTML/FormFu/MultiForm.pm line 533.
WARNING: The key derivation method "opensslv1" is deprecated. Using -pbkdf=>'pbkdf2' would be better.
Pass -nodeprecate=>1 to inhibit this message.
 at /Users/cpantesting/cpantesting/perl-5.36.1/.cpan/build/HTML-FormFu-MultiForm-1.03-0/blib/lib/HTML/FormFu/MultiForm.pm line 533.
t/multiform/3_submit_page_2.t ................ ok
WARNING: The key derivation method "opensslv1" is deprecated. Using -pbkdf=>'pbkdf2' would be better.
Pass -nodeprecate=>1 to inhibit this message.
 at /Users/cpantesting/cpantesting/perl-5.36.1/.cpan/build/HTML-FormFu-MultiForm-1.03-0/blib/lib/HTML/FormFu/MultiForm.pm line 533.
WARNING: The key derivation method "opensslv1" is deprecated. Using -pbkdf=>'pbkdf2' would be better.
Pass -nodeprecate=>1 to inhibit this message.
 at /Users/cpantesting/cpantesting/perl-5.36.1/.cpan/build/HTML-FormFu-MultiForm-1.03-0/blib/lib/HTML/FormFu/MultiForm.pm line 533.
t/multiform/4_complete_page_3.t .............. ok
t/multiform_hidden_name/0_render_page_1.t .... ok
t/multiform_hidden_name/1_submit_page_1.t .... ok
WARNING: The key derivation method "opensslv1" is deprecated. Using -pbkdf=>'pbkdf2' would be better.
Pass -nodeprecate=>1 to inhibit this message.
 at /Users/cpantesting/cpantesting/perl-5.36.1/.cpan/build/HTML-FormFu-MultiForm-1.03-0/blib/lib/HTML/FormFu/MultiForm.pm line 533.
WARNING: The key derivation method "opensslv1" is deprecated. Using -pbkdf=>'pbkdf2' would be better.
Pass -nodeprecate=>1 to inhibit this message.
 at /Users/cpantesting/cpantesting/perl-5.36.1/.cpan/build/HTML-FormFu-MultiForm-1.03-0/blib/lib/HTML/FormFu/MultiForm.pm line 533.
t/multiform_hidden_name/2_render_page_2.t .... ok
WARNING: The key derivation method "opensslv1" is deprecated. Using -pbkdf=>'pbkdf2' would be better.
Pass -nodeprecate=>1 to inhibit this message.
 at /Users/cpantesting/cpantesting/perl-5.36.1/.cpan/build/HTML-FormFu-MultiForm-1.03-0/blib/lib/HTML/FormFu/MultiForm.pm line 533.
WARNING: The key derivation method "opensslv1" is deprecated. Using -pbkdf=>'pbkdf2' would be better.
Pass -nodeprecate=>1 to inhibit this message.
 at /Users/cpantesting/cpantesting/perl-5.36.1/.cpan/build/HTML-FormFu-MultiForm-1.03-0/blib/lib/HTML/FormFu/MultiForm.pm line 533.
t/multiform_hidden_name/3_submit_page_2.t .... ok
WARNING: The key derivation method "opensslv1" is deprecated. Using -pbkdf=>'pbkdf2' would be better.
Pass -nodeprecate=>1 to inhibit this message.
 at /Users/cpantesting/cpantesting/perl-5.36.1/.cpan/build/HTML-FormFu-MultiForm-1.03-0/blib/lib/HTML/FormFu/MultiForm.pm line 533.
WARNING: The key derivation method "opensslv1" is deprecated. Using -pbkdf=>'pbkdf2' would be better.
Pass -nodeprecate=>1 to inhibit this message.
 at /Users/cpantesting/cpantesting/perl-5.36.1/.cpan/build/HTML-FormFu-MultiForm-1.03-0/blib/lib/HTML/FormFu/MultiForm.pm line 533.
t/multiform_hidden_name/4_complete_page_3.t .. ok
All tests successful.
Files=24, Tests=111, 30 wallclock secs ( 0.11 usr  0.07 sys + 25.14 cusr  2.33 csys = 27.65 CPU)
Result: PASS

------------------------------
PREREQUISITES
------------------------------

Prerequisite modules loaded:

requires:

    Module                                       Need     Have    
    -------------------------------------------- -------- --------
    Carp                                         0        1.52    
    Clone                                        0        0.47    
    Crypt::CBC                                   0        3.04    
    Crypt::DES                                   0        2.07    
    HTML::FormFu                                 0        2.07    
    HTML::FormFu::Attribute                      0        2.07    
    HTML::FormFu::ObjectUtil                     0        2.07    
    HTML::FormFu::QueryType::CGI                 0        2.07    
    HTML::FormFu::Role::FormAndElementMethods    0        2.07    
    HTML::FormFu::Role::FormBlockAndFieldMethods 0        2.07    
    HTML::FormFu::Role::NestedHashUtils          0        2.07    
    HTML::FormFu::Role::Populate                 0        2.07    
    List::MoreUtils                              0        0.430   
    Moose                                        0        2.2207  
    MooseX::Attribute::Chained                   0        1.0.3   
    overload                                     0        1.35    
    Scalar::Util                                 0        1.62    
    Storable                                     0        3.26    
    strict                                       0        1.12    

build_requires:

    Module                                       Need     Have    
    -------------------------------------------- -------- --------
    Cwd                                          0        3.84    
    ExtUtils::MakeMaker                          0        7.70    
    Fatal                                        0        2.34    
    File::Spec                                   0        3.84    
    Test::More                                   0.92     1.302204
    warnings                                     0        1.58    
    YAML::XS                                     0        v0.902.0

configure_requires:

    Module                                       Need     Have    
    -------------------------------------------- -------- --------
    ExtUtils::MakeMaker                          0        7.70    

opt_build_requires:

    Module                                       Need     Have    
    -------------------------------------------- -------- --------
    CPAN::Meta                                   2.120900 2.150010


------------------------------
ENVIRONMENT AND OTHER CONTEXT
------------------------------

Environment variables:

    AUTOMATED_TESTING = 1
    NONINTERACTIVE_TESTING = 1
    PATH = /Users/cpantesting/perl5/perlbrew/bin:/Users/cpantesting/perl5/perlbrew/perls/perl-5.32.0/bin:/usr/local/bin:/System/Cryptexes/App/usr/bin:/usr/bin:/bin:/usr/sbin:/sbin:/var/run/com.apple.security.cryptexd/codex.system/bootstrap/usr/local/bin:/var/run/com.apple.security.cryptexd/codex.system/bootstrap/usr/bin:/var/run/com.apple.security.cryptexd/codex.system/bootstrap/usr/appleinternal/bin:/Library/Apple/usr/bin:/usr/local/zfs/bin:/Users/cpantesting/.cargo/bin
    PERL = 5.36.1
    PERL5LIB = 
    PERL5OPT = 
    PERL5_CPANPLUS_IS_RUNNING = 27249
    PERL5_CPAN_IS_RUNNING = 27249
    PERLBREW_HOME = /Users/cpantesting/.perlbrew
    PERLBREW_MANPATH = /Users/cpantesting/perl5/perlbrew/perls/perl-5.32.0/man
    PERLBREW_PATH = /Users/cpantesting/perl5/perlbrew/bin:/Users/cpantesting/perl5/perlbrew/perls/perl-5.32.0/bin
    PERLBREW_PERL = perl-5.32.0
    PERLBREW_ROOT = /Users/cpantesting/perl5/perlbrew
    PERLBREW_SHELLRC_VERSION = 0.94
    PERLBREW_VERSION = 0.94
    PERLVER = 5.36.1
    PERL_INLINE_DIRECTORY = /Users/cpantesting/.Inline-5.36.1
    PERL_MM_USE_DEFAULT = 1
    PERL_USE_UNSAFE_INC = 0
    SHELL = /bin/bash
    TERM = screen

Perl special variables (and OS-specific diagnostics, for MSWin32):

    $^X = /Users/cpantesting/cpantesting/perl-5.36.1/bin/perl
    $UID/$EUID = 503 / 503
    $GID = 20 20 12 61 703 702 701 100
    $EGID = 20 20 12 61 703 702 701 100

Perl module toolchain versions installed:

    Module              Have    
    ------------------- --------
    CPAN                2.33    
    CPAN::Meta          2.150010
    Cwd                 3.84    
    ExtUtils::CBuilder  0.280236
    ExtUtils::Command   7.70    
    ExtUtils::Install   2.20    
    ExtUtils::MakeMaker 7.70    
    ExtUtils::Manifest  1.73    
    ExtUtils::ParseXS   3.45    
    File::Spec          3.84    
    JSON                4.10    
    JSON::PP            4.07    
    Module::Build       0.4234  
    Module::Signature   n/a     
    Parse::CPAN::Meta   2.150010
    Test2               1.302204
    Test::Harness       3.44    
    Test::More          1.302204
    YAML                1.31    
    YAML::Syck          1.34    
    version             0.9929  


--

Summary of my perl5 (revision 5 version 36 subversion 1) configuration:
   
  Platform:
    osname=darwin
    osvers=21.6.0
    archname=darwin-2level
    uname='darwin harrow.local 21.6.0 darwin kernel version 21.6.0: mon aug 22 20:17:10 pdt 2022; root:xnu-8020.140.49~2release_x86_64 x86_64 '
    config_args='-de -Dprefix=/Users/cpantesting/cpantesting/perl-5.36.1'
    hint=recommended
    useposix=true
    d_sigaction=define
    useithreads=undef
    usemultiplicity=undef
    use64bitint=define
    use64bitall=define
    uselongdouble=undef
    usemymalloc=n
    default_inc_excludes_dot=define
  Compiler:
    cc='cc'
    ccflags ='-fno-common -DPERL_DARWIN -mmacosx-version-min=12.6 -fno-strict-aliasing -pipe -fstack-protector-strong -I/usr/local/include -DPERL_USE_SAFE_PUTENV'
    optimize='-O3'
    cppflags='-fno-common -DPERL_DARWIN -mmacosx-version-min=12.6 -fno-strict-aliasing -pipe -fstack-protector-strong -I/usr/local/include'
    ccversion=''
    gccversion='Apple LLVM 14.0.0 (clang-1400.0.29.202)'
    gccosandvers=''
    intsize=4
    longsize=8
    ptrsize=8
    doublesize=8
    byteorder=12345678
    doublekind=3
    d_longlong=define
    longlongsize=8
    d_longdbl=define
    longdblsize=16
    longdblkind=3
    ivtype='long'
    ivsize=8
    nvtype='double'
    nvsize=8
    Off_t='off_t'
    lseeksize=8
    alignbytes=8
    prototype=define
  Linker and Libraries:
    ld='cc'
    ldflags =' -mmacosx-version-min=12.6 -fstack-protector-strong -L/usr/local/lib'
    libpth=/usr/local/lib /Applications/Xcode.app/Contents/Developer/Toolchains/XcodeDefault.xctoolchain/usr/lib/clang/14.0.0/lib /Applications/Xcode.app/Contents/Developer/Platforms/MacOSX.platform/Developer/SDKs/MacOSX.sdk/usr/lib /Applications/Xcode.app/Contents/Developer/Toolchains/XcodeDefault.xctoolchain/usr/lib /usr/lib
    libs=-lgdbm
    perllibs=
    libc=
    so=dylib
    useshrplib=false
    libperl=libperl.a
    gnulibc_version=''
  Dynamic Linking:
    dlsrc=dl_dlopen.xs
    dlext=bundle
    d_dlsymun=undef
    ccdlflags=' '
    cccdlflags=' '
    lddlflags=' -mmacosx-version-min=12.6 -bundle -undefined dynamic_lookup -L/usr/local/lib -fstack-protector-strong'


Characteristics of this binary (from libperl): 
  Compile-time options:
    HAS_TIMES
    PERLIO_LAYERS
    PERL_COPY_ON_WRITE
    PERL_DONT_CREATE_GVSV
    PERL_MALLOC_WRAP
    PERL_OP_PARENT
    PERL_PRESERVE_IVUV
    PERL_USE_SAFE_PUTENV
    USE_64_BIT_ALL
    USE_64_BIT_INT
    USE_LARGE_FILES
    USE_LOCALE
    USE_LOCALE_COLLATE
    USE_LOCALE_CTYPE
    USE_LOCALE_NUMERIC
    USE_LOCALE_TIME
    USE_PERLIO
    USE_PERL_ATOF
  Built under darwin
  Compiled at Apr 23 2023 16:37:45
  %ENV:
    PERL="5.36.1"
    PERL5LIB=""
    PERL5OPT=""
    PERL5_CPANPLUS_IS_RUNNING="27249"
    PERL5_CPAN_IS_RUNNING="27249"
    PERLBREW_HOME="/Users/cpantesting/.perlbrew"
    PERLBREW_MANPATH="/Users/cpantesting/perl5/perlbrew/perls/perl-5.32.0/man"
    PERLBREW_PATH="/Users/cpantesting/perl5/perlbrew/bin:/Users/cpantesting/perl5/perlbrew/perls/perl-5.32.0/bin"
    PERLBREW_PERL="perl-5.32.0"
    PERLBREW_ROOT="/Users/cpantesting/perl5/perlbrew"
    PERLBREW_SHELLRC_VERSION="0.94"
    PERLBREW_VERSION="0.94"
    PERLVER="5.36.1"
    PERL_INLINE_DIRECTORY="/Users/cpantesting/.Inline-5.36.1"
    PERL_MM_USE_DEFAULT="1"
    PERL_USE_UNSAFE_INC="0"
  @INC:
    /Users/cpantesting/cpantesting/perl-5.36.1/lib/site_perl/5.36.1/darwin-2level
    /Users/cpantesting/cpantesting/perl-5.36.1/lib/site_perl/5.36.1
    /Users/cpantesting/cpantesting/perl-5.36.1/lib/5.36.1/darwin-2level
    /Users/cpantesting/cpantesting/perl-5.36.1/lib/5.36.1