MooseX-amine v0.7 Perl 5 v5.35.0 x86_64-linux
- Status
- Pass
- From
- John SJ Anderson
- Dist
-
MooseX-amine v0.7
- Platform
- Perl 5 v5.35.0 x86_64-linux
- Date
- 2021-05-24 16:29:43
- ID
- 3e9dd11e-bcad-11eb-bc6f-5cf3c73a7ffe
This distribution has been tested as part of the CPAN Testers
project, supporting the Perl programming language. See
http://wiki.cpantesters.org/ for more information or email
questions to cpan-testers-discuss@perl.org
--
Dear GENEHACK,
This is a computer-generated report for MooseX-amine-0.7
on perl 5.35.0, created by App::cpanminus::reporter 0.17 (1.7044).
Thank you for uploading your work to CPAN. Congratulations!
All tests were successful.
Sections of this report:
* Tester comments
* Program output
* Prerequisites
* Environment and other context
------------------------------
TESTER COMMENTS
------------------------------
Additional comments from tester:
none provided
------------------------------
PROGRAM OUTPUT
------------------------------
Output from '':
Building and testing MooseX-amine-0.7
cp share/public/css/sh_bright.css blib/lib/auto/share/dist/MooseX-amine/public/css/sh_bright.css
cp share/public/css/sh_desert.min.css blib/lib/auto/share/dist/MooseX-amine/public/css/sh_desert.min.css
cp share/public/css/sh_dull.min.css blib/lib/auto/share/dist/MooseX-amine/public/css/sh_dull.min.css
cp share/public/css/sh_easter.min.css blib/lib/auto/share/dist/MooseX-amine/public/css/sh_easter.min.css
cp share/public/css/sh_berries-light.min.css blib/lib/auto/share/dist/MooseX-amine/public/css/sh_berries-light.min.css
cp share/public/css/sh_emacs.css blib/lib/auto/share/dist/MooseX-amine/public/css/sh_emacs.css
cp share/public/css/sh_acid.css blib/lib/auto/share/dist/MooseX-amine/public/css/sh_acid.css
cp share/public/css/sh_bright.min.css blib/lib/auto/share/dist/MooseX-amine/public/css/sh_bright.min.css
cp share/public/css/sh_darkblue.min.css blib/lib/auto/share/dist/MooseX-amine/public/css/sh_darkblue.min.css
cp share/public/css/sh_easter.css blib/lib/auto/share/dist/MooseX-amine/public/css/sh_easter.css
cp share/public/css/sh_dull.css blib/lib/auto/share/dist/MooseX-amine/public/css/sh_dull.css
cp share/public/css/sh_blacknblue.css blib/lib/auto/share/dist/MooseX-amine/public/css/sh_blacknblue.css
cp share/public/css/sh_contrast.css blib/lib/auto/share/dist/MooseX-amine/public/css/sh_contrast.css
cp share/public/css/sh_berries-dark.css blib/lib/auto/share/dist/MooseX-amine/public/css/sh_berries-dark.css
cp share/public/css/sh_berries-dark.min.css blib/lib/auto/share/dist/MooseX-amine/public/css/sh_berries-dark.min.css
cp share/public/css/sh_berries-light.css blib/lib/auto/share/dist/MooseX-amine/public/css/sh_berries-light.css
cp share/public/css/sh_darkness.css blib/lib/auto/share/dist/MooseX-amine/public/css/sh_darkness.css
cp share/public/css/sh_acid.min.css blib/lib/auto/share/dist/MooseX-amine/public/css/sh_acid.min.css
cp share/public/css/sh_contrast.min.css blib/lib/auto/share/dist/MooseX-amine/public/css/sh_contrast.min.css
cp share/public/css/sh_blacknblue.min.css blib/lib/auto/share/dist/MooseX-amine/public/css/sh_blacknblue.min.css
cp share/public/css/sh_darkness.min.css blib/lib/auto/share/dist/MooseX-amine/public/css/sh_darkness.min.css
cp share/public/css/sh_bipolar.min.css blib/lib/auto/share/dist/MooseX-amine/public/css/sh_bipolar.min.css
cp share/public/css/sh_bipolar.css blib/lib/auto/share/dist/MooseX-amine/public/css/sh_bipolar.css
cp share/public/css/sh_desert.css blib/lib/auto/share/dist/MooseX-amine/public/css/sh_desert.css
cp share/public/css/sh_darkblue.css blib/lib/auto/share/dist/MooseX-amine/public/css/sh_darkblue.css
cp share/public/css/sh_ide-anjuta.min.css blib/lib/auto/share/dist/MooseX-amine/public/css/sh_ide-anjuta.min.css
cp share/public/css/sh_kwrite.min.css blib/lib/auto/share/dist/MooseX-amine/public/css/sh_kwrite.min.css
cp share/public/css/sh_ide-codewarrior.min.css blib/lib/auto/share/dist/MooseX-amine/public/css/sh_ide-codewarrior.min.css
cp share/public/css/sh_ide-msvcpp.css blib/lib/auto/share/dist/MooseX-amine/public/css/sh_ide-msvcpp.css
cp share/public/css/sh_ide-devcpp.min.css blib/lib/auto/share/dist/MooseX-amine/public/css/sh_ide-devcpp.min.css
cp share/public/css/sh_ide-devcpp.css blib/lib/auto/share/dist/MooseX-amine/public/css/sh_ide-devcpp.css
cp share/public/css/sh_ide-msvcpp.min.css blib/lib/auto/share/dist/MooseX-amine/public/css/sh_ide-msvcpp.min.css
cp share/public/css/sh_nedit.css blib/lib/auto/share/dist/MooseX-amine/public/css/sh_nedit.css
cp share/public/css/sh_ide-kdev.min.css blib/lib/auto/share/dist/MooseX-amine/public/css/sh_ide-kdev.min.css
cp share/public/css/sh_emacs.min.css blib/lib/auto/share/dist/MooseX-amine/public/css/sh_emacs.min.css
cp share/public/css/sh_navy.css blib/lib/auto/share/dist/MooseX-amine/public/css/sh_navy.css
cp share/public/css/sh_golden.css blib/lib/auto/share/dist/MooseX-amine/public/css/sh_golden.css
cp share/public/css/sh_ide-anjuta.css blib/lib/auto/share/dist/MooseX-amine/public/css/sh_ide-anjuta.css
cp share/public/css/sh_navy.min.css blib/lib/auto/share/dist/MooseX-amine/public/css/sh_navy.min.css
cp share/public/css/sh_matlab.min.css blib/lib/auto/share/dist/MooseX-amine/public/css/sh_matlab.min.css
cp share/public/css/sh_ide-eclipse.min.css blib/lib/auto/share/dist/MooseX-amine/public/css/sh_ide-eclipse.min.css
cp share/public/css/sh_matlab.css blib/lib/auto/share/dist/MooseX-amine/public/css/sh_matlab.css
cp share/public/css/sh_greenlcd.min.css blib/lib/auto/share/dist/MooseX-amine/public/css/sh_greenlcd.min.css
cp share/public/css/sh_greenlcd.css blib/lib/auto/share/dist/MooseX-amine/public/css/sh_greenlcd.css
cp share/public/css/sh_ide-codewarrior.css blib/lib/auto/share/dist/MooseX-amine/public/css/sh_ide-codewarrior.css
cp share/public/css/sh_kwrite.css blib/lib/auto/share/dist/MooseX-amine/public/css/sh_kwrite.css
cp share/public/css/sh_ide-eclipse.css blib/lib/auto/share/dist/MooseX-amine/public/css/sh_ide-eclipse.css
cp share/public/css/sh_ide-kdev.css blib/lib/auto/share/dist/MooseX-amine/public/css/sh_ide-kdev.css
cp share/public/css/sh_golden.min.css blib/lib/auto/share/dist/MooseX-amine/public/css/sh_golden.min.css
cp share/public/css/sh_vampire.css blib/lib/auto/share/dist/MooseX-amine/public/css/sh_vampire.css
cp share/public/css/sh_vim-dark.css blib/lib/auto/share/dist/MooseX-amine/public/css/sh_vim-dark.css
cp share/public/css/sh_whatis.css blib/lib/auto/share/dist/MooseX-amine/public/css/sh_whatis.css
cp share/public/css/sh_print.min.css blib/lib/auto/share/dist/MooseX-amine/public/css/sh_print.min.css
cp share/public/css/sh_whatis.min.css blib/lib/auto/share/dist/MooseX-amine/public/css/sh_whatis.min.css
cp share/public/css/sh_nedit.min.css blib/lib/auto/share/dist/MooseX-amine/public/css/sh_nedit.min.css
cp share/public/css/sh_print.css blib/lib/auto/share/dist/MooseX-amine/public/css/sh_print.css
cp share/public/css/sh_vampire.min.css blib/lib/auto/share/dist/MooseX-amine/public/css/sh_vampire.min.css
cp share/public/css/sh_night.min.css blib/lib/auto/share/dist/MooseX-amine/public/css/sh_night.min.css
cp share/public/css/sh_pablo.css blib/lib/auto/share/dist/MooseX-amine/public/css/sh_pablo.css
cp share/public/css/sh_typical.min.css blib/lib/auto/share/dist/MooseX-amine/public/css/sh_typical.min.css
cp share/public/css/sh_the.min.css blib/lib/auto/share/dist/MooseX-amine/public/css/sh_the.min.css
cp share/public/css/sh_vim.css blib/lib/auto/share/dist/MooseX-amine/public/css/sh_vim.css
cp share/public/css/sh_the.css blib/lib/auto/share/dist/MooseX-amine/public/css/sh_the.css
cp share/public/css/sh_peachpuff.css blib/lib/auto/share/dist/MooseX-amine/public/css/sh_peachpuff.css
cp share/public/css/sh_night.css blib/lib/auto/share/dist/MooseX-amine/public/css/sh_night.css
cp share/public/css/sh_peachpuff.min.css blib/lib/auto/share/dist/MooseX-amine/public/css/sh_peachpuff.min.css
cp share/public/css/sh_pablo.min.css blib/lib/auto/share/dist/MooseX-amine/public/css/sh_pablo.min.css
cp share/public/css/sh_vim-dark.min.css blib/lib/auto/share/dist/MooseX-amine/public/css/sh_vim-dark.min.css
cp share/public/css/sh_rand01.css blib/lib/auto/share/dist/MooseX-amine/public/css/sh_rand01.css
cp share/public/css/sh_vim.min.css blib/lib/auto/share/dist/MooseX-amine/public/css/sh_vim.min.css
cp share/public/css/sh_rand01.min.css blib/lib/auto/share/dist/MooseX-amine/public/css/sh_rand01.min.css
cp share/public/css/sh_typical.css blib/lib/auto/share/dist/MooseX-amine/public/css/sh_typical.css
cp share/public/css/sh_neon.min.css blib/lib/auto/share/dist/MooseX-amine/public/css/sh_neon.min.css
cp share/public/css/sh_neon.css blib/lib/auto/share/dist/MooseX-amine/public/css/sh_neon.css
cp share/views/layouts/main.tt blib/lib/auto/share/dist/MooseX-amine/views/layouts/main.tt
cp share/public/css/sh_whitengrey.min.css blib/lib/auto/share/dist/MooseX-amine/public/css/sh_whitengrey.min.css
cp share/views/list.tt blib/lib/auto/share/dist/MooseX-amine/views/list.tt
cp share/views/index.tt blib/lib/auto/share/dist/MooseX-amine/views/index.tt
cp share/public/css/sh_zellner.min.css blib/lib/auto/share/dist/MooseX-amine/public/css/sh_zellner.min.css
cp share/public/css/sh_whitengrey.css blib/lib/auto/share/dist/MooseX-amine/public/css/sh_whitengrey.css
cp share/public/js/jquery.styleswitch.js blib/lib/auto/share/dist/MooseX-amine/public/js/jquery.styleswitch.js
cp share/public/js/sh_perl.min.js blib/lib/auto/share/dist/MooseX-amine/public/js/sh_perl.min.js
cp share/public/css/sh_zellner.css blib/lib/auto/share/dist/MooseX-amine/public/css/sh_zellner.css
cp share/public/js/sh_main.min.js blib/lib/auto/share/dist/MooseX-amine/public/js/sh_main.min.js
cp share/views/show.tt blib/lib/auto/share/dist/MooseX-amine/views/show.tt
cp share/public/js/jquery.cookie.js blib/lib/auto/share/dist/MooseX-amine/public/js/jquery.cookie.js
cp lib/MooseX/amine.pm blib/lib/MooseX/amine.pm
cp bin/list_methods_for_native_trait blib/script/list_methods_for_native_trait
"/opt/plenv/versions/5.35.0/bin/perl5.35.0" -MExtUtils::MY -e 'MY->fixin(shift)' -- blib/script/list_methods_for_native_trait
cp bin/mex blib/script/mex
"/opt/plenv/versions/5.35.0/bin/perl5.35.0" -MExtUtils::MY -e 'MY->fixin(shift)' -- blib/script/mex
cp bin/mexi blib/script/mexi
"/opt/plenv/versions/5.35.0/bin/perl5.35.0" -MExtUtils::MY -e 'MY->fixin(shift)' -- blib/script/mexi
Manifying 3 pod documents
Manifying 1 pod document
Skip blib/lib/auto/share/dist/MooseX-amine/public/css/sh_darkness.min.css (unchanged)
Skip blib/lib/auto/share/dist/MooseX-amine/public/css/sh_berries-light.min.css (unchanged)
Skip blib/lib/auto/share/dist/MooseX-amine/public/css/sh_berries-dark.css (unchanged)
Skip blib/lib/auto/share/dist/MooseX-amine/public/css/sh_contrast.min.css (unchanged)
Skip blib/lib/auto/share/dist/MooseX-amine/public/css/sh_dull.min.css (unchanged)
Skip blib/lib/auto/share/dist/MooseX-amine/public/css/sh_contrast.css (unchanged)
Skip blib/lib/auto/share/dist/MooseX-amine/public/css/sh_darkness.css (unchanged)
Skip blib/lib/auto/share/dist/MooseX-amine/public/css/sh_berries-light.css (unchanged)
Skip blib/lib/auto/share/dist/MooseX-amine/public/css/sh_bright.css (unchanged)
Skip blib/lib/auto/share/dist/MooseX-amine/public/css/sh_easter.css (unchanged)
Skip blib/lib/auto/share/dist/MooseX-amine/public/css/sh_acid.css (unchanged)
Skip blib/lib/auto/share/dist/MooseX-amine/public/css/sh_berries-dark.min.css (unchanged)
Skip blib/lib/auto/share/dist/MooseX-amine/public/css/sh_blacknblue.css (unchanged)
Skip blib/lib/auto/share/dist/MooseX-amine/public/css/sh_blacknblue.min.css (unchanged)
Skip blib/lib/auto/share/dist/MooseX-amine/public/css/sh_acid.min.css (unchanged)
Skip blib/lib/auto/share/dist/MooseX-amine/public/css/sh_bright.min.css (unchanged)
Skip blib/lib/auto/share/dist/MooseX-amine/public/css/sh_desert.min.css (unchanged)
Skip blib/lib/auto/share/dist/MooseX-amine/public/css/sh_darkblue.min.css (unchanged)
Skip blib/lib/auto/share/dist/MooseX-amine/public/css/sh_bipolar.min.css (unchanged)
Skip blib/lib/auto/share/dist/MooseX-amine/public/css/sh_easter.min.css (unchanged)
Skip blib/lib/auto/share/dist/MooseX-amine/public/css/sh_dull.css (unchanged)
Skip blib/lib/auto/share/dist/MooseX-amine/public/css/sh_desert.css (unchanged)
Skip blib/lib/auto/share/dist/MooseX-amine/public/css/sh_bipolar.css (unchanged)
Skip blib/lib/auto/share/dist/MooseX-amine/public/css/sh_emacs.css (unchanged)
Skip blib/lib/auto/share/dist/MooseX-amine/public/css/sh_darkblue.css (unchanged)
Skip blib/lib/auto/share/dist/MooseX-amine/public/css/sh_ide-codewarrior.min.css (unchanged)
Skip blib/lib/auto/share/dist/MooseX-amine/public/css/sh_ide-devcpp.css (unchanged)
Skip blib/lib/auto/share/dist/MooseX-amine/public/css/sh_navy.min.css (unchanged)
Skip blib/lib/auto/share/dist/MooseX-amine/public/css/sh_ide-codewarrior.css (unchanged)
Skip blib/lib/auto/share/dist/MooseX-amine/public/css/sh_ide-devcpp.min.css (unchanged)
Skip blib/lib/auto/share/dist/MooseX-amine/public/css/sh_ide-msvcpp.css (unchanged)
Skip blib/lib/auto/share/dist/MooseX-amine/public/css/sh_kwrite.min.css (unchanged)
Skip blib/lib/auto/share/dist/MooseX-amine/public/css/sh_ide-eclipse.min.css (unchanged)
Skip blib/lib/auto/share/dist/MooseX-amine/public/css/sh_golden.min.css (unchanged)
Skip blib/lib/auto/share/dist/MooseX-amine/public/css/sh_matlab.css (unchanged)
Skip blib/lib/auto/share/dist/MooseX-amine/public/css/sh_ide-kdev.min.css (unchanged)
Skip blib/lib/auto/share/dist/MooseX-amine/public/css/sh_nedit.css (unchanged)
Skip blib/lib/auto/share/dist/MooseX-amine/public/css/sh_matlab.min.css (unchanged)
Skip blib/lib/auto/share/dist/MooseX-amine/public/css/sh_greenlcd.min.css (unchanged)
Skip blib/lib/auto/share/dist/MooseX-amine/public/css/sh_navy.css (unchanged)
Skip blib/lib/auto/share/dist/MooseX-amine/public/css/sh_ide-kdev.css (unchanged)
Skip blib/lib/auto/share/dist/MooseX-amine/public/css/sh_kwrite.css (unchanged)
Skip blib/lib/auto/share/dist/MooseX-amine/public/css/sh_emacs.min.css (unchanged)
Skip blib/lib/auto/share/dist/MooseX-amine/public/css/sh_golden.css (unchanged)
Skip blib/lib/auto/share/dist/MooseX-amine/public/css/sh_ide-anjuta.css (unchanged)
Skip blib/lib/auto/share/dist/MooseX-amine/public/css/sh_ide-eclipse.css (unchanged)
Skip blib/lib/auto/share/dist/MooseX-amine/public/css/sh_greenlcd.css (unchanged)
Skip blib/lib/auto/share/dist/MooseX-amine/public/css/sh_ide-msvcpp.min.css (unchanged)
Skip blib/lib/auto/share/dist/MooseX-amine/public/css/sh_ide-anjuta.min.css (unchanged)
Skip blib/lib/auto/share/dist/MooseX-amine/public/css/sh_nedit.min.css (unchanged)
Skip blib/lib/auto/share/dist/MooseX-amine/public/css/sh_whatis.css (unchanged)
Skip blib/lib/auto/share/dist/MooseX-amine/public/css/sh_neon.css (unchanged)
Skip blib/lib/auto/share/dist/MooseX-amine/public/css/sh_night.css (unchanged)
Skip blib/lib/auto/share/dist/MooseX-amine/public/css/sh_night.min.css (unchanged)
Skip blib/lib/auto/share/dist/MooseX-amine/public/css/sh_rand01.css (unchanged)
Skip blib/lib/auto/share/dist/MooseX-amine/public/css/sh_whatis.min.css (unchanged)
Skip blib/lib/auto/share/dist/MooseX-amine/public/css/sh_peachpuff.css (unchanged)
Skip blib/lib/auto/share/dist/MooseX-amine/public/css/sh_vampire.css (unchanged)
Skip blib/lib/auto/share/dist/MooseX-amine/public/css/sh_vim-dark.css (unchanged)
Skip blib/lib/auto/share/dist/MooseX-amine/public/css/sh_pablo.css (unchanged)
Skip blib/lib/auto/share/dist/MooseX-amine/public/css/sh_rand01.min.css (unchanged)
Skip blib/lib/auto/share/dist/MooseX-amine/public/css/sh_typical.min.css (unchanged)
Skip blib/lib/auto/share/dist/MooseX-amine/public/css/sh_vim.min.css (unchanged)
Skip blib/lib/auto/share/dist/MooseX-amine/public/css/sh_peachpuff.min.css (unchanged)
Skip blib/lib/auto/share/dist/MooseX-amine/public/css/sh_vim-dark.min.css (unchanged)
Skip blib/lib/auto/share/dist/MooseX-amine/public/css/sh_typical.css (unchanged)
Skip blib/lib/auto/share/dist/MooseX-amine/public/css/sh_pablo.min.css (unchanged)
Skip blib/lib/auto/share/dist/MooseX-amine/public/css/sh_the.css (unchanged)
Skip blib/lib/auto/share/dist/MooseX-amine/public/css/sh_vampire.min.css (unchanged)
Skip blib/lib/auto/share/dist/MooseX-amine/public/css/sh_the.min.css (unchanged)
Skip blib/lib/auto/share/dist/MooseX-amine/public/css/sh_neon.min.css (unchanged)
Skip blib/lib/auto/share/dist/MooseX-amine/public/css/sh_vim.css (unchanged)
Skip blib/lib/auto/share/dist/MooseX-amine/public/css/sh_print.css (unchanged)
Skip blib/lib/auto/share/dist/MooseX-amine/public/css/sh_print.min.css (unchanged)
Skip blib/lib/auto/share/dist/MooseX-amine/public/js/jquery.styleswitch.js (unchanged)
Skip blib/lib/auto/share/dist/MooseX-amine/public/js/sh_main.min.js (unchanged)
Skip blib/lib/auto/share/dist/MooseX-amine/public/css/sh_whitengrey.min.css (unchanged)
Skip blib/lib/auto/share/dist/MooseX-amine/public/css/sh_zellner.min.css (unchanged)
Skip blib/lib/auto/share/dist/MooseX-amine/views/index.tt (unchanged)
Skip blib/lib/auto/share/dist/MooseX-amine/public/js/jquery.cookie.js (unchanged)
Skip blib/lib/auto/share/dist/MooseX-amine/public/css/sh_whitengrey.css (unchanged)
Skip blib/lib/auto/share/dist/MooseX-amine/public/js/sh_perl.min.js (unchanged)
Skip blib/lib/auto/share/dist/MooseX-amine/views/list.tt (unchanged)
Skip blib/lib/auto/share/dist/MooseX-amine/views/layouts/main.tt (unchanged)
Skip blib/lib/auto/share/dist/MooseX-amine/public/css/sh_zellner.css (unchanged)
Skip blib/lib/auto/share/dist/MooseX-amine/views/show.tt (unchanged)
PERL_DL_NONLAZY=1 "/opt/plenv/versions/5.35.0/bin/perl5.35.0" "-MExtUtils::Command::MM" "-MTest::Harness" "-e" "undef *Test::Harness::Switches; test_harness(0, 'blib/lib', 'blib/arch')" t/*.t
t/01-basic-object.t ............................. ok
t/02-basic-role.t ............................... ok
t/03-basic-object-with-role.t ................... ok
t/04-basic-object-overriding-role.t ............. ok
t/05-basic-object-include-all.t ................. ok
t/06-basic-object-by-path.t ..................... ok
t/11-inherit-object.t ........................... ok
t/12-inherit-object-with-role.t ................. ok
t/13-inherit-object-with-base-role.t ............ ok
t/14-inherit-object-with-role-with-base-role.t .. ok
t/15-inherit-object-base-common-role.t .......... ok
t/21-override-object.t .......................... ok
t/22-override-role.t ............................ ok
t/31-trap-fatals.t .............................. ok
t/author-pod-coverage.t ......................... skipped: these tests are for testing by the author
t/author-pod-syntax.t ........................... skipped: these tests are for testing by the author
All tests successful.
Files=16, Tests=36, 6 wallclock secs ( 0.05 usr 0.02 sys + 5.11 cusr 0.43 csys = 5.61 CPU)
Result: PASS
------------------------------
PREREQUISITES
------------------------------
Prerequisite modules loaded:
No requirements found
------------------------------
ENVIRONMENT AND OTHER CONTEXT
------------------------------
Environment variables:
LANG = en_US.UTF-8
LC_ALL = en_US.UTF-8
LC_TERMINAL = iTerm2
LC_TERMINAL_VERSION = 3.4.4
PATH = /opt/plenv/versions/5.35.0/bin:/opt/plenv/libexec:/opt/plenv/plugins/perl-build/bin:/opt/plenv/shims:/opt/plenv/shims:/opt/plenv/bin:/home/genehack/bin:/opt/nvm/versions/node/v12.16.3/bin:/opt/go/bin:/opt/git/bin:/opt/emacs/bin:/opt/local/bin:/usr/local/bin:/usr/bin:/bin:/usr/games
PERL_CPANM_OPT = --skip-installed --prompt
SHELL = /bin/zsh
TERM = screen-256color
Perl special variables (and OS-specific diagnostics, for MSWin32):
EGID = 1001 1001
EUID = 1001
EXECUTABLE_NAME = /opt/plenv/versions/5.35.0/bin/perl5.35.0
GID = 1001 1001
UID = 1001
Perl module toolchain versions installed:
Module Have
------------------- --------
CPAN 2.28
CPAN::Meta 2.150010
Cwd 3.80
ExtUtils::CBuilder 0.280236
ExtUtils::Command 7.62
ExtUtils::Install 2.20
ExtUtils::MakeMaker 7.62
ExtUtils::Manifest 1.73
ExtUtils::ParseXS 3.43
File::Spec 3.80
JSON 4.03
JSON::PP 4.06
Module::Build 0.4231
Module::Signature n/a
Parse::CPAN::Meta 2.150010
Test::Harness 3.43
Test::More 1.302183
YAML 1.30
YAML::Syck n/a
version 0.9928
--
Summary of my perl5 (revision 5 version 35 subversion 0) configuration:
Platform:
osname=linux
osvers=4.19.0-14-amd64
archname=x86_64-linux
uname='linux doof 4.19.0-14-amd64 #1 smp debian 4.19.171-2 (2021-01-30) x86_64 gnulinux '
config_args='-Dprefix=/opt/plenv/versions/5.35.0 -de -Dversiononly -Dusedevel -A'eval:scriptdir=/opt/plenv/versions/5.35.0/bin''
hint=recommended
useposix=true
d_sigaction=define
useithreads=undef
usemultiplicity=undef
use64bitint=define
use64bitall=define
uselongdouble=undef
usemymalloc=n
default_inc_excludes_dot=define
Compiler:
cc='cc'
ccflags ='-fwrapv -fno-strict-aliasing -pipe -fstack-protector-strong -I/usr/local/include -D_LARGEFILE_SOURCE -D_FILE_OFFSET_BITS=64 -D_FORTIFY_SOURCE=2'
optimize='-O2'
cppflags='-fwrapv -fno-strict-aliasing -pipe -fstack-protector-strong -I/usr/local/include'
ccversion=''
gccversion='8.3.0'
gccosandvers=''
intsize=4
longsize=8
ptrsize=8
doublesize=8
byteorder=12345678
doublekind=3
d_longlong=define
longlongsize=8
d_longdbl=define
longdblsize=16
longdblkind=3
ivtype='long'
ivsize=8
nvtype='double'
nvsize=8
Off_t='off_t'
lseeksize=8
alignbytes=8
prototype=define
Linker and Libraries:
ld='cc'
ldflags =' -fstack-protector-strong -L/usr/local/lib'
libpth=/usr/local/lib /usr/lib/x86_64-linux-gnu /usr/lib /usr/lib64
libs=-lpthread -lnsl -ldl -lm -lcrypt -lutil -lc
perllibs=-lpthread -lnsl -ldl -lm -lcrypt -lutil -lc
libc=libc-2.28.so
so=so
useshrplib=false
libperl=libperl.a
gnulibc_version='2.28'
Dynamic Linking:
dlsrc=dl_dlopen.xs
dlext=so
d_dlsymun=undef
ccdlflags='-Wl,-E'
cccdlflags='-fPIC'
lddlflags='-shared -O2 -L/usr/local/lib -fstack-protector-strong'
Characteristics of this binary (from libperl):
Compile-time options:
HAS_TIMES
PERLIO_LAYERS
PERL_COPY_ON_WRITE
PERL_DONT_CREATE_GVSV
PERL_MALLOC_WRAP
PERL_OP_PARENT
PERL_PRESERVE_IVUV
PERL_USE_DEVEL
USE_64_BIT_ALL
USE_64_BIT_INT
USE_LARGE_FILES
USE_LOCALE
USE_LOCALE_COLLATE
USE_LOCALE_CTYPE
USE_LOCALE_NUMERIC
USE_LOCALE_TIME
USE_PERLIO
USE_PERL_ATOF
Built under linux
Compiled at May 24 2021 07:54:49
%ENV:
PERL_CPANM_OPT="--skip-installed --prompt"
@INC:
/opt/plenv/versions/5.35.0/lib/perl5/site_perl/5.35.0/x86_64-linux
/opt/plenv/versions/5.35.0/lib/perl5/site_perl/5.35.0
/opt/plenv/versions/5.35.0/lib/perl5/5.35.0/x86_64-linux
/opt/plenv/versions/5.35.0/lib/perl5/5.35.0