Back
From: metabase:user:20a45eae-6c1a-1014-abaf-4bc2b30e56df
Subject: PASS PadWalker-1.98 v5.14.1 Windows (Cygwin)
Date: 2014-01-31T23:09:07Z
This distribution has been tested as part of the CPAN Testers
project, supporting the Perl programming language. See
http://wiki.cpantesters.org/ for more information or email
questions to cpan-testers-discuss@perl.org
--
Dear Robin Houston,
This is a computer-generated report for PadWalker-1.98
on perl 5.14.1, created by CPAN-Reporter-1.2010.
Thank you for uploading your work to CPAN. Congratulations!
All tests were successful.
Sections of this report:
* Tester comments
* Program output
* Prerequisites
* Environment and other context
------------------------------
TESTER COMMENTS
------------------------------
Additional comments from tester:
this report is from an automated smoke testing program
and was not reviewed by a human for accuracy
------------------------------
PROGRAM OUTPUT
------------------------------
Output from '/usr/bin/make test':
Running Mkbootstrap for PadWalker ()
chmod 644 PadWalker.bs
PERL_DL_NONLAZY=1 /cygdrive/e/opt/perl5/cygwin_nt-6.1-wow64/1.7.26/i686/perl/5.14.1/cygwin-64int/bin/perl.exe "-MExtUtils::Command::MM" "-MTest::Harness" "-e" "undef *Test::Harness::Switches; test_harness(0, 'blib/lib', 'blib/arch')" t/*.t
t/closure.t ... ok
t/dm.t ........ ok
t/foo.t ....... ok
t/our.t ....... ok
t/recurse.t ... ok
t/sub.t ....... ok
t/test.t ...... ok
t/tt.t ........ ok
t/var_name.t .. ok
All tests successful.
Files=9, Tests=81, 1 wallclock secs ( 0.17 usr 0.12 sys + 0.43 cusr 0.84 csys = 1.56 CPU)
Result: PASS
------------------------------
PREREQUISITES
------------------------------
Prerequisite modules loaded:
requires:
Module Need Have
------------------- -------- --------
perl 5.008001 5.014001
build_requires:
Module Need Have
------------------- -------- --------
ExtUtils::MakeMaker 0 6.84
configure_requires:
Module Need Have
------------------- -------- --------
ExtUtils::MakeMaker 0 6.84
------------------------------
ENVIRONMENT AND OTHER CONTEXT
------------------------------
Environment variables:
AUTOMATED_TESTING = 1
COMSPEC = C:\Windows\system32\cmd.exe
NUMBER_OF_PROCESSORS = 8
PATH = /opt/perl5/cygwin_nt-6.1-wow64/1.7.26/i686/bin/5.14.1/cygwin-64int:/opt/perl5/cygwin_nt-6.1-wow64/1.7.26/i686/perl/5.14.1/cygwin-64int/local/bin:/opt/perl5/cygwin_nt-6.1-wow64/1.7.26/i686/perl/5.14.1/cygwin-64int/bin:/usr/local/bin:/usr/bin
PERL5LIB = /opt/perl5/cygwin_nt-6.1-wow64/1.7.26/i686/perl/5.14.1/cygwin-64int/local/lib/site_perl/5.14.1:/opt/perl5/cygwin_nt-6.1-wow64/1.7.26/i686/perl/5.14.1/cygwin-64int/local/lib/5.14.1:/opt/perl5/cygwin_nt-6.1-wow64/1.7.26/i686/perl/5.14.1/cygwin-64int/local/lib/perl5
PERL5OPT =
PERL5_CPANPLUS_IS_RUNNING = 11756
PERL5_CPAN_IS_RUNNING = 11756
PERL_CPAN_REPORTER_CONFIG = /cygdrive/e/peter/.cpanreporter/config-cygdrive-e-peter.ini
PERL_EXTUTILS_AUTOINSTALL = 1
PERL_MM_USE_DEFAULT = 1
PERL_MY_PREFIX = /opt/perl5
PERL_MY_SOURCE_DIR = /cygdrive/e/src/perl
PERL_TEST_CRITIC = 1
PROCESSOR_IDENTIFIER = Intel64 Family 6 Model 42 Stepping 7, GenuineIntel
SHELL = /usr/bin/bash
TEMP = /tmp
TERM = xterm
Perl special variables (and OS-specific diagnostics, for MSWin32):
$^X = /cygdrive/e/opt/perl5/cygwin_nt-6.1-wow64/1.7.26/i686/perl/5.14.1/cygwin-64int/bin/perl
$UID/$EUID = 1006 / 1006
$GID = 513 545 1003 513
$EGID = 513 545 1003 513
Perl module toolchain versions installed:
Module Have
------------------- --------
CPAN 1.9600
CPAN::Meta 2.120351
Cwd 3.40
ExtUtils::CBuilder 0.280212
ExtUtils::Command 1.17
ExtUtils::Install 1.56
ExtUtils::MakeMaker 6.84
ExtUtils::Manifest 1.60
ExtUtils::ParseXS 2.2210
File::Spec 3.40
JSON 2.90
JSON::PP 2.27203
Module::Build 0.4204
Module::Signature n/a
Parse::CPAN::Meta 1.4405
Test::Harness 3.23
Test::More 1.001002
YAML 0.88
YAML::Syck n/a
version 0.88
--
Summary of my perl5 (revision 5 version 14 subversion 1) configuration:
Platform:
osname=cygwin, osvers=1.7.26(0.27153), archname=cygwin-64int
uname='cygwin_nt-6.1-wow64 osl069 1.7.26(0.27153) 2013-11-29 11:25 i686 cygwin '
config_args='-de -Dmksymlinks -Dcc=gcc -Dld=g++ -Uinc_version_list -Uinstallusrbinperl -Uusethreads -Uusemultiplicity -Duse64bitint -Uuselongdouble -Dprefix=/opt/perl5/cygwin_nt-6.1-wow64/1.7.26/i686/perl/5.14.1/cygwin-64int'
hint=recommended, useposix=true, d_sigaction=define
useithreads=undef, usemultiplicity=undef
useperlio=define, d_sfio=undef, uselargefiles=define, usesocks=undef
use64bitint=define, use64bitall=undef, uselongdouble=undef
usemymalloc=y, bincompat5005=undef
Compiler:
cc='gcc', ccflags ='-DPERL_USE_SAFE_PUTENV -U__STRICT_ANSI__ -fno-strict-aliasing -pipe -fstack-protector',
optimize='-O3',
cppflags='-DPERL_USE_SAFE_PUTENV -U__STRICT_ANSI__ -fno-strict-aliasing -pipe -fstack-protector'
ccversion='', gccversion='4.8.2', gccosandvers=''
intsize=4, longsize=4, ptrsize=4, doublesize=8, byteorder=12345678
d_longlong=define, longlongsize=8, d_longdbl=define, longdblsize=12
ivtype='long long', ivsize=8, nvtype='double', nvsize=8, Off_t='off_t', lseeksize=8
alignbytes=8, prototype=define
Linker and Libraries:
ld='g++', ldflags =' -Wl,--enable-auto-import -Wl,--export-all-symbols -Wl,--enable-auto-image-base -fstack-protector -L/usr/local/lib'
libpth=/usr/local/lib /usr/lib /lib
libs=-lgdbm -ldb -ldl -lcrypt -lgdbm_compat
perllibs=-ldl -lcrypt
libc=/usr/lib/libc.a, so=dll, useshrplib=true, libperl=cygperl5_14_1.dll
gnulibc_version=''
Dynamic Linking:
dlsrc=dl_dlopen.xs, dlext=dll, d_dlsymun=undef, ccdlflags=' '
cccdlflags=' ', lddlflags=' --shared -Wl,--enable-auto-import -Wl,--export-all-symbols -Wl,--enable-auto-image-base -L/usr/local/lib -fstack-protector'
Characteristics of this binary (from libperl):
Compile-time options: MYMALLOC PERL_DONT_CREATE_GVSV PERL_PRESERVE_IVUV
PERL_USE_SAFE_PUTENV USE_64_BIT_INT USE_LARGE_FILES
USE_PERLIO USE_PERL_ATOF
Built under cygwin
Compiled at Dec 7 2013 20:53:25
%ENV:
PERL5LIB="/opt/perl5/cygwin_nt-6.1-wow64/1.7.26/i686/perl/5.14.1/cygwin-64int/local/lib/site_perl/5.14.1:/opt/perl5/cygwin_nt-6.1-wow64/1.7.26/i686/perl/5.14.1/cygwin-64int/local/lib/5.14.1:/opt/perl5/cygwin_nt-6.1-wow64/1.7.26/i686/perl/5.14.1/cygwin-64int/local/lib/perl5"
PERL5OPT=""
PERL5_CPANPLUS_IS_RUNNING="11756"
PERL5_CPAN_IS_RUNNING="11756"
PERL_CPAN_REPORTER_CONFIG="/cygdrive/e/peter/.cpanreporter/config-cygdrive-e-peter.ini"
PERL_EXTUTILS_AUTOINSTALL="1"
PERL_MM_USE_DEFAULT="1"
PERL_MY_PREFIX="/opt/perl5"
PERL_MY_SOURCE_DIR="/cygdrive/e/src/perl"
PERL_TEST_CRITIC="1"
CYGWIN="codepage:utf8 nodosfilewarning"
@INC:
/opt/perl5/cygwin_nt-6.1-wow64/1.7.26/i686/perl/5.14.1/cygwin-64int/local/lib/site_perl/5.14.1/cygwin-64int
/opt/perl5/cygwin_nt-6.1-wow64/1.7.26/i686/perl/5.14.1/cygwin-64int/local/lib/site_perl/5.14.1
/opt/perl5/cygwin_nt-6.1-wow64/1.7.26/i686/perl/5.14.1/cygwin-64int/local/lib/5.14.1/cygwin-64int
/opt/perl5/cygwin_nt-6.1-wow64/1.7.26/i686/perl/5.14.1/cygwin-64int/local/lib/5.14.1
/opt/perl5/cygwin_nt-6.1-wow64/1.7.26/i686/perl/5.14.1/cygwin-64int/local/lib/perl5/cygwin-64int
/opt/perl5/cygwin_nt-6.1-wow64/1.7.26/i686/perl/5.14.1/cygwin-64int/local/lib/perl5
/opt/perl5/cygwin_nt-6.1-wow64/1.7.26/i686/perl/5.14.1/cygwin-64int/lib/site_perl/5.14.1/cygwin-64int
/opt/perl5/cygwin_nt-6.1-wow64/1.7.26/i686/perl/5.14.1/cygwin-64int/lib/site_perl/5.14.1
/opt/perl5/cygwin_nt-6.1-wow64/1.7.26/i686/perl/5.14.1/cygwin-64int/lib/5.14.1/cygwin-64int
/opt/perl5/cygwin_nt-6.1-wow64/1.7.26/i686/perl/5.14.1/cygwin-64int/lib/5.14.1
.