autodie v2.29 Perl 5 v5.18.3 OpenBSD.amd64-openbsd
- Status
- Pass
- From
- Nigel Horne
- Dist
-
autodie v2.29
- Platform
- Perl 5 v5.18.3 OpenBSD.amd64-openbsd
- Date
- 2018-12-11 17:36:08
- ID
- 3eab49d8-fd6b-11e8-afbf-aec3b07506ca
This distribution has been tested as part of the CPAN Testers
project, supporting the Perl programming language. See
http://wiki.cpantesters.org/ for more information or email
questions to cpan-testers-discuss@perl.org
--
Dear Paul Jamieson Fenwick,
This is a computer-generated report for autodie-2.29
on perl 5.18.3, created by CPAN-Reporter-1.2018.
Thank you for uploading your work to CPAN. Congratulations!
All tests were successful.
Sections of this report:
* Tester comments
* Program output
* Prerequisites
* Environment and other context
------------------------------
TESTER COMMENTS
------------------------------
Additional comments from tester:
this report is from an automated smoke testing program
and was not reviewed by a human for accuracy
------------------------------
PROGRAM OUTPUT
------------------------------
Output from '/usr/bin/make test':
PERL_DL_NONLAZY=1 "/home/njh/perl5/perlbrew/perls/perl-5.18.3/bin/perl" "-MExtUtils::Command::MM" "-MTest::Harness" "-e" "undef *Test::Harness::Switches; test_harness(0, 'blib/lib', 'blib/arch')" t/*.t
t/00-load.t ...................... ok
t/args.t ......................... ok
t/author-critic.t ................ skipped: these tests are for testing by the author
t/autodie.t ...................... ok
t/backcompat.t ................... ok
t/basic_exceptions.t ............. ok
t/binmode.t ...................... ok
t/blog_hints.t ................... ok
t/caller.t ....................... ok
t/chmod.t ........................ ok
t/chown.t ........................ ok
t/context.t ...................... ok
t/context_lexical.t .............. ok
t/core-trampoline-slurp.t ........ ok
t/crickey.t ...................... ok
t/critic.t ....................... skipped: Author test. Set $ENV{AUTHOR_TESTING} to true to run.
t/dbmopen.t ...................... ok
t/eval_error.t ................... ok
t/exception_class.t .............. ok
t/exceptions.t ................... ok
t/exec.t ......................... ok
t/Fatal.t ........................ ok
t/filehandles.t .................. ok
t/fileno.t ....................... ok
t/flock.t ........................ ok
t/fork.t ......................... ok
t/format-clobber.t ............... ok
# Sub::Identify is not loaded
t/hints.t ........................ ok
t/hints_insist.t ................. ok
t/hints_pod_examples.t ........... ok
t/hints_provider_does.t .......... ok
t/hints_provider_easy_does_it.t .. ok
t/hints_provider_isa.t ........... ok
t/import-into.t .................. skipped: Test needs Import::Into >= 1.002004
t/internal-backcompat.t .......... ok
t/internal.t ..................... ok
t/kill.t ......................... ok
t/kwalitee.t ..................... skipped: Author test. Set $ENV{RELEASE_TESTING} to true to run.
t/lethal.t ....................... ok
t/lex58.t ........................ skipped: IPC::System::Simple required
t/mkdir.t ........................ ok
t/no_carp.t ...................... ok
t/open.t ......................... ok
t/pod-coverage.t ................. skipped: Author test. Set $ENV{AUTHOR_TESTING} to true to run.
t/pod.t .......................... skipped: Author test. Set $ENV{AUTHOR_TESTING} to true to run.
t/read.t ......................... ok
t/recv.t ......................... ok
t/release-pod-coverage.t ......... skipped: these tests are for release candidate testing
t/release-pod-syntax.t ........... skipped: these tests are for release candidate testing
t/repeat.t ....................... ok
t/rt-74246.t ..................... ok
t/scope_leak.t ................... ok
t/skip.t ......................... ok
t/socket.t ....................... skipped: Author test. Set $ENV{AUTHOR_TESTING} to true to run.
t/string-eval-basic.t ............ ok
t/string-eval-leak.t ............. ok
t/sysopen.t ...................... ok
t/system.t ....................... skipped: IPC::System::Simple not installed
t/truncate.t ..................... ok
t/unlink.t ....................... ok
t/user-context.t ................. ok
t/usersub.t ...................... ok
t/utf8_open.t .................... ok
t/utime.t ........................ ok
t/version.t ...................... skipped: Release test. Set $ENV{RELEASE_TESTING} to true to run.
t/version_tag.t .................. ok
All tests successful.
Files=66, Tests=498, 81 wallclock secs ( 1.09 usr 0.90 sys + 26.93 cusr 15.64 csys = 44.56 CPU)
Result: PASS
------------------------------
PREREQUISITES
------------------------------
Prerequisite modules loaded:
requires:
Module Need Have
------------------- -------- --------
B 0 1.42_02
Carp 0 1.29
constant 0 1.27
Exporter 5.57 5.68
Fcntl 0 1.11
overload 0 1.22
parent 0 0.225
perl 5.008004 5.018003
POSIX 0 1.32
Scalar::Util 0 1.27
strict 0 1.07
Tie::RefHash 0 1.39
warnings 0 1.18
build_requires:
Module Need Have
------------------- -------- --------
ExtUtils::MakeMaker 0 7.30
File::Copy 0 2.26
File::Spec 0 3.62
File::Temp 0 0.23
FindBin 0 1.51
if 0 0.0602
IO::Handle 0 1.34
lib 0 0.63
Socket 0 2.009
Test::More 0 1.302120
configure_requires:
Module Need Have
------------------- -------- --------
ExtUtils::MakeMaker 0 7.30
------------------------------
ENVIRONMENT AND OTHER CONTEXT
------------------------------
Environment variables:
AUTOMATED_TESTING = 1
PATH = /home/njh/perl5/perlbrew/bin:/home/njh/perl5/perlbrew/perls/perl-5.18.3/bin:src/njh/smoker/bin:/usr/bin:/bin:/usr/sbin:/sbin:/usr/X11R6/bin:/usr/local/bin:/usr/local/sbin
PERL5LIB = /tmp/build/Devel-Confess-0.009004-0/blib/arch:/tmp/build/Devel-Confess-0.009004-0/blib/lib:/tmp/build/Data-UUID-1.221-1/blib/arch:/tmp/build/Data-UUID-1.221-1/blib/lib:/tmp/build/Data-Printer-0.40-0/blib/arch:/tmp/build/Data-Printer-0.40-0/blib/lib:/tmp/build/Sort-Naturally-1.03-0/blib/arch:/tmp/build/Sort-Naturally-1.03-0/blib/lib:/tmp/build/Package-Stash-0.37-1/blib/arch:/tmp/build/Package-Stash-0.37-1/blib/lib:/tmp/build/Package-Stash-XS-0.28-0/blib/arch:/tmp/build/Package-Stash-XS-0.28-0/blib/lib:/tmp/build/Module-Implementation-0.09-0/blib/arch:/tmp/build/Module-Implementation-0.09-0/blib/lib:/tmp/build/Test-Requires-0.10-2/blib/arch:/tmp/build/Test-Requires-0.10-2/blib/lib:/tmp/build/Dist-CheckConflicts-0.11-1/blib/arch:/tmp/build/Dist-CheckConflicts-0.11-1/blib/lib:/tmp/build/Module-Runtime-0.016-1/blib/arch:/tmp/build/Module-Runtime-0.016-1/blib/lib:/tmp/build/Clone-PP-1.07-0/blib/arch:/tmp/build/Clone-PP-1.07-0/blib/lib:/tmp/build/Config-General-2.63-0/blib/arch:/tmp/build/Config-General-2.63-0/blib/lib:/tmp/build/File-ShareDir-1.116-1/blib/arch:/tmp/build/File-ShareDir-1.116-1/blib/lib:/tmp/build/Class-Inspector-1.32-0/blib/arch:/tmp/build/Class-Inspector-1.32-0/blib/lib:/tmp/build/File-ShareDir-Install-0.13-1/blib/arch:/tmp/build/File-ShareDir-Install-0.13-1/blib/lib
PERL5OPT =
PERL5_CPANPLUS_IS_RUNNING = 34615
PERL5_CPAN_IS_RUNNING = 34615
PERLBREW_HOME = /home/njh/.perlbrew
PERLBREW_MANPATH = /home/njh/perl5/perlbrew/perls/perl-5.18.3/man
PERLBREW_PATH = /home/njh/perl5/perlbrew/bin:/home/njh/perl5/perlbrew/perls/perl-5.18.3/bin
PERLBREW_PERL = perl-5.18.3
PERLBREW_ROOT = /home/njh/perl5/perlbrew
PERLBREW_SHELLRC_VERSION = 0.84
PERLBREW_VERSION = 0.84
SHELL = /bin/sh
TMPDIR = /tmp/testwrapper.57946
Perl special variables (and OS-specific diagnostics, for MSWin32):
$^X = /home/njh/perl5/perlbrew/perls/perl-5.18.3/bin/perl
$UID/$EUID = 1000 / 1000
$GID = 1000 1000 0
$EGID = 1000 1000 0
Perl module toolchain versions installed:
Module Have
------------------- --------
CPAN 2.16
CPAN::Meta 2.143240
Cwd 3.62
ExtUtils::CBuilder 0.280210
ExtUtils::Command 7.30
ExtUtils::Install 2.06
ExtUtils::MakeMaker 7.30
ExtUtils::Manifest 1.70
ExtUtils::ParseXS 3.18
File::Spec 3.62
JSON 2.97001
JSON::PP 2.27203
Module::Build 0.4003
Module::Signature n/a
Parse::CPAN::Meta 1.4414
Test::Harness 3.39
Test::More 1.302120
YAML 1.26
YAML::Syck 1.30
version 0.9902
--
Summary of my perl5 (revision 5 version 18 subversion 3) configuration:
Platform:
osname=openbsd, osvers=6.2, archname=OpenBSD.amd64-openbsd
uname='openbsd netgate1.bandsman.co.uk 6.2 generic.mp#2 amd64 '
config_args='-de -Dprefix=/home/njh/perl5/perlbrew/perls/perl-5.18.3 -Aeval:scriptdir=/home/njh/perl5/perlbrew/perls/perl-5.18.3/bin'
hint=recommended, useposix=true, d_sigaction=define
useithreads=undef, usemultiplicity=undef
useperlio=define, d_sfio=undef, uselargefiles=define, usesocks=undef
use64bitint=define, use64bitall=define, uselongdouble=undef
usemymalloc=n, bincompat5005=undef
Compiler:
cc='cc', ccflags ='-fno-strict-aliasing -pipe -fstack-protector -I/usr/local/include',
optimize='-O2',
cppflags='-fno-strict-aliasing -pipe -fstack-protector -I/usr/local/include'
ccversion='', gccversion='4.2.1 Compatible OpenBSD Clang 4.0.0 (tags/RELEASE_400/final)', gccosandvers=''
intsize=4, longsize=8, ptrsize=8, doublesize=8, byteorder=12345678
d_longlong=define, longlongsize=8, d_longdbl=define, longdblsize=16
ivtype='long', ivsize=8, nvtype='double', nvsize=8, Off_t='off_t', lseeksize=8
alignbytes=8, prototype=define
Linker and Libraries:
ld='cc', ldflags ='-Wl,-E -fstack-protector -L/usr/local/lib'
libpth=/usr/local/lib /usr/lib
libs=-lm -lutil -lc
perllibs=-lm -lutil -lc
libc=/usr/lib/libc.so.90.0, so=so, useshrplib=false, libperl=libperl.a
gnulibc_version=''
Dynamic Linking:
dlsrc=dl_dlopen.xs, dlext=so, d_dlsymun=undef, ccdlflags=' '
cccdlflags='-DPIC -fPIC ', lddlflags='-shared -fPIC -L/usr/local/lib -fstack-protector'
Characteristics of this binary (from libperl):
Compile-time options: HAS_TIMES PERLIO_LAYERS PERL_DONT_CREATE_GVSV
PERL_HASH_FUNC_ONE_AT_A_TIME_HARD PERL_MALLOC_WRAP
PERL_PRESERVE_IVUV PERL_SAWAMPERSAND USE_64_BIT_ALL
USE_64_BIT_INT USE_LARGE_FILES USE_LOCALE
USE_LOCALE_COLLATE USE_LOCALE_CTYPE
USE_LOCALE_NUMERIC USE_PERLIO USE_PERL_ATOF
Locally applied patches:
Devel::PatchPerl 1.48
Built under openbsd
Compiled at Jan 21 2018 19:04:17
%ENV:
PERL5LIB="/tmp/build/Devel-Confess-0.009004-0/blib/arch:/tmp/build/Devel-Confess-0.009004-0/blib/lib:/tmp/build/Data-UUID-1.221-1/blib/arch:/tmp/build/Data-UUID-1.221-1/blib/lib:/tmp/build/Data-Printer-0.40-0/blib/arch:/tmp/build/Data-Printer-0.40-0/blib/lib:/tmp/build/Sort-Naturally-1.03-0/blib/arch:/tmp/build/Sort-Naturally-1.03-0/blib/lib:/tmp/build/Package-Stash-0.37-1/blib/arch:/tmp/build/Package-Stash-0.37-1/blib/lib:/tmp/build/Package-Stash-XS-0.28-0/blib/arch:/tmp/build/Package-Stash-XS-0.28-0/blib/lib:/tmp/build/Module-Implementation-0.09-0/blib/arch:/tmp/build/Module-Implementation-0.09-0/blib/lib:/tmp/build/Test-Requires-0.10-2/blib/arch:/tmp/build/Test-Requires-0.10-2/blib/lib:/tmp/build/Dist-CheckConflicts-0.11-1/blib/arch:/tmp/build/Dist-CheckConflicts-0.11-1/blib/lib:/tmp/build/Module-Runtime-0.016-1/blib/arch:/tmp/build/Module-Runtime-0.016-1/blib/lib:/tmp/build/Clone-PP-1.07-0/blib/arch:/tmp/build/Clone-PP-1.07-0/blib/lib:/tmp/build/Config-General-2.63-0/blib/arch:/tmp/build/Config-General-2.63-0/blib/lib:/tmp/build/File-ShareDir-1.116-1/blib/arch:/tmp/build/File-ShareDir-1.116-1/blib/lib:/tmp/build/Class-Inspector-1.32-0/blib/arch:/tmp/build/Class-Inspector-1.32-0/blib/lib:/tmp/build/File-ShareDir-Install-0.13-1/blib/arch:/tmp/build/File-ShareDir-Install-0.13-1/blib/lib"
PERL5OPT=""
PERL5_CPANPLUS_IS_RUNNING="34615"
PERL5_CPAN_IS_RUNNING="34615"
PERLBREW_HOME="/home/njh/.perlbrew"
PERLBREW_MANPATH="/home/njh/perl5/perlbrew/perls/perl-5.18.3/man"
PERLBREW_PATH="/home/njh/perl5/perlbrew/bin:/home/njh/perl5/perlbrew/perls/perl-5.18.3/bin"
PERLBREW_PERL="perl-5.18.3"
PERLBREW_ROOT="/home/njh/perl5/perlbrew"
PERLBREW_SHELLRC_VERSION="0.84"
PERLBREW_VERSION="0.84"
@INC:
/tmp/build/Devel-Confess-0.009004-0/blib/arch
/tmp/build/Devel-Confess-0.009004-0/blib/lib
/tmp/build/Data-UUID-1.221-1/blib/arch
/tmp/build/Data-UUID-1.221-1/blib/lib
/tmp/build/Data-Printer-0.40-0/blib/arch
/tmp/build/Data-Printer-0.40-0/blib/lib
/tmp/build/Sort-Naturally-1.03-0/blib/arch
/tmp/build/Sort-Naturally-1.03-0/blib/lib
/tmp/build/Package-Stash-0.37-1/blib/arch
/tmp/build/Package-Stash-0.37-1/blib/lib
/tmp/build/Package-Stash-XS-0.28-0/blib/arch
/tmp/build/Package-Stash-XS-0.28-0/blib/lib
/tmp/build/Module-Implementation-0.09-0/blib/arch
/tmp/build/Module-Implementation-0.09-0/blib/lib
/tmp/build/Test-Requires-0.10-2/blib/arch
/tmp/build/Test-Requires-0.10-2/blib/lib
/tmp/build/Dist-CheckConflicts-0.11-1/blib/arch
/tmp/build/Dist-CheckConflicts-0.11-1/blib/lib
/tmp/build/Module-Runtime-0.016-1/blib/arch
/tmp/build/Module-Runtime-0.016-1/blib/lib
/tmp/build/Clone-PP-1.07-0/blib/arch
/tmp/build/Clone-PP-1.07-0/blib/lib
/tmp/build/Config-General-2.63-0/blib/arch
/tmp/build/Config-General-2.63-0/blib/lib
/tmp/build/File-ShareDir-1.116-1/blib/arch
/tmp/build/File-ShareDir-1.116-1/blib/lib
/tmp/build/Class-Inspector-1.32-0/blib/arch
/tmp/build/Class-Inspector-1.32-0/blib/lib
/tmp/build/File-ShareDir-Install-0.13-1/blib/arch
/tmp/build/File-ShareDir-Install-0.13-1/blib/lib
/home/njh/perl5/perlbrew/perls/perl-5.18.3/lib/site_perl/5.18.3/OpenBSD.amd64-openbsd
/home/njh/perl5/perlbrew/perls/perl-5.18.3/lib/site_perl/5.18.3
/home/njh/perl5/perlbrew/perls/perl-5.18.3/lib/5.18.3/OpenBSD.amd64-openbsd
/home/njh/perl5/perlbrew/perls/perl-5.18.3/lib/5.18.3
.