Report for Apache-Test-1.36

Back
From: metabase:user:de0c1687-6c17-1014-803a-aa7147b9bd01
Subject: PASS Apache-Test-1.36 v5.12.3 GNU/Linux
Date: 2013-02-14T00:19:49Z

This distribution has been tested as part of the CPAN Testers
project, supporting the Perl programming language.  See
http://wiki.cpantesters.org/ for more information or email
questions to cpan-testers-discuss@perl.org


--
Dear Fred Moyer,

This is a computer-generated report for Apache-Test-1.36
on perl 5.12.3, created by CPAN-Reporter-1.2009.

Thank you for uploading your work to CPAN.  Congratulations!
All tests were successful.

Sections of this report:

    * Tester comments
    * Program output
    * Prerequisites
    * Environment and other context

------------------------------
TESTER COMMENTS
------------------------------

Additional comments from tester:

this report is from an automated smoke testing program
and was not reviewed by a human for accuracy

------------------------------
PROGRAM OUTPUT
------------------------------

Output from '/usr/bin/make test':

/opt/perl/bin/perl -Iblib/arch -Iblib/lib \
	t/TEST  -clean
[warning] setting ulimit to allow core files
ulimit -c unlimited; /opt/perl/bin/perl /home/mmusgrove/.local/share/.cpan/build/Apache-Test-1.36-Ad4v_J/t/TEST -clean
APACHE_TEST_GROUP= APACHE_TEST_HTTPD= APACHE_TEST_PORT= APACHE_TEST_USER= APACHE_TEST_APXS= \
	/opt/perl/bin/perl -Iblib/arch -Iblib/lib \
	t/TEST  -bugreport -verbose=0 
[warning] setting ulimit to allow core files
ulimit -c unlimited; /opt/perl/bin/perl /home/mmusgrove/.local/share/.cpan/build/Apache-Test-1.36-Ad4v_J/t/TEST -bugreport -verbose=0
/usr/sbin/httpd  -d /home/mmusgrove/.local/share/.cpan/build/Apache-Test-1.36-Ad4v_J/t -f /home/mmusgrove/.local/share/.cpan/build/Apache-Test-1.36-Ad4v_J/t/conf/httpd.conf -D APACHE2 -D PERL_USEITHREADS
using Apache/2.2.15 (prefork MPM)

waiting 60 seconds for server to start: .
waiting 60 seconds for server to start: ok (waited 0 secs)
server localhost.localdomain:8529 started
[   info] adding source lib /home/mmusgrove/.local/share/.cpan/build/Apache-Test-1.36-Ad4v_J/lib to @INC
[warning] Using random number seed: 2006212784 (autogenerated)
t/import.t ............... ok
t/ping.t ................. ok
t/next_available_port.t .. ok
t/cookies.t .............. ok
t/request.t .............. ok
t/alltest/all.t .......... skipped: testing all.t
t/sok.t .................. ok
t/log_watch.t ............ ok
t/bad_coding.t ........... ok
t/redirect.t ............. ok
t/more/all.t ............. skipped: cannot find module 'mod_perl.c'
t/alltest2/all.t ......... skipped: testing more than one all.t
All tests successful.
Files=12, Tests=88,  3 wallclock secs ( 0.11 usr  0.04 sys +  2.85 cusr  0.49 csys =  3.49 CPU)
Result: PASS
[warning] server localhost.localdomain:8529 shutdown

------------------------------
PREREQUISITES
------------------------------

Prerequisite modules loaded:

requires:

    Module              Need Have
    ------------------- ---- ----
    Cwd                 2.06 3.33
    File::Spec          0.8  3.33

build_requires:

    Module              Need Have
    ------------------- ---- ----
    ExtUtils::MakeMaker 0    6.62

configure_requires:

    Module              Need Have
    ------------------- ---- ----
    ExtUtils::MakeMaker 0    6.62


------------------------------
ENVIRONMENT AND OTHER CONTEXT
------------------------------

Environment variables:

    AUTOMATED_TESTING = 1
    LANG = en_US.UTF-8
    LC_ALL = C
    PATH = /home/mmusgrove/bin:/home/mmusgrove/bin:/opt/perl/bin:/usr/pgsql-9.1/bin:/usr/pgsql-9.1/bin:/opt/perl/bin:/home/mmusgrove/bin:/home/mmusgrove/bin:/opt/perl/bin:/usr/pgsql-9.1/bin:/usr/lib64/qt-3.3/bin:/usr/pgsql-9.1/bin:/usr/pgsql-9.1/bin:/usr/lib64/qt-3.3/bin:/usr/pgsql-9.1/bin:/opt/perl/bin:/usr/local/bin:/bin:/usr/bin:/usr/local/sbin:/usr/sbin:/sbin
    PERL5LIB = /opt/nms/lib/perl
    PERL5OPT = 
    PERL5_CPANPLUS_IS_RUNNING = 19652
    PERL5_CPAN_IS_RUNNING = 19652
    PERL5_CPAN_IS_RUNNING_IN_RECURSION = 2480,19652
    PERLLIB = /opt/nms/lib/perl
    PERL_CR_SMOKER_CURRENT = Apache-Test-1.36
    PERL_EXTUTILS_AUTOINSTALL = --defaultdeps
    PERL_MM_USE_DEFAULT = 1
    SHELL = /bin/bash
    TERM = xterm-256color

Perl special variables (and OS-specific diagnostics, for MSWin32):

    $^X = /opt/perl/bin/perl
    $UID/$EUID = 500 / 500
    $GID = 500 10 100 500
    $EGID = 500 10 100 500

Perl module toolchain versions installed:

    Module              Have    
    ------------------- --------
    CPAN                1.9800  
    CPAN::Meta          2.112150
    Cwd                 3.33    
    ExtUtils::CBuilder  0.280202
    ExtUtils::Command   1.16    
    ExtUtils::Install   1.55    
    ExtUtils::MakeMaker 6.62    
    ExtUtils::Manifest  1.58    
    ExtUtils::ParseXS   2.2206  
    File::Spec          3.33    
    JSON                2.50    
    JSON::PP            2.27104 
    Module::Build       0.40    
    Module::Signature   n/a     
    Parse::CPAN::Meta   1.4401  
    Test::Harness       3.22    
    Test::More          0.96    
    YAML                0.72    
    YAML::Syck          n/a     
    version             0.88    


--

Summary of my perl5 (revision 5 version 12 subversion 3) configuration:
   
  Platform:
    osname=linux, osvers=2.6.18-164.9.1.el5, archname=x86_64-linux-thread-multi
    uname='linux nmsdev3.efjdfw.local 2.6.18-164.9.1.el5 #1 smp tue dec 15 20:57:57 est 2009 x86_64 x86_64 x86_64 gnulinux '
    config_args='-Dusethreads -Duselargefiles -Dprefix=/opt/perl -Accflags=-fPIC -de'
    hint=previous, useposix=true, d_sigaction=define
    useithreads=define, usemultiplicity=define
    useperlio=define, d_sfio=undef, uselargefiles=define, usesocks=undef
    use64bitint=define, use64bitall=define, uselongdouble=undef
    usemymalloc=n, bincompat5005=undef
  Compiler:
    cc='cc', ccflags ='-D_REENTRANT -D_GNU_SOURCE -fno-strict-aliasing -pipe -fstack-protector -I/usr/local/include -D_LARGEFILE_SOURCE -D_FILE_OFFSET_BITS=64 -fPIC',
    optimize='-O2',
    cppflags='-D_REENTRANT -D_GNU_SOURCE -fno-strict-aliasing -pipe -fstack-protector -I/usr/local/include -D_REENTRANT -D_GNU_SOURCE -fno-strict-aliasing -pipe -fstack-protector -I/usr/local/include -D_LARGEFILE_SOURCE -D_FILE_OFFSET_BITS=64 -fPIC'
    ccversion='', gccversion='4.1.2 20080704 (Red Hat 4.1.2-46)', gccosandvers=''
    intsize=4, longsize=8, ptrsize=8, doublesize=8, byteorder=12345678
    d_longlong=define, longlongsize=8, d_longdbl=define, longdblsize=16
    ivtype='long', ivsize=8, nvtype='double', nvsize=8, Off_t='off_t', lseeksize=8
    alignbytes=8, prototype=define
  Linker and Libraries:
    ld='cc', ldflags =' -fstack-protector -L/usr/local/lib'
    libpth=/usr/local/lib /lib /usr/lib /lib64 /usr/lib64 /usr/local/lib64
    libs=-lnsl -ldb -ldl -lm -lcrypt -lutil -lpthread -lc
    perllibs=-lnsl -ldl -lm -lcrypt -lutil -lpthread -lc
    libc=/lib/libc-2.5.so, so=so, useshrplib=false, libperl=libperl.a
    gnulibc_version='2.5'
  Dynamic Linking:
    dlsrc=dl_dlopen.xs, dlext=so, d_dlsymun=undef, ccdlflags='-Wl,-E'
    cccdlflags='-fPIC', lddlflags='-shared -O2 -L/usr/local/lib -fstack-protector'


Characteristics of this binary (from libperl): 
  Compile-time options: MULTIPLICITY PERL_DONT_CREATE_GVSV
                        PERL_IMPLICIT_CONTEXT PERL_MALLOC_WRAP USE_64_BIT_ALL
                        USE_64_BIT_INT USE_ITHREADS USE_LARGE_FILES
                        USE_PERLIO USE_PERL_ATOF USE_REENTRANT_API
  Built under linux
  Compiled at Jan 24 2011 19:21:05
  %ENV:
    PERL5LIB="/opt/nms/lib/perl"
    PERL5OPT=""
    PERL5_CPANPLUS_IS_RUNNING="19652"
    PERL5_CPAN_IS_RUNNING="19652"
    PERL5_CPAN_IS_RUNNING_IN_RECURSION="2480,19652"
    PERLLIB="/opt/nms/lib/perl"
    PERL_CR_SMOKER_CURRENT="Apache-Test-1.36"
    PERL_EXTUTILS_AUTOINSTALL="--defaultdeps"
    PERL_MM_USE_DEFAULT="1"
  @INC:
    /opt/nms/lib/perl
    /opt/perl/lib/site_perl/5.12.3/x86_64-linux-thread-multi
    /opt/perl/lib/site_perl/5.12.3
    /opt/perl/lib/5.12.3/x86_64-linux-thread-multi
    /opt/perl/lib/5.12.3
    /opt/perl/lib/site_perl
    .