MooseX-MethodAttributes v0.32 Perl 5 v5.32.1 x86_64-linux-thread-multi

Status
Pass
From
Chris Hills
Dist
MooseX-MethodAttributes v0.32
Platform
Perl 5 v5.32.1 x86_64-linux-thread-multi
Date
2021-02-14 16:32:36
ID
3ecede08-6ee2-11eb-978b-870e769a15cc
This distribution has been tested as part of the CPAN Testers
project, supporting the Perl programming language.  See
http://wiki.cpantesters.org/ for more information or email
questions to cpan-testers-discuss@perl.org


--
Dear ETHER,

This is a computer-generated report for MooseX-MethodAttributes-0.32
on perl 5.32.1, created by App::cpanminus::reporter 0.17 (1.7044).

Thank you for uploading your work to CPAN.  Congratulations!
All tests were successful.

Sections of this report:

    * Tester comments
    * Program output
    * Prerequisites
    * Environment and other context

------------------------------
TESTER COMMENTS
------------------------------

Additional comments from tester:

none provided

------------------------------
PROGRAM OUTPUT
------------------------------

Output from '':

Building and testing MooseX-MethodAttributes-0.32
cp lib/MooseX/MethodAttributes/Role/AttrContainer.pm blib/lib/MooseX/MethodAttributes/Role/AttrContainer.pm
cp lib/MooseX/MethodAttributes/Role/Meta/Method/Wrapped.pm blib/lib/MooseX/MethodAttributes/Role/Meta/Method/Wrapped.pm
cp lib/MooseX/MethodAttributes/Role/Meta/Method.pm blib/lib/MooseX/MethodAttributes/Role/Meta/Method.pm
cp lib/MooseX/MethodAttributes/Role/Meta/Class.pm blib/lib/MooseX/MethodAttributes/Role/Meta/Class.pm
cp lib/MooseX/MethodAttributes.pm blib/lib/MooseX/MethodAttributes.pm
cp lib/MooseX/MethodAttributes/Role/Meta/Map.pm blib/lib/MooseX/MethodAttributes/Role/Meta/Map.pm
cp lib/MooseX/MethodAttributes/Role/AttrContainer/Inheritable.pm blib/lib/MooseX/MethodAttributes/Role/AttrContainer/Inheritable.pm
cp lib/MooseX/MethodAttributes/Role/Meta/Role.pm blib/lib/MooseX/MethodAttributes/Role/Meta/Role.pm
cp lib/MooseX/MethodAttributes/Role/Meta/Role/Application/Summation.pm blib/lib/MooseX/MethodAttributes/Role/Meta/Role/Application/Summation.pm
cp lib/MooseX/MethodAttributes/Role.pm blib/lib/MooseX/MethodAttributes/Role.pm
cp lib/MooseX/MethodAttributes/Role/Meta/Method/MaybeWrapped.pm blib/lib/MooseX/MethodAttributes/Role/Meta/Method/MaybeWrapped.pm
cp lib/MooseX/MethodAttributes/Inheritable.pm blib/lib/MooseX/MethodAttributes/Inheritable.pm
cp lib/MooseX/MethodAttributes/Role/Meta/Role/Application.pm blib/lib/MooseX/MethodAttributes/Role/Meta/Role/Application.pm
Manifying 13 pod documents
PERL_DL_NONLAZY=1 "/home/chaz/.local/local/perl-5.32.1/bin/perl" "-MExtUtils::Command::MM" "-MTest::Harness" "-e" "undef *Test::Harness::Switches; test_harness(0, 'blib/lib', 'blib/arch')" t/*.t
# 
# Versions for all modules listed in MYMETA.json (including optional ones):
# 
# === Configure Requires ===
# 
#     Module              Want Have
#     ------------------- ---- ----
#     ExtUtils::MakeMaker  any 7.44
# 
# === Build Requires ===
# 
#     Module              Want Have
#     ------------------- ---- ----
#     ExtUtils::MakeMaker  any 7.44
# 
# === Test Requires ===
# 
#     Module                      Want     Have
#     --------------------------- ---- --------
#     ExtUtils::MakeMaker          any     7.44
#     File::Spec                   any     3.78
#     Moose::Meta::Class           any   2.2014
#     MooseX::Role::Parameterized  any     1.11
#     Test::Fatal                  any    0.016
#     Test::More                  0.88 1.302183
#     Test::Needs                  any 0.002006
#     base                         any     2.27
#     lib                          any     0.65
#     strict                       any     1.11
#     warnings                     any     1.47
# 
# === Test Recommends ===
# 
#     Module         Want     Have
#     ---------- -------- --------
#     CPAN::Meta 2.120900 2.150010
# 
# === Runtime Requires ===
# 
#     Module                Want   Have
#     --------------------- ---- ------
#     Carp                   any   1.50
#     Moose                  any 2.2014
#     Moose::Exporter        any 2.2014
#     Moose::Role            any 2.2014
#     Moose::Util            any 2.2014
#     Moose::Util::MetaRole  any 2.2014
#     namespace::autoclean  0.08   0.29
# 
# === Other Modules ===
# 
#     Module               Have
#     ----------------- -------
#     Catalyst::Runtime missing
#     Encode               3.06
#     File::Temp         0.2309
#     JSON::PP             4.06
#     Module::Runtime     0.016
#     Pod::Coverage        0.23
#     Sub::Name            0.26
#     YAML                 1.30
#     autodie              2.32
# 
t/00-report-prereqs.t .................. ok
t/basic.t .............................. ok
t/calling.t ............................ ok
t/catalyst.t ........................... ok
t/catalyst_role.t ...................... ok
t/catalyst_role_method_exclusion.t ..... ok
t/catalyst_role_preexist_methods.t ..... ok
t/inherited.t .......................... ok
t/inherited_non_moose_multilevel.t ..... ok
t/late_reinitialize.t .................. ok
t/multiple_roles.t ..................... ok
t/multiple_roles_astrait.t ............. ok
t/override_method_with_no_attribute.t .. ok
t/param_role.t ......................... ok
t/role.t ............................... ok
t/role_applied.t ....................... ok
t/role_comp.t .......................... ok
t/role_in_role.t ....................... ok
t/role_in_role_more.t .................. ok
t/role_method_conflict_detection.t ..... ok
t/role_with_anon_class.t ............... ok
t/zzz-check-breaks.t ................... ok
All tests successful.

Test Summary Report
-------------------
t/late_reinitialize.t                (Wstat: 0 Tests: 10 Failed: 0)
  TODO passed:   1-10
Files=22, Tests=144,  6 wallclock secs ( 0.06 usr  0.01 sys +  4.78 cusr  0.38 csys =  5.23 CPU)
Result: PASS

------------------------------
PREREQUISITES
------------------------------

Prerequisite modules loaded:

    No requirements found

------------------------------
ENVIRONMENT AND OTHER CONTEXT
------------------------------

Environment variables:

    LANG = en_GB.UTF-8
    PATH = /home/chaz/perl5/bin:/home/chaz/.local/local/clang+llvm/bin:/home/chaz/.local/local/qt5/bin:/home/chaz/.local/local/apache-maven/bin:/home/chaz/.dotnet/tools:/home/chaz/go/bin:/home/chaz/.cargo/bin:/home/chaz/bin:/home/chaz/.local/bin:/home/chaz/perl5/bin:/home/chaz/.local/bin:/home/chaz/bin:/usr/local/bin:/usr/bin:/usr/local/sbin:/usr/sbin:/home/chaz/.composer/vendor/bin
    PERL5LIB = /home/chaz/perl5/lib/perl5:/home/chaz/perl5/lib/perl5
    PERL_LOCAL_LIB_ROOT = /home/chaz/perl5:/home/chaz/perl5
    PERL_MB_OPT = --install_base "/home/chaz/perl5"
    PERL_MM_OPT = INSTALL_BASE=/home/chaz/perl5
    SHELL = /bin/bash
    TERM = screen-256color

Perl special variables (and OS-specific diagnostics, for MSWin32):

    EGID = 1000 10 63 986 1000
    EUID = 1000
    EXECUTABLE_NAME = /home/chaz/.local/local/perl-5.32.1/bin/perl
    GID = 1000 10 63 986 1000
    UID = 1000

Perl module toolchain versions installed:

    Module              Have    
    ------------------- --------
    CPAN                2.27    
    CPAN::Meta          2.150010
    Cwd                 3.78    
    ExtUtils::CBuilder  0.280234
    ExtUtils::Command   7.44    
    ExtUtils::Install   2.14    
    ExtUtils::MakeMaker 7.44    
    ExtUtils::Manifest  1.72    
    ExtUtils::ParseXS   3.40    
    File::Spec          3.78    
    JSON                4.03    
    JSON::PP            4.06    
    Module::Build       0.4231  
    Module::Signature   n/a     
    Parse::CPAN::Meta   2.150010
    Test::Harness       3.42    
    Test::More          1.302183
    YAML                1.30    
    YAML::Syck          1.34    
    version             0.9924  


--

Summary of my perl5 (revision 5 version 32 subversion 1) configuration:
   
  Platform:
    osname=linux
    osvers=5.10.2-1.el7.elrepo.x86_64
    archname=x86_64-linux-thread-multi
    uname='linux vps-5.chaz6.com 5.10.2-1.el7.elrepo.x86_64 #1 smp sun dec 20 09:53:23 est 2020 x86_64 gnulinux '
    config_args='-des -Dprefix=/home/chaz/.local/local/perl-5.32.1 -Duseshrplib -Dusethreads -Dcc=clang'
    hint=recommended
    useposix=true
    d_sigaction=define
    useithreads=define
    usemultiplicity=define
    use64bitint=define
    use64bitall=define
    uselongdouble=undef
    usemymalloc=n
    default_inc_excludes_dot=define
    bincompat5005=undef
  Compiler:
    cc='clang'
    ccflags ='-D_REENTRANT -D_GNU_SOURCE -fno-strict-aliasing -pipe -fstack-protector-strong -I/usr/local/include -D_LARGEFILE_SOURCE -D_FILE_OFFSET_BITS=64'
    optimize='-O2'
    cppflags='-D_REENTRANT -D_GNU_SOURCE -fno-strict-aliasing -pipe -fstack-protector-strong -I/usr/local/include'
    ccversion=''
    gccversion='Clang 11.0.0 (https://github.com/syoyo/llvm-build-script.git 53a8648973ac0a9057e0ea8fa07c59416e5a6740)'
    gccosandvers=''
    intsize=4
    longsize=8
    ptrsize=8
    doublesize=8
    byteorder=12345678
    doublekind=3
    d_longlong=define
    longlongsize=8
    d_longdbl=define
    longdblsize=16
    longdblkind=3
    ivtype='long'
    ivsize=8
    nvtype='double'
    nvsize=8
    Off_t='off_t'
    lseeksize=8
    alignbytes=8
    prototype=define
  Linker and Libraries:
    ld='clang'
    ldflags =' -fstack-protector-strong -L/usr/local/lib'
    libpth=/usr/local/lib /home/chaz/.local/local/clang+llvm-11.0.0/lib/clang/11.0.0/lib /usr/lib /lib/../lib64 /usr/lib/../lib64 /lib /lib64 /usr/lib64 /usr/local/lib64
    libs=-lpthread -lnsl -lgdbm -ldb -ldl -lm -lcrypt -lutil -lc -lgdbm_compat
    perllibs=-lpthread -lnsl -ldl -lm -lcrypt -lutil -lc
    libc=libc-2.17.so
    so=so
    useshrplib=true
    libperl=libperl.so
    gnulibc_version='2.17'
  Dynamic Linking:
    dlsrc=dl_dlopen.xs
    dlext=so
    d_dlsymun=undef
    ccdlflags='-Wl,-E -Wl,-rpath,/home/chaz/.local/local/perl-5.32.1/lib/5.32.1/x86_64-linux-thread-multi/CORE'
    cccdlflags='-fPIC'
    lddlflags='-shared -O2 -L/usr/local/lib -fstack-protector-strong'


Characteristics of this binary (from libperl): 
  Compile-time options:
    HAS_TIMES
    MULTIPLICITY
    PERLIO_LAYERS
    PERL_COPY_ON_WRITE
    PERL_DONT_CREATE_GVSV
    PERL_IMPLICIT_CONTEXT
    PERL_MALLOC_WRAP
    PERL_OP_PARENT
    PERL_PRESERVE_IVUV
    USE_64_BIT_ALL
    USE_64_BIT_INT
    USE_ITHREADS
    USE_LARGE_FILES
    USE_LOCALE
    USE_LOCALE_COLLATE
    USE_LOCALE_CTYPE
    USE_LOCALE_NUMERIC
    USE_LOCALE_TIME
    USE_PERLIO
    USE_PERL_ATOF
    USE_REENTRANT_API
    USE_THREAD_SAFE_LOCALE
  Built under linux
  Compiled at Jan 23 2021 21:25:21
  %ENV:
    PERL5LIB="/home/chaz/perl5/lib/perl5:/home/chaz/perl5/lib/perl5"
    PERL_LOCAL_LIB_ROOT="/home/chaz/perl5:/home/chaz/perl5"
    PERL_MB_OPT="--install_base "/home/chaz/perl5""
    PERL_MM_OPT="INSTALL_BASE=/home/chaz/perl5"
  @INC:
    /home/chaz/perl5/lib/perl5/x86_64-linux-thread-multi
    /home/chaz/perl5/lib/perl5
    /home/chaz/perl5/lib/perl5/x86_64-linux-thread-multi
    /home/chaz/perl5/lib/perl5
    /home/chaz/.local/local/perl-5.32.1/lib/site_perl/5.32.1/x86_64-linux-thread-multi
    /home/chaz/.local/local/perl-5.32.1/lib/site_perl/5.32.1
    /home/chaz/.local/local/perl-5.32.1/lib/5.32.1/x86_64-linux-thread-multi
    /home/chaz/.local/local/perl-5.32.1/lib/5.32.1