Back
From: metabase:user:919240cc-3a5a-11e3-97e0-aee51455ead1
Subject: PASS DynaLoader-Functions-0.002 v5.18.2 GNU/Linux
Date: 2015-03-31T15:18:55Z
This distribution has been tested as part of the CPAN Testers
project, supporting the Perl programming language. See
http://wiki.cpantesters.org/ for more information or email
questions to cpan-testers-discuss@perl.org
--
Dear ZEFRAM,
This is a computer-generated report for DynaLoader-Functions-0.002
on perl 5.18.2, created by App::cpanminus::reporter 0.11 (1.7025).
Thank you for uploading your work to CPAN. Congratulations!
All tests were successful.
Sections of this report:
* Tester comments
* Program output
* Prerequisites
* Environment and other context
------------------------------
TESTER COMMENTS
------------------------------
Additional comments from tester:
none provided
------------------------------
PROGRAM OUTPUT
------------------------------
Output from '':
Building and testing DynaLoader-Functions-0.002
Building DynaLoader-Functions
t/dyna_low.t .. ok
t/pod_cvg.t ... skipped: Test::Pod::Coverage not available
t/pod_syn.t ... skipped: Test::Pod not available
All tests successful.
Files=3, Tests=6, 1 wallclock secs ( 0.04 usr 0.01 sys + 0.38 cusr 0.08 csys = 0.51 CPU)
Result: PASS
------------------------------
PREREQUISITES
------------------------------
Prerequisite modules loaded:
No requirements found
------------------------------
ENVIRONMENT AND OTHER CONTEXT
------------------------------
Environment variables:
LANG = en_GB.UTF-8
LANGUAGE = en_GB:en
PATH = /home/ilmari/.perlbrew/libs/18.2td@std/bin:/home/ilmari/perl5/perlbrew/bin:/home/ilmari/perl5/perlbrew/perls/18.2td/bin:/home/ilmari/src/git-hub/lib:/home/ilmari/bin:/usr/lib/lightdm/lightdm:/usr/local/sbin:/usr/local/bin:/usr/sbin:/usr/bin:/sbin:/bin:/usr/games
PERL5LIB = /home/ilmari/.perlbrew/libs/18.2td@std/lib/perl5
PERLBREW = command perlbrew
PERLBREW_BASHRC_VERSION = 0.73
PERLBREW_HOME = /home/ilmari/.perlbrew
PERLBREW_LIB = std
PERLBREW_MANPATH = /home/ilmari/.perlbrew/libs/18.2td@std/man:/home/ilmari/perl5/perlbrew/perls/18.2td/man
PERLBREW_PATH = /home/ilmari/.perlbrew/libs/18.2td@std/bin:/home/ilmari/perl5/perlbrew/bin:/home/ilmari/perl5/perlbrew/perls/18.2td/bin
PERLBREW_PERL = 18.2td
PERLBREW_ROOT = /home/ilmari/perl5/perlbrew
PERLBREW_VERSION = 0.73
PERLDOC_PAGER = less -iR
PERL_LOCAL_LIB_ROOT = /home/ilmari/.perlbrew/libs/18.2td@std
PERL_MB_OPT = --install_base /home/ilmari/.perlbrew/libs/18.2td@std
PERL_MM_OPT = INSTALL_BASE=/home/ilmari/.perlbrew/libs/18.2td@std
SHELL = /bin/bash
TERM = xterm
Perl special variables (and OS-specific diagnostics, for MSWin32):
EGID = 1000 4 24 27 30 46 104 109 124 127 1000
EUID = 1000
EXECUTABLE_NAME = /home/ilmari/perl5/perlbrew/perls/18.2td/bin/perl
GID = 1000 4 24 27 30 46 104 109 124 127 1000
UID = 1000
Perl module toolchain versions installed:
Module Have
------------------- --------
CPAN 2.00
CPAN::Meta 2.133380
Cwd 3.40
ExtUtils::CBuilder 0.280210
ExtUtils::Command 1.17
ExtUtils::Install 1.59
ExtUtils::MakeMaker 6.66
ExtUtils::Manifest 1.63
ExtUtils::ParseXS 3.18
File::Spec 3.40
JSON 2.90
JSON::PP 2.27202
Module::Build 0.4204
Module::Signature n/a
Parse::CPAN::Meta 1.4404
Test::Harness 3.30
Test::More 1.001002
YAML n/a
YAML::Syck n/a
version 0.9902
--
Summary of my perl5 (revision 5 version 18 subversion 2) configuration:
Platform:
osname=linux, osvers=3.2.0-49-generic, archname=x86_64-linux-thread-multi
uname='linux zarquon 3.2.0-49-generic #75-ubuntu smp tue jun 18 17:39:32 utc 2013 x86_64 x86_64 x86_64 gnulinux '
config_args='-de -Dprefix=/home/ilmari/perl5/perlbrew/perls/18.2td -Dusethreads -DDEBUGGING -Dman1dir=none -Dman3dir=none -Dcc=ccache cc -Aeval:scriptdir=/home/ilmari/perl5/perlbrew/perls/18.2td/bin'
hint=recommended, useposix=true, d_sigaction=define
useithreads=define, usemultiplicity=define
useperlio=define, d_sfio=undef, uselargefiles=define, usesocks=undef
use64bitint=define, use64bitall=define, uselongdouble=undef
usemymalloc=n, bincompat5005=undef
Compiler:
cc='ccache cc', ccflags ='-D_REENTRANT -D_GNU_SOURCE -DDEBUGGING -fno-strict-aliasing -pipe -fstack-protector -I/usr/local/include -D_LARGEFILE_SOURCE -D_FILE_OFFSET_BITS=64',
optimize='-O2 -g',
cppflags='-D_REENTRANT -D_GNU_SOURCE -DDEBUGGING -fno-strict-aliasing -pipe -fstack-protector -I/usr/local/include'
ccversion='', gccversion='4.6.3', gccosandvers=''
intsize=4, longsize=8, ptrsize=8, doublesize=8, byteorder=12345678
d_longlong=define, longlongsize=8, d_longdbl=define, longdblsize=16
ivtype='long', ivsize=8, nvtype='double', nvsize=8, Off_t='off_t', lseeksize=8
alignbytes=8, prototype=define
Linker and Libraries:
ld='ccache cc', ldflags =' -fstack-protector -L/usr/local/lib'
libpth=/usr/local/lib /lib/x86_64-linux-gnu /lib/../lib /usr/lib/x86_64-linux-gnu /usr/lib/../lib /lib /usr/lib
libs=-lnsl -lgdbm -ldb -ldl -lm -lcrypt -lutil -lpthread -lc -lgdbm_compat
perllibs=-lnsl -ldl -lm -lcrypt -lutil -lpthread -lc
libc=, so=so, useshrplib=false, libperl=libperl.a
gnulibc_version='2.15'
Dynamic Linking:
dlsrc=dl_dlopen.xs, dlext=so, d_dlsymun=undef, ccdlflags='-Wl,-E'
cccdlflags='-fPIC', lddlflags='-shared -O2 -g -L/usr/local/lib -fstack-protector'
Characteristics of this binary (from libperl):
Compile-time options: DEBUGGING HAS_TIMES MULTIPLICITY PERLIO_LAYERS
PERL_DONT_CREATE_GVSV
PERL_HASH_FUNC_ONE_AT_A_TIME_HARD
PERL_IMPLICIT_CONTEXT PERL_MALLOC_WRAP
PERL_PRESERVE_IVUV PERL_SAWAMPERSAND
PERL_TRACK_MEMPOOL USE_64_BIT_ALL USE_64_BIT_INT
USE_ITHREADS USE_LARGE_FILES USE_LOCALE
USE_LOCALE_COLLATE USE_LOCALE_CTYPE
USE_LOCALE_NUMERIC USE_PERLIO USE_PERL_ATOF
USE_REENTRANT_API
Built under linux
Compiled at Jan 13 2014 14:05:02
%ENV:
PERL5LIB="/home/ilmari/.perlbrew/libs/18.2td@std/lib/perl5"
PERLBREW="command perlbrew"
PERLBREW_BASHRC_VERSION="0.73"
PERLBREW_HOME="/home/ilmari/.perlbrew"
PERLBREW_LIB="std"
PERLBREW_MANPATH="/home/ilmari/.perlbrew/libs/18.2td@std/man:/home/ilmari/perl5/perlbrew/perls/18.2td/man"
PERLBREW_PATH="/home/ilmari/.perlbrew/libs/18.2td@std/bin:/home/ilmari/perl5/perlbrew/bin:/home/ilmari/perl5/perlbrew/perls/18.2td/bin"
PERLBREW_PERL="18.2td"
PERLBREW_ROOT="/home/ilmari/perl5/perlbrew"
PERLBREW_VERSION="0.73"
PERLDOC_PAGER="less -iR"
PERL_LOCAL_LIB_ROOT="/home/ilmari/.perlbrew/libs/18.2td@std"
PERL_MB_OPT="--install_base /home/ilmari/.perlbrew/libs/18.2td@std"
PERL_MM_OPT="INSTALL_BASE=/home/ilmari/.perlbrew/libs/18.2td@std"
@INC:
/home/ilmari/.perlbrew/libs/18.2td@std/lib/perl5/x86_64-linux-thread-multi
/home/ilmari/.perlbrew/libs/18.2td@std/lib/perl5
/home/ilmari/perl5/perlbrew/perls/18.2td/lib/site_perl/5.18.2/x86_64-linux-thread-multi
/home/ilmari/perl5/perlbrew/perls/18.2td/lib/site_perl/5.18.2
/home/ilmari/perl5/perlbrew/perls/18.2td/lib/5.18.2/x86_64-linux-thread-multi
/home/ilmari/perl5/perlbrew/perls/18.2td/lib/5.18.2
.