Devel-Cover-Report-Codecov v0.25 Perl 5 v5.41.11 i86pc-solaris-thread-multi-64

Status
Pass
From
Carlos Guevara
Dist
Devel-Cover-Report-Codecov v0.25
Platform
Perl 5 v5.41.11 i86pc-solaris-thread-multi-64
Date
2025-04-17 20:12:11
ID
3ee619be-1bc8-11f0-9fe4-eddd7c200b6c
This distribution has been tested as part of the CPAN Testers
project, supporting the Perl programming language.  See
http://wiki.cpantesters.org/ for more information or email
questions to cpan-testers-discuss@perl.org


--
Dear Pine Mizune,

This is a computer-generated report for Devel-Cover-Report-Codecov-0.25
on perl 5.41.11, created by CPAN-Reporter-1.2020.

Thank you for uploading your work to CPAN.  Congratulations!
All tests were successful.

Sections of this report:

    * Tester comments
    * Program output
    * Prerequisites
    * Environment and other context

------------------------------
TESTER COMMENTS
------------------------------

Additional comments from tester:

this report is from an automated smoke testing program
and was not reviewed by a human for accuracy

------------------------------
PROGRAM OUTPUT
------------------------------

Output from './Build test':

t/codecov/000_compile.t ...................... ok
t/codecov/get_codecov_json.t ................. ok
t/codecov/get_file_coverage.t ................ ok
t/codecov/get_file_lines.t ................... ok
t/codecov/get_file_realpath.t ................ ok
t/codecov/get_line_coverage.t ................ ok
t/codecov/get_query.t ........................ ok
t/codecov/get_request_url.t .................. ok
t/codecov/get_services.t ..................... ok
t/codecov/report.t ........................... ok
t/codecov/send_report.t ...................... ok
t/codecov/send_report_once.t ................. ok
t/codecov/service/appveyor/configuration.t ... ok
t/codecov/service/appveyor/detect.t .......... ok
t/codecov/service/bitrise/configuration.t .... ok
t/codecov/service/bitrise/detect.t ........... ok
t/codecov/service/drone/configuration.t ...... ok
t/codecov/service/drone/detect.t ............. ok
# git version 2.44.3
t/codecov/service/git/configuration.t ........ ok
t/codecov/service/git/detect.t ............... ok
t/codecov/service/git/fallback.t ............. ok
t/codecov/service/gitlab/configuration.t ..... ok
t/codecov/service/gitlab/detect.t ............ ok
t/codecov/service/mercurial/configuration.t .. ok
t/codecov/service/mercurial/detect.t ......... ok
t/codecov/service/mercurial/fallback.t ....... ok
t/codecov/service/semaphore/configuration.t .. ok
t/codecov/service/semaphore/detect.t ......... ok
t/codecov/service/shippable/configuration.t .. ok
t/codecov/service/shippable/detect.t ......... ok
t/codecov/service/travis/configuration.t ..... ok
t/codecov/service/travis/detect.t ............ ok
t/codecov/service/wercker/configuration.t .... ok
t/codecov/service/wercker/detect.t ........... ok
t/data/proj/t/00_compile.t ................... ok
t/data/proj/t/10_add.t ....................... ok
t/data/proj/t/10_div.t ....................... ok
t/data/proj_blib/t/00_compile.t .............. ok
t/data/proj_blib/t/10_add.t .................. ok
t/data/proj_blib/t/10_div.t .................. ok
All tests successful.
Files=40, Tests=70,  6 wallclock secs ( 0.12 usr  0.10 sys +  4.24 cusr  0.96 csys =  5.42 CPU)
Result: PASS

------------------------------
PREREQUISITES
------------------------------

Prerequisite modules loaded:

requires:

    Module              Need       Have      
    ------------------- ---------- ----------
    Capture::Tiny       0.30       0.50      
  ! Devel::Cover        0          n/a       
    Furl                3.07       3.14      
    IO::Socket::SSL     2.016      2.089     
    JSON::XS            3.01       4.03      
    Module::Find        0.13       0.17      
    perl                5.008001   5.041011  
    Sub::Retry          0.06       0.06      
    URI                 1.60       5.31      

build_requires:

    Module              Need       Have      
    ------------------- ---------- ----------
    Archive::Tar        2.04       3.04      
    Capture::Tiny       0.30       0.50      
    Cwd                 3.47       3.94      
    Cwd::Guard          0.04       0.05      
  ! Devel::Cover        1.20       n/a       
    File::Temp          0.2304     0.2311    
    File::Which         1.19       1.27      
    Perl::Critic        1.125      1.156     
    Test::Deep          0.117      1.205     
    Test::Exception     0.40       0.43      
    Test::Mock::Guard   0.10       0.10      
    Test::Mock::Time    v0.1.6     v0.2.1    
    Test::MockObject    1.20150527 1.20200122
    Test::More          1.001014   1.302210  
    Test::Perl::Critic  1.03       1.04      
    Test::Requires::Git 1.003      1.008     

configure_requires:

    Module              Need       Have      
    ------------------- ---------- ----------
    Module::Build::Tiny 0.035      0.051     


------------------------------
ENVIRONMENT AND OTHER CONTEXT
------------------------------

Environment variables:

    AUTOMATED_TESTING = 1
    DATE_MANIP_TEST_DM5 = 1
    LANG = en_US.UTF-8
    LC_ALL = C
    NONINTERACTIVE_TESTING = 1
    NO_NETWORK_TESTING = 1
    PATH = /export/home/cpan/bin/perl/bin:/usr/bin:/usr/sbin:/sbin:/opt/ooce/bin:/usr/gnu/bin
    PERL5LIB = 
    PERL5OPT = 
    PERL5_CPANPLUS_IS_RUNNING = 24183
    PERL5_CPAN_IS_RUNNING = 24183
    PERL_MM_USE_DEFAULT = 1
    PERL_USE_UNSAFE_INC = 1
    SHELL = /bin/bash
    TERM = screen

Perl special variables (and OS-specific diagnostics, for MSWin32):

    $^X = /export/home/cpan/bin/perl/bin/perl5.41.11
    $UID/$EUID = 101 / 101
    $GID = 1 1
    $EGID = 1 1

Perl module toolchain versions installed:

    Module              Have    
    ------------------- --------
    CPAN                2.38    
    CPAN::Meta          2.150010
    Cwd                 3.94    
    ExtUtils::CBuilder  0.280240
    ExtUtils::Command   7.74    
    ExtUtils::Install   2.22    
    ExtUtils::MakeMaker 7.74    
    ExtUtils::Manifest  1.75    
    ExtUtils::ParseXS   3.57    
    File::Spec          3.94    
    JSON                4.10    
    JSON::PP            4.16    
    Module::Build       0.4234  
    Module::Signature   0.89    
    Parse::CPAN::Meta   2.150010
    Test2               1.302210
    Test::Harness       3.50    
    Test::More          1.302210
    YAML                1.31    
    YAML::Syck          1.34    
    version             0.9933  


--

Summary of my perl5 (revision 5 version 41 subversion 11) configuration:
  Commit id: 48e45e1c6dcdf9847910666318ae1a7bf1ca0129
  Platform:
    osname=solaris
    osvers=2.11
    archname=i86pc-solaris-thread-multi-64
    uname='sunos cjg-omniosce 5.11 omnios-r151050-edfc22bf32 i86pc i386 i86pc '
    config_args='-des -Dprefix=/export/home/cpan/bin/perl -Dscriptdir=/export/home/cpan/bin/perl/bin -Dusedevel -Duse64bitall -Dcc=gcc -Duseithreads'
    hint=recommended
    useposix=true
    d_sigaction=define
    useithreads=define
    usemultiplicity=define
    use64bitint=define
    use64bitall=define
    uselongdouble=undef
    usemymalloc=n
    default_inc_excludes_dot=define
  Compiler:
    cc='gcc'
    ccflags ='-D_REENTRANT -m64 -fwrapv -fno-strict-aliasing -pipe -fstack-protector-strong -D_LARGEFILE_SOURCE -D_FILE_OFFSET_BITS=64 -D_FORTIFY_SOURCE=2'
    optimize='-O'
    cppflags='-D_REENTRANT -m64 -fwrapv -fno-strict-aliasing -pipe -fstack-protector-strong'
    ccversion=''
    gccversion='13.2.0'
    gccosandvers=''
    intsize=4
    longsize=8
    ptrsize=8
    doublesize=8
    byteorder=12345678
    doublekind=3
    d_longlong=define
    longlongsize=8
    d_longdbl=define
    longdblsize=16
    longdblkind=3
    ivtype='long'
    ivsize=8
    nvtype='double'
    nvsize=8
    Off_t='off_t'
    lseeksize=8
    alignbytes=8
    prototype=define
  Linker and Libraries:
    ld='gcc'
    ldflags =' -m64 -fstack-protector-strong -L/usr/gnu/lib '
    libpth=/opt/gcc-13/lib /usr/lib /usr/gnu/lib /usr/ccs/lib
    libs=-lpthread -lsocket -lnsl -ldl -lm -lc
    perllibs=-lpthread -lsocket -lnsl -ldl -lm -lc
    libc=/lib/libc.so
    so=so
    useshrplib=true
    libperl=libperl.so
    gnulibc_version=''
  Dynamic Linking:
    dlsrc=dl_dlopen.xs
    dlext=so
    d_dlsymun=undef
    ccdlflags='  -R /export/home/cpan/bin/perl/lib/5.41.11/i86pc-solaris-thread-multi-64/CORE'
    cccdlflags='-fPIC'
    lddlflags=' -shared -m64 -L/usr/gnu/lib -fstack-protector-strong'


Characteristics of this binary (from libperl): 
  Compile-time options:
    HAS_LONG_DOUBLE
    HAS_STRTOLD
    HAS_TIMES
    MULTIPLICITY
    PERLIO_LAYERS
    PERL_COPY_ON_WRITE
    PERL_DONT_CREATE_GVSV
    PERL_HASH_FUNC_SIPHASH13
    PERL_HASH_USE_SBOX32
    PERL_MALLOC_WRAP
    PERL_OP_PARENT
    PERL_PRESERVE_IVUV
    PERL_USE_DEVEL
    PERL_USE_SAFE_PUTENV
    USE_64_BIT_ALL
    USE_64_BIT_INT
    USE_ITHREADS
    USE_LARGE_FILES
    USE_LOCALE
    USE_LOCALE_COLLATE
    USE_LOCALE_CTYPE
    USE_LOCALE_NUMERIC
    USE_LOCALE_TIME
    USE_PERLIO
    USE_PERL_ATOF
    USE_REENTRANT_API
    USE_THREAD_SAFE_LOCALE
  Built under solaris
  Compiled at Apr 17 2025 08:22:53
  %ENV:
    PERL5LIB=""
    PERL5OPT=""
    PERL5_CPANPLUS_IS_RUNNING="24183"
    PERL5_CPAN_IS_RUNNING="24183"
    PERL_MM_USE_DEFAULT="1"
    PERL_USE_UNSAFE_INC="1"
  @INC:
    /export/home/cpan/bin/perl/lib/site_perl/5.41.11/i86pc-solaris-thread-multi-64
    /export/home/cpan/bin/perl/lib/site_perl/5.41.11
    /export/home/cpan/bin/perl/lib/5.41.11/i86pc-solaris-thread-multi-64
    /export/home/cpan/bin/perl/lib/5.41.11
    .