Module-Metadata v1.000038 Perl 5 v5.39.6 x86_64-linux-thread-multi
- Status
- Pass
- From
- Carlos Guevara
- Dist
-
Module-Metadata v1.000038
- Platform
- Perl 5 v5.39.6 x86_64-linux-thread-multi
- Date
- 2023-11-28 09:12:25
- ID
- 3f2d5d94-8dce-11ee-ada4-bd25e0ac702c
This distribution has been tested as part of the CPAN Testers
project, supporting the Perl programming language. See
http://wiki.cpantesters.org/ for more information or email
questions to cpan-testers-discuss@perl.org
--
Dear Karen Etheridge,
This is a computer-generated report for Module-Metadata-1.000038
on perl 5.39.6, created by CPAN-Reporter-1.2019.
Thank you for uploading your work to CPAN. Congratulations!
All tests were successful.
Sections of this report:
* Tester comments
* Program output
* Prerequisites
* Environment and other context
------------------------------
TESTER COMMENTS
------------------------------
Additional comments from tester:
this report is from an automated smoke testing program
and was not reviewed by a human for accuracy
------------------------------
PROGRAM OUTPUT
------------------------------
Output from '/usr/bin/make test':
PERL_DL_NONLAZY=1 "/home/cpan/bin/perl/bin/perl5.39.6" "-MExtUtils::Command::MM" "-MTest::Harness" "-e" "undef *Test::Harness::Switches; test_harness(0, 'blib/lib', 'blib/arch')" t/*.t
#
# Versions for all modules listed in MYMETA.json (including optional ones):
#
# === Configure Requires ===
#
# Module Want Have
# ------------------- ----- --------
# ExtUtils::MakeMaker any 7.70
# perl 5.006 5.039006
#
# === Build Requires ===
#
# Module Want Have
# ------------------- ---- ----
# ExtUtils::MakeMaker any 7.70
#
# === Test Requires ===
#
# Module Want Have
# ------------------- ----- --------
# Cwd any 3.90
# ExtUtils::MakeMaker any 7.70
# File::Basename any 2.86
# File::Path any 2.18
# File::Spec any 3.90
# File::Temp any 0.2311
# IO::File any 1.55
# Test::More 0.88 1.302195
# lib any 0.65
# perl 5.006 5.039006
#
# === Test Recommends ===
#
# Module Want Have
# ---------- -------- --------
# CPAN::Meta 2.120900 2.150010
#
# === Runtime Requires ===
#
# Module Want Have
# ---------- ----- --------
# Carp any 1.54
# Encode any 3.20
# Fcntl any 1.15
# File::Find any 1.44
# File::Spec any 3.90
# perl 5.006 5.039006
# strict any 1.13
# version 0.87 0.9930
# warnings any 1.67
#
# === Other Modules ===
#
# Module Have
# --------------- -------
# Encode 3.20
# File::Temp 0.2311
# JSON::PP 4.16
# Module::Runtime missing
# Pod::Coverage missing
# Sub::Name missing
# YAML missing
# autodie 2.36
#
t/00-report-prereqs.t .. ok
t/contains_pod.t ....... ok
t/encoding.t ........... ok
t/endpod.t ............. ok
# Got: '_private'
# Module contents:
# package _private;
# $::VERSION = 0.01;
# $VERSION = '999';
# Got: '_private'
# Module contents:
# package _private;
# $VERSION = '999';
# $::VERSION = 0.01;
t/extract-package.t .... ok
# parsed module: bless( {
# 'collect_pod' => undef,
# 'decode_pod' => undef,
# 'filename' => '/tmp/MMD-edARcwIq/Simple59/Simple.pm',
# 'inc' => undef,
# 'module' => 'Simple',
# 'packages' => [
# 'Simple'
# ],
# 'pod' => {},
# 'pod_headings' => [],
# 'version' => bless( {
# 'original' => '0',
# 'version' => [
# 0
# ]
# }, 'version' ),
# 'versions' => {
# 'Simple' => $VAR1->{'version'}
# }
# }, 'Module::Metadata' )
# parsed module: bless( {
# 'collect_pod' => undef,
# 'decode_pod' => undef,
# 'filename' => '/tmp/MMD-edARcwIq/Simple60/Simple.pm',
# 'inc' => undef,
# 'module' => 'Simple',
# 'packages' => [
# 'main',
# 'Simple'
# ],
# 'pod' => {},
# 'pod_headings' => [],
# 'version' => bless( {
# 'original' => '0',
# 'version' => [
# 0
# ]
# }, 'version' ),
# 'versions' => {
# 'Simple' => $VAR1->{'version'},
# 'main' => ''
# }
# }, 'Module::Metadata' )
# parsed module: bless( {
# 'collect_pod' => undef,
# 'decode_pod' => undef,
# 'filename' => '/tmp/MMD-edARcwIq/Simple62/Simple.pm',
# 'inc' => undef,
# 'module' => undef,
# 'packages' => [
# 'main'
# ],
# 'pod' => {},
# 'pod_headings' => [],
# 'version' => undef,
# 'versions' => {
# 'main' => bless( {
# 'original' => '1.23',
# 'version' => [
# 1,
# 230
# ]
# }, 'version' )
# }
# }, 'Module::Metadata' )
# parsed module: bless( {
# 'collect_pod' => undef,
# 'decode_pod' => undef,
# 'filename' => '/tmp/MMD-edARcwIq/Simple63/Simple.pm',
# 'inc' => undef,
# 'module' => undef,
# 'packages' => [
# 'main'
# ],
# 'pod' => {},
# 'pod_headings' => [],
# 'version' => undef,
# 'versions' => {
# 'main' => bless( {
# 'original' => '1.23',
# 'version' => [
# 1,
# 230
# ]
# }, 'version' )
# }
# }, 'Module::Metadata' )
t/extract-version.t .... ok
t/metadata.t ........... ok
t/taint.t .............. ok
t/version.t ............ ok
All tests successful.
Files=9, Tests=385, 1 wallclock secs ( 0.05 usr 0.03 sys + 0.65 cusr 0.17 csys = 0.90 CPU)
Result: PASS
------------------------------
PREREQUISITES
------------------------------
Prerequisite modules loaded:
requires:
Module Need Have
------------------- ----- --------
Carp 0 1.54
Encode 0 3.20
Fcntl 0 1.15
File::Find 0 1.44
File::Spec 0 3.90
perl 5.006 5.039006
strict 0 1.13
version 0.87 0.9930
warnings 0 1.67
build_requires:
Module Need Have
------------------- ----- --------
Cwd 0 3.90
ExtUtils::MakeMaker 0 7.70
File::Basename 0 2.86
File::Path 0 2.18
File::Spec 0 3.90
File::Temp 0 0.2311
IO::File 0 1.55
lib 0 0.65
Test::More 0.88 1.302195
configure_requires:
Module Need Have
------------------- ----- --------
ExtUtils::MakeMaker 0 7.70
perl 5.006 5.039006
------------------------------
ENVIRONMENT AND OTHER CONTEXT
------------------------------
Environment variables:
AUTOMATED_TESTING = 1
DATE_MANIP_TEST_DM5 = 1
LANG = C.UTF-8
LC_COLLATE = C
NONINTERACTIVE_TESTING = 1
NO_NETWORK_TESTING = 1
PATH = /home/cpan/bin/perl/bin:/usr/local/sbin:/usr/local/bin:/usr/sbin:/usr/bin:/sbin:/bin
PERL5LIB =
PERL5OPT =
PERL5_CPANPLUS_IS_RUNNING = 3223
PERL5_CPAN_IS_RUNNING = 3223
PERL_MM_USE_DEFAULT = 1
PERL_USE_UNSAFE_INC = 1
SHELL = /bin/bash
TERM = screen
Perl special variables (and OS-specific diagnostics, for MSWin32):
$^X = /home/cpan/bin/perl/bin/perl5.39.6
$UID/$EUID = 1001 / 1001
$GID = 1001 1001
$EGID = 1001 1001
Perl module toolchain versions installed:
Module Have
------------------- --------
CPAN 2.36
CPAN::Meta 2.150010
Cwd 3.90
ExtUtils::CBuilder 0.280240
ExtUtils::Command 7.70
ExtUtils::Install 2.22
ExtUtils::MakeMaker 7.70
ExtUtils::Manifest 1.75
ExtUtils::ParseXS 3.51
File::Spec 3.90
JSON n/a
JSON::PP 4.16
Module::Build 0.4234
Module::Signature n/a
Parse::CPAN::Meta 2.150010
Test2 1.302195
Test::Harness 3.48
Test::More 1.302195
YAML n/a
YAML::Syck n/a
version 0.9930
--
Summary of my perl5 (revision 5 version 39 subversion 6) configuration:
Commit id: 69a1e3a0d53b6a18f99177ab0c54f286f9a86bb2
Platform:
osname=linux
osvers=6.1.63-0-lts
archname=x86_64-linux-thread-multi
uname='linux cjg-alpine3 6.1.63-0-lts #1-alpine smp preempt_dynamic mon, 27 nov 2023 09:07:00 +0000 x86_64 linux '
config_args='-des -Dprefix=/home/cpan/bin/perl -Dscriptdir=/home/cpan/bin/perl/bin -Dusedevel -Duse64bitall -Duseithreads'
hint=recommended
useposix=true
d_sigaction=define
useithreads=define
usemultiplicity=define
use64bitint=define
use64bitall=define
uselongdouble=undef
usemymalloc=n
default_inc_excludes_dot=define
Compiler:
cc='cc'
ccflags ='-D_REENTRANT -D_GNU_SOURCE -D_GNU_SOURCE -fwrapv -fno-strict-aliasing -pipe -fstack-protector-strong -D_LARGEFILE_SOURCE -D_FILE_OFFSET_BITS=64'
optimize='-O2'
cppflags='-D_REENTRANT -D_GNU_SOURCE -D_GNU_SOURCE -fwrapv -fno-strict-aliasing -pipe -fstack-protector-strong'
ccversion=''
gccversion='12.2.1 20220924'
gccosandvers=''
intsize=4
longsize=8
ptrsize=8
doublesize=8
byteorder=12345678
doublekind=3
d_longlong=define
longlongsize=8
d_longdbl=define
longdblsize=16
longdblkind=3
ivtype='long'
ivsize=8
nvtype='double'
nvsize=8
Off_t='off_t'
lseeksize=8
alignbytes=8
prototype=define
Linker and Libraries:
ld='cc'
ldflags =' -fstack-protector-strong -L/usr/local/lib'
libpth=/usr/lib /usr/local/lib /lib
libs=-lpthread -ldb -ldl -lm -lcrypt -lutil -lc
perllibs=-lpthread -ldl -lm -lcrypt -lutil -lc
libc=/usr/lib/libc.a
so=so
useshrplib=false
libperl=libperl.a
gnulibc_version=''
Dynamic Linking:
dlsrc=dl_dlopen.xs
dlext=so
d_dlsymun=undef
ccdlflags='-Wl,-E'
cccdlflags='-fPIC'
lddlflags='-shared -O2 -L/usr/local/lib -fstack-protector-strong'
Characteristics of this binary (from libperl):
Compile-time options:
HAS_LONG_DOUBLE
HAS_STRTOLD
HAS_TIMES
MULTIPLICITY
PERLIO_LAYERS
PERL_COPY_ON_WRITE
PERL_DONT_CREATE_GVSV
PERL_HASH_FUNC_SIPHASH13
PERL_HASH_USE_SBOX32
PERL_MALLOC_WRAP
PERL_OP_PARENT
PERL_PRESERVE_IVUV
PERL_USE_DEVEL
PERL_USE_SAFE_PUTENV
USE_64_BIT_ALL
USE_64_BIT_INT
USE_ITHREADS
USE_LARGE_FILES
USE_LOCALE
USE_LOCALE_COLLATE
USE_LOCALE_CTYPE
USE_LOCALE_NUMERIC
USE_LOCALE_TIME
USE_PERLIO
USE_PERL_ATOF
USE_REENTRANT_API
USE_THREAD_SAFE_LOCALE
Built under linux
Compiled at Nov 28 2023 02:33:45
%ENV:
PERL5LIB=""
PERL5OPT=""
PERL5_CPANPLUS_IS_RUNNING="3223"
PERL5_CPAN_IS_RUNNING="3223"
PERL_MM_USE_DEFAULT="1"
PERL_USE_UNSAFE_INC="1"
@INC:
/home/cpan/bin/perl/lib/site_perl/5.39.6/x86_64-linux-thread-multi
/home/cpan/bin/perl/lib/site_perl/5.39.6
/home/cpan/bin/perl/lib/5.39.6/x86_64-linux-thread-multi
/home/cpan/bin/perl/lib/5.39.6
.