Report for Data-Util-0.65

Back
From: metabase:user:320bfe00-2aae-11df-837a-5e0a49663a4f
Subject: PASS Data-Util-0.65 v5.22.3 RC2 GNU/Linux
Date: 2016-08-06T01:15:22Z

This distribution has been tested as part of the CPAN Testers
project, supporting the Perl programming language.  See
http://wiki.cpantesters.org/ for more information or email
questions to cpan-testers-discuss@perl.org


--
Dear Syohei Yoshida,

This is a computer-generated report for Data-Util-0.65
on perl 5.22.3, created by CPAN-Reporter-1.2018.

Thank you for uploading your work to CPAN.  Congratulations!
All tests were successful.

Sections of this report:

    * Tester comments
    * Program output
    * Prerequisites
    * Environment and other context

------------------------------
TESTER COMMENTS
------------------------------

Additional comments from tester:

this report is from an automated smoke testing program
and was not reviewed by a human for accuracy

------------------------------
PROGRAM OUTPUT
------------------------------

Output from './Build test':

# Testing Data::Util 0.65 (XS)
t/00_load.t .................. ok
# Testing XS
t/01_refs.t .................. ok
t/02_inst.t .................. ok
t/03_gen.t ................... ok
t/04_overloaded.t ............ ok
t/05_get_stash.t ............. ok
t/06_subroutine.t ............ ok
t/08_mgvars.t ................ ok
Can't locate package A for @Bar::ISA during global destruction.
Can't locate package A for @Bar::ISA during global destruction.
t/09_paranoia.t .............. ok
t/10_neat.t .................. ok
t/11_fail_handler.t .......... ok
t/12_in_attr_handler.t ....... skipped: This test is for old perls
t/13_optlist.t ............... ok
t/14_uninst_subr.t ........... ok
t/15_curry.t ................. ok
t/16_modify.t ................ ok
t/17_nsclean.t ............... ok
t/18_is_value.t .............. ok
t/19_multiple_modifiers.t .... ok
t/20_lexical_sub.t ........... ok
t/21_get_code_ref.t .......... ok
t/22_install2.t .............. ok
t/23_largeargs.t ............. ok
t/24_eval_in_modifiers.t ..... ok
t/pp00_load.t ................ ok
# Testing PurePerl
t/pp01_refs.t ................ ok
t/pp02_inst.t ................ ok
t/pp03_gen.t ................. ok
t/pp04_overloaded.t .......... ok
t/pp05_get_stash.t ........... ok
t/pp06_subroutine.t .......... ok
t/pp08_mgvars.t .............. ok
t/pp10_neat.t ................ ok
t/pp11_fail_handler.t ........ ok
t/pp12_in_attr_handler.t ..... skipped: This test is for old perls
t/pp13_optlist.t ............. ok
t/pp14_uninst_subr.t ......... ok
t/pp15_curry.t ............... ok
t/pp16_modify.t .............. ok
t/pp17_nsclean.t ............. ok
t/pp18_is_value.t ............ ok
t/pp19_multiple_modifiers.t .. ok
t/pp20_lexical_sub.t ......... ok
t/pp21_get_code_ref.t ........ ok
t/pp22_install2.t ............ ok
t/pp23_largeargs.t ........... ok
t/pp24_eval_in_modifiers.t ... ok
All tests successful.
Files=47, Tests=1141,  3 wallclock secs ( 0.14 usr  0.40 sys +  1.81 cusr  0.43 csys =  2.78 CPU)
Result: PASS

------------------------------
PREREQUISITES
------------------------------

Prerequisite modules loaded:

requires:

    Module                        Need   Have    
    ----------------------------- ------ --------
    perl                          5.010  5.022003
    XSLoader                      0.02   0.22    

build_requires:

    Module                        Need   Have    
    ----------------------------- ------ --------
    Devel::PPPort                 3.19   3.31    
    ExtUtils::CBuilder            0      0.280224
    ExtUtils::MakeMaker           6.59   7.20    
    ExtUtils::ParseXS             3.18   3.28    
    Hash::Util::FieldHash::Compat 0      0.11    
    Scope::Guard                  0      0.21    
    Test::Exception               0.27   0.43    
    Test::More                    0.62   1.302049

configure_requires:

    Module                        Need   Have    
    ----------------------------- ------ --------
    Module::Build                 0.4005 0.4218  
    Module::Build::XSUtil         0.03   0.16    


------------------------------
ENVIRONMENT AND OTHER CONTEXT
------------------------------

Environment variables:

    AUTOMATED_TESTING = 1
    LANG = C
    PATH = /home/sand/bin:/usr/local/bin:/usr/bin:/bin:/usr/games:/usr/local/perl/bin:/usr/X11/bin:/sbin:/usr/sbin
    PERL5LIB = 
    PERL5OPT = 
    PERL5_CPANPLUS_IS_RUNNING = 31660
    PERL5_CPAN_IS_RUNNING = 31660
    PERL_CANARY_STABILITY_NOPROMPT = 1
    PERL_MM_USE_DEFAULT = 1
    SHELL = /usr/bin/zsh
    TERM = screen

Perl special variables (and OS-specific diagnostics, for MSWin32):

    $^X = /tmp/basesmoker-reloperl-m58z/bin/perl
    $UID/$EUID = 1005 / 1005
    $GID = 1005 1005
    $EGID = 1005 1005

Perl module toolchain versions installed:

    Module              Have      
    ------------------- ----------
    CPAN                2.15      
    CPAN::Meta          2.150005  
    Cwd                 3.62      
    ExtUtils::CBuilder  0.280224  
    ExtUtils::Command   7.20      
    ExtUtils::Install   2.04      
    ExtUtils::MakeMaker 7.20      
    ExtUtils::Manifest  1.70      
    ExtUtils::ParseXS   3.28      
    File::Spec          3.62      
    JSON                2.90      
    JSON::PP            2.27300_01
    Module::Build       0.4218    
    Module::Signature   0.80      
    Parse::CPAN::Meta   1.4422    
    Test::Harness       3.36      
    Test::More          1.302049  
    YAML                1.18      
    YAML::Syck          1.29      
    version             0.9909    


--

Summary of my perl5 (revision 5 version 22 subversion 3) configuration:
  Commit id: afe4e8012bc2950a810d822e442d32c328ed05c3
  Platform:
    osname=linux, osvers=4.6.0-1-amd64, archname=x86_64-linux-thread-multi-ld
    uname='linux k93x64sid 4.6.0-1-amd64 #1 smp debian 4.6.2-2 (2016-06-25) x86_64 gnulinux '
    config_args='-Dprefix=/home/sand/src/perl/repoperls/installed-perls/host/k93x64sid/v5.22.3-RC2/a3f9 -Dmyhostname=k93x64sid -Dinstallusrbinperl=n -Uversiononly -Dusedevel -des -Ui_db -Dlibswanted=cl pthread socket inet nsl gdbm dbm malloc dl ld sun m crypt sec util c cposix posix ucb BSD gdbm_compat -Duseithreads -Duselongdouble -DDEBUGGING=-g'
    hint=recommended, useposix=true, d_sigaction=define
    useithreads=define, usemultiplicity=define
    use64bitint=define, use64bitall=define, uselongdouble=define
    usemymalloc=n, bincompat5005=undef
  Compiler:
    cc='cc', ccflags ='-D_REENTRANT -D_GNU_SOURCE -fwrapv -fno-strict-aliasing -pipe -fstack-protector-strong -I/usr/local/include -D_LARGEFILE_SOURCE -D_FILE_OFFSET_BITS=64',
    optimize='-O2 -g',
    cppflags='-D_REENTRANT -D_GNU_SOURCE -fwrapv -fno-strict-aliasing -pipe -fstack-protector-strong -I/usr/local/include'
    ccversion='', gccversion='6.1.1 20160802', gccosandvers=''
    intsize=4, longsize=8, ptrsize=8, doublesize=8, byteorder=12345678, doublekind=3
    d_longlong=define, longlongsize=8, d_longdbl=define, longdblsize=16, longdblkind=3
    ivtype='long', ivsize=8, nvtype='long double', nvsize=16, Off_t='off_t', lseeksize=8
    alignbytes=16, prototype=define
  Linker and Libraries:
    ld='cc', ldflags =' -fstack-protector-strong -L/usr/local/lib'
    libpth=/usr/local/lib /usr/lib/gcc/x86_64-linux-gnu/6/include-fixed /usr/include/x86_64-linux-gnu /usr/lib /lib/x86_64-linux-gnu /lib/../lib /usr/lib/x86_64-linux-gnu /usr/lib/../lib /lib
    libs=-lpthread -lnsl -ldl -lm -lcrypt -lutil -lc
    perllibs=-lpthread -lnsl -ldl -lm -lcrypt -lutil -lc
    libc=libc-2.23.so, so=so, useshrplib=false, libperl=libperl.a
    gnulibc_version='2.23'
  Dynamic Linking:
    dlsrc=dl_dlopen.xs, dlext=so, d_dlsymun=undef, ccdlflags='-Wl,-E'
    cccdlflags='-fPIC', lddlflags='-shared -O2 -g -L/usr/local/lib -fstack-protector-strong'


Characteristics of this binary (from libperl): 
  Compile-time options: HAS_TIMES MULTIPLICITY PERLIO_LAYERS
                        PERL_DONT_CREATE_GVSV
                        PERL_HASH_FUNC_ONE_AT_A_TIME_HARD
                        PERL_IMPLICIT_CONTEXT PERL_MALLOC_WRAP
                        PERL_NEW_COPY_ON_WRITE PERL_PRESERVE_IVUV
                        PERL_USE_DEVEL USE_64_BIT_ALL USE_64_BIT_INT
                        USE_ITHREADS USE_LARGE_FILES USE_LOCALE
                        USE_LOCALE_COLLATE USE_LOCALE_CTYPE
                        USE_LOCALE_NUMERIC USE_LOCALE_TIME USE_LONG_DOUBLE
                        USE_PERLIO USE_PERL_ATOF USE_REENTRANT_API
  Locally applied patches:
	RC2
  Built under linux
  Compiled at Aug  5 2016 19:34:10
  %ENV:
    PERL5LIB=""
    PERL5OPT=""
    PERL5_CPANPLUS_IS_RUNNING="31660"
    PERL5_CPAN_IS_RUNNING="31660"
    PERL_CANARY_STABILITY_NOPROMPT="1"
    PERL_MM_USE_DEFAULT="1"
  @INC:
    /home/sand/src/perl/repoperls/installed-perls/host/k93x64sid/v5.22.3-RC2/a3f9/lib/site_perl/5.22.3/x86_64-linux-thread-multi-ld
    /home/sand/src/perl/repoperls/installed-perls/host/k93x64sid/v5.22.3-RC2/a3f9/lib/site_perl/5.22.3
    /home/sand/src/perl/repoperls/installed-perls/host/k93x64sid/v5.22.3-RC2/a3f9/lib/5.22.3/x86_64-linux-thread-multi-ld
    /home/sand/src/perl/repoperls/installed-perls/host/k93x64sid/v5.22.3-RC2/a3f9/lib/5.22.3
    .