FormValidator-Lite v0.41 Perl 5 v5.32.1 i386-openbsd

Status
Pass
From
Alceu Rodrigues de Freitas Junior
Dist
FormValidator-Lite v0.41
Platform
Perl 5 v5.32.1 i386-openbsd
Date
2022-06-15 01:05:28
ID
3f35c6c0-ec47-11ec-b737-db65ffa5fe2c
This distribution has been tested as part of the CPAN Testers
project, supporting the Perl programming language.  See
http://wiki.cpantesters.org/ for more information or email
questions to cpan-testers-discuss@perl.org


--
Dear Shohei Yoshida,

This is a computer-generated report for FormValidator-Lite-0.41
on perl 5.32.1, created by CPAN-Reporter-1.2018.

Thank you for uploading your work to CPAN.  Congratulations!
All tests were successful.

Sections of this report:

    * Tester comments
    * Program output
    * Prerequisites
    * Environment and other context

------------------------------
TESTER COMMENTS
------------------------------

Additional comments from tester:

this report is from an automated smoke testing program
and was not reviewed by a human for accuracy

------------------------------
PROGRAM OUTPUT
------------------------------

Output from './Build test':

t/00_compile.t ................................... ok
t/010_core/001_simple.t .......................... ok
t/010_core/002_get_error_message.t ............... ok
t/010_core/003_get_error_messages.t .............. ok
t/010_core/004_hashkey.t ......................... ok
t/010_core/005_messages.t ........................ ok
t/010_core/006_not_null.t ........................ ok
t/010_core/007_integrate_with_plack.t ............ ok
t/010_core/008_get_error_messages_from_param.t ... ok
t/010_core/009_zero_regex.t ...................... ok
t/010_core/010_my_own_constraint.t ............... ok
t/010_core/011_messages.t ........................ ok
t/010_core/012_multivalue.t ...................... ok
t/010_core/013_build_message.t ................... ok
t/010_core/014_hash.t ............................ ok
t/010_core/015_hash_multivalue.t ................. ok
t/020_constraints/001_default.t .................. ok
t/020_constraints/002_japanese.t ................. ok
t/020_constraints/003_url.t ...................... ok
t/020_constraints/004_email.t .................... ok
t/020_constraints/005_date.t ..................... ok
t/020_constraints/006_file-plack.t ............... ok
t/020_constraints/006_file.t ..................... ok
t/020_constraints/007_choice.t ................... ok
t/020_constraints/008_time.t ..................... ok
t/020_constraints/009_number.t ................... ok
t/030_upload/001_cgi.t ........................... ok
t/030_upload/002_he.t ............................ skipped: Test requires module 'HTTP::Engine' but it's not found
t/030_upload/003_special.t ....................... ok
t/030_upload/004_plack.t ......................... ok
t/999_regression/001_break_arguments_in_check.t .. ok
t/999_regression/002_empty_form.t ................ skipped: Test requires module 'HTML::Shakan' but it's not found
t/999_regression/003_break_multivalue_hash.t ..... ok
All tests successful.
Files=33, Tests=199,  7 wallclock secs ( 0.14 usr  0.13 sys +  4.49 cusr  2.12 csys =  6.88 CPU)
Result: PASS

------------------------------
PREREQUISITES
------------------------------

Prerequisite modules loaded:

requires:

    Module                Need                                        Have    
    --------------------- ------------------------------------------- --------
    Class::Accessor::Lite 0.05                                        0.08    
    Class::Load           0.11                                        0.25    
    Email::Valid          0                                           1.203   
    Email::Valid::Loose   0                                           0.05    
    Filter::Util::Call    0                                           1.59    
    perl                  5.008001                                    5.032001
    Scalar::Util          1.19                                        1.62    

build_requires:

    Module                Need                                        Have    
    --------------------- ------------------------------------------- --------
    CGI                   >= 3.31, != 4.05, != 4.06, != 4.07, != 4.08 4.54    
    Test::Base::Less      0                                           0.13    
    Test::More            0.98                                        1.302190
    Test::Requires        0.05                                        0.10    
    YAML                  0                                           1.30    

configure_requires:

    Module                Need                                        Have    
    --------------------- ------------------------------------------- --------
    Module::Build::Tiny   0.035                                       0.039   

opt_build_requires:

    Module                Need                                        Have    
    --------------------- ------------------------------------------- --------
    Hash::MultiValue      0                                           0.16    


------------------------------
ENVIRONMENT AND OTHER CONTEXT
------------------------------

Environment variables:

    AUTOMATED_TESTING = 1
    PATH = /home/goku/perl5/bin:/usr/bin:/bin:/usr/sbin:/sbin:/usr/X11R6/bin:/usr/local/bin:/usr/local/sbin
    PERL5LIB = /home/goku/perl5/lib/perl5
    PERL5OPT = 
    PERL5_CPANPLUS_IS_RUNNING = 69177
    PERL5_CPAN_IS_RUNNING = 69177
    PERL5_CPAN_IS_RUNNING_IN_RECURSION = 6441,69177
    PERL_CR_SMOKER_CURRENT = FormValidator-Lite-0.41
    PERL_EXTUTILS_AUTOINSTALL = --defaultdeps
    PERL_LOCAL_LIB_ROOT = /home/goku/perl5
    PERL_MB_OPT = --install_base "/home/goku/perl5"
    PERL_MM_OPT = INSTALL_BASE=/home/goku/perl5
    PERL_MM_USE_DEFAULT = 1
    PERL_USE_UNSAFE_INC = 1
    SHELL = /bin/ksh
    TERM = xterm-256color

Perl special variables (and OS-specific diagnostics, for MSWin32):

    $^X = /usr/bin/perl
    $UID/$EUID = 1001 / 1001
    $GID = 1002 1002 1001
    $EGID = 1002 1002 1001

Perl module toolchain versions installed:

    Module              Have    
    ------------------- --------
    CPAN                2.34    
    CPAN::Meta          2.150010
    Cwd                 3.78    
    ExtUtils::CBuilder  0.280236
    ExtUtils::Command   7.65_01 
    ExtUtils::Install   2.20    
    ExtUtils::MakeMaker 7.65_01 
    ExtUtils::Manifest  1.72    
    ExtUtils::ParseXS   3.44    
    File::Spec          3.78    
    JSON                4.06    
    JSON::PP            4.09    
    Module::Build       0.4231  
    Module::Signature   n/a     
    Parse::CPAN::Meta   2.150010
    Test::Harness       3.44    
    Test::More          1.302190
    YAML                1.30    
    YAML::Syck          1.34    
    version             0.9924  


--

Summary of my perl5 (revision 5 version 32 subversion 1) configuration:
   
  Platform:
    osname=openbsd
    osvers=7.1
    archname=i386-openbsd
    uname='openbsd'
    config_args='-dse -Dopenbsd_distribution=defined -Dmksymlinks'
    hint=recommended
    useposix=true
    d_sigaction=define
    useithreads=undef
    usemultiplicity=undef
    use64bitint=undef
    use64bitall=undef
    uselongdouble=undef
    usemymalloc=n
    default_inc_excludes_dot=define
    bincompat5005=undef
  Compiler:
    cc='cc'
    ccflags ='-DNO_LOCALE_NUMERIC -DNO_LOCALE_COLLATE -fno-strict-aliasing -fno-delete-null-pointer-checks -pipe -fstack-protector-strong -I/usr/local/include'
    optimize='-O2'
    cppflags='-DBIG_TIME -DNO_LOCALE_NUMERIC -DNO_LOCALE_COLLATE -fno-strict-aliasing -fno-delete-null-pointer-checks -pipe -fstack-protector-strong -I/usr/local/include'
    ccversion=''
    gccversion='OpenBSD Clang 13.0.0'
    gccosandvers=''
    intsize=4
    longsize=4
    ptrsize=4
    doublesize=8
    byteorder=1234
    doublekind=3
    d_longlong=define
    longlongsize=8
    d_longdbl=define
    longdblsize=12
    longdblkind=3
    ivtype='long'
    ivsize=4
    nvtype='double'
    nvsize=8
    Off_t='off_t'
    lseeksize=8
    alignbytes=4
    prototype=define
  Linker and Libraries:
    ld='cc'
    ldflags ='-Wl,-E  -fstack-protector-strong -L/usr/local/lib'
    libpth=/usr/lib /usr/lib/clang/13.0.0/lib /usr/lib
    libs=-lm -lc
    perllibs=-lm -lc
    libc=/usr/lib/libc.so.96.1
    so=so
    useshrplib=true
    libperl=libperl.so.22.0
    gnulibc_version=''
  Dynamic Linking:
    dlsrc=dl_dlopen.xs
    dlext=so
    d_dlsymun=undef
    ccdlflags='-Wl,-R/usr/libdata/perl5/i386-openbsd/CORE'
    cccdlflags='-DPIC -fpic '
    lddlflags='-shared -fpic  -fstack-protector-strong -L/usr/local/lib'


Characteristics of this binary (from libperl): 
  Compile-time options:
    HAS_TIMES
    PERLIO_LAYERS
    PERL_COPY_ON_WRITE
    PERL_DONT_CREATE_GVSV
    PERL_MALLOC_WRAP
    PERL_OP_PARENT
    PERL_PRESERVE_IVUV
    USE_LARGE_FILES
    USE_LOCALE
    USE_LOCALE_CTYPE
    USE_LOCALE_TIME
    USE_PERLIO
    USE_PERL_ATOF
  Built under openbsd
  %ENV:
    PERL5LIB="/home/goku/perl5/lib/perl5"
    PERL5OPT=""
    PERL5_CPANPLUS_IS_RUNNING="69177"
    PERL5_CPAN_IS_RUNNING="69177"
    PERL5_CPAN_IS_RUNNING_IN_RECURSION="6441,69177"
    PERL_CR_SMOKER_CURRENT="FormValidator-Lite-0.41"
    PERL_EXTUTILS_AUTOINSTALL="--defaultdeps"
    PERL_LOCAL_LIB_ROOT="/home/goku/perl5"
    PERL_MB_OPT="--install_base "/home/goku/perl5""
    PERL_MM_OPT="INSTALL_BASE=/home/goku/perl5"
    PERL_MM_USE_DEFAULT="1"
    PERL_USE_UNSAFE_INC="1"
  @INC:
    /home/goku/perl5/lib/perl5/i386-openbsd
    /home/goku/perl5/lib/perl5
    /usr/local/libdata/perl5/site_perl/i386-openbsd
    /usr/local/libdata/perl5/site_perl
    /usr/libdata/perl5/i386-openbsd
    /usr/libdata/perl5
    .