Report for Spreadsheet-ParseExcel-Simple-1.04

Back
From: metabase:user:e3434da8-b236-11df-85ca-0247c6d74bde
Subject: UNKNOWN Spreadsheet-ParseExcel-Simple-1.04 v5.8.9 GNU/Linux
Date: 2010-11-15T18:22:04Z

This distribution has been tested as part of the CPAN Testers
project, supporting the Perl programming language.  See
http://wiki.cpantesters.org/ for more information or email
questions to cpan-testers-discuss@perl.org


--
Dear Tony Bowden,

This is a computer-generated report for Spreadsheet-ParseExcel-Simple-1.04
on perl 5.8.9, created by CPAN-Reporter-1.1805.

Thank you for uploading your work to CPAN.  However, attempting to
test your distribution gave an inconclusive result.

This could be because your distribution had an error during the make/build
stage, did not define tests, tests could not be found, because your tests were
interrupted before they finished, or because the results of the tests could not
be parsed.  You may wish to consult the CPAN Testers Wiki:

http://wiki.cpantesters.org/wiki/CPANAuthorNotes

Sections of this report:

    * Tester comments
    * Program output
    * Prerequisites
    * Environment and other context

------------------------------
TESTER COMMENTS
------------------------------

Additional comments from tester:

this report is from an automated smoke testing program
and was not reviewed by a human for accuracy

------------------------------
PROGRAM OUTPUT
------------------------------

Output from '/usr/bin/make test':

PERL_DL_NONLAZY=1 /home/ack/testing/perl-5.8.9/bin/perl "-MExtUtils::Command::MM" "-e" "test_harness(0, 'blib/lib', 'blib/arch')" t/*.t
t/01.t ............ skipped: tests need Spreadsheet::WriteExcel::Simple 1.03 + File::Temp
t/02.t ............ skipped: Need Spreadsheet::WriteExcel for this test
t/pod-coverage.t .. skipped: Test::Pod::Coverage 1.00 required for testing POD coverage
t/pod.t ........... skipped: Test::Pod 1.00 required for testing POD
Files=4, Tests=0,  0 wallclock secs ( 0.04 usr  0.02 sys +  0.25 cusr  0.05 csys =  0.36 CPU)
Result: NOTESTS

------------------------------
PREREQUISITES
------------------------------

Prerequisite modules loaded:

requires:

    Module                  Need Have
    ----------------------- ---- ----
    Spreadsheet::ParseExcel 0.18 0.58
    Test::More              0.01 0.96


------------------------------
ENVIRONMENT AND OTHER CONTEXT
------------------------------

Environment variables:

    AUTOMATED_TESTING = 1
    LANG = en_US.utf8
    LC_COLLATE = C
    PATH = /home/ack/perl5/bin:/home/ack/bin:/home/ack/lisp/plt/bin:/usr/bin/mh:/home/ack/bin:/usr/local/bin:/usr/bin:/bin:/usr/local/games:/usr/games:/usr/games:/usr/lib/surfraw:/var/lib/gems/1.9.1/bin
    PERL5LIB = /home/ack/testing/perl-5.8.9/.cpan/build/Spreadsheet-ParseExcel-0.58-TO3c9A/blib/arch:/home/ack/testing/perl-5.8.9/.cpan/build/Spreadsheet-ParseExcel-0.58-TO3c9A/blib/lib:/home/ack/testing/perl-5.8.9/.cpan/build/OLE-Storage_Lite-0.19-8HU0Zp/blib/arch:/home/ack/testing/perl-5.8.9/.cpan/build/OLE-Storage_Lite-0.19-8HU0Zp/blib/lib:/home/ack/testing/perl-5.8.9/.cpan/build/IO-stringy-2.110-XPuEOn/blib/arch:/home/ack/testing/perl-5.8.9/.cpan/build/IO-stringy-2.110-XPuEOn/blib/lib
    PERL5OPT = 
    PERL5_CPANPLUS_IS_RUNNING = 32181
    PERL5_CPAN_IS_RUNNING = 32181
    PERL5_MINISMOKEBOX = 0.30
    PERL_EXTUTILS_AUTOINSTALL = --defaultdeps
    PERL_MM_USE_DEFAULT = 1
    SHELL = /bin/bash
    TERM = screen-bce

Perl special variables (and OS-specific diagnostics, for MSWin32):

    $^X = /home/ack/testing/perl-5.8.9/bin/perl
    $UID/$EUID = 1000 / 1000
    $GID = 1000 20 24 25 29 30 44 46 100 102 106 112 114 1000
    $EGID = 1000 20 24 25 29 30 44 46 100 102 106 112 114 1000

Perl module toolchain versions installed:

    Module              Have   
    ------------------- -------
    CPAN                1.9402 
    Cwd                 3.29   
    ExtUtils::CBuilder  0.2703 
    ExtUtils::Command   1.15   
    ExtUtils::Install   1.50_01
    ExtUtils::MakeMaker 6.48   
    ExtUtils::Manifest  1.55   
    ExtUtils::ParseXS   2.2206 
    File::Spec          3.29   
    Module::Build       0.3607 
    Module::Signature   n/a    
    Test::Harness       3.22   
    Test::More          0.96   
    YAML                0.72   
    YAML::Syck          1.15   
    version             n/a    


--

Summary of my perl5 (revision 5 version 8 subversion 9) configuration:
  Platform:
    osname=linux, osvers=2.6.34-0.slh.9-sidux-amd64, archname=x86_64-linux
    uname='linux verona 2.6.34-0.slh.9-sidux-amd64 #1 smp preempt sat jun 12 23:27:41 utc 2010 x86_64 gnulinux '
    config_args='-D prefix=/home/ack/testing/perl-5.8.9'
    hint=recommended, useposix=true, d_sigaction=define
    usethreads=undef use5005threads=undef useithreads=undef usemultiplicity=undef
    useperlio=define d_sfio=undef uselargefiles=define usesocks=undef
    use64bitint=define use64bitall=define uselongdouble=undef
    usemymalloc=n, bincompat5005=undef
  Compiler:
    cc='cc', ccflags ='-fno-strict-aliasing -pipe -I/usr/local/include -D_LARGEFILE_SOURCE -D_FILE_OFFSET_BITS=64',
    optimize='-O2',
    cppflags='-fno-strict-aliasing -pipe -I/usr/local/include'
    ccversion='', gccversion='4.4.5 20100909 (prerelease)', gccosandvers=''
    intsize=4, longsize=8, ptrsize=8, doublesize=8, byteorder=12345678
    d_longlong=define, longlongsize=8, d_longdbl=define, longdblsize=16
    ivtype='long', ivsize=8, nvtype='double', nvsize=8, Off_t='off_t', lseeksize=8
    alignbytes=8, prototype=define
  Linker and Libraries:
    ld='cc', ldflags =' -L/usr/local/lib'
    libpth=/usr/local/lib /lib /usr/lib /lib64 /usr/lib64
    libs=-lnsl -lgdbm -ldb -ldl -lm -lcrypt -lutil -lc
    perllibs=-lnsl -ldl -lm -lcrypt -lutil -lc
    libc=/lib/libc-2.11.1.so, so=so, useshrplib=false, libperl=libperl.a
    gnulibc_version='2.11.1'
  Dynamic Linking:
    dlsrc=dl_dlopen.xs, dlext=so, d_dlsymun=undef, ccdlflags='-Wl,-E'
    cccdlflags='-fPIC', lddlflags='-shared -O2 -L/usr/local/lib'


Characteristics of this binary (from libperl): 
  Compile-time options: PERL_MALLOC_WRAP USE_64_BIT_ALL USE_64_BIT_INT
                        USE_FAST_STDIO USE_LARGE_FILES USE_PERLIO
  Built under linux
  Compiled at Oct 25 2010 22:59:01
  %ENV:
    PERL5LIB="/home/ack/testing/perl-5.8.9/.cpan/build/Spreadsheet-ParseExcel-0.58-TO3c9A/blib/arch:/home/ack/testing/perl-5.8.9/.cpan/build/Spreadsheet-ParseExcel-0.58-TO3c9A/blib/lib:/home/ack/testing/perl-5.8.9/.cpan/build/OLE-Storage_Lite-0.19-8HU0Zp/blib/arch:/home/ack/testing/perl-5.8.9/.cpan/build/OLE-Storage_Lite-0.19-8HU0Zp/blib/lib:/home/ack/testing/perl-5.8.9/.cpan/build/IO-stringy-2.110-XPuEOn/blib/arch:/home/ack/testing/perl-5.8.9/.cpan/build/IO-stringy-2.110-XPuEOn/blib/lib"
    PERL5OPT=""
    PERL5_CPANPLUS_IS_RUNNING="32181"
    PERL5_CPAN_IS_RUNNING="32181"
    PERL5_MINISMOKEBOX="0.30"
    PERL_EXTUTILS_AUTOINSTALL="--defaultdeps"
    PERL_MM_USE_DEFAULT="1"
  @INC:
    /home/ack/testing/perl-5.8.9/.cpan/build/Spreadsheet-ParseExcel-0.58-TO3c9A/blib/arch
    /home/ack/testing/perl-5.8.9/.cpan/build/Spreadsheet-ParseExcel-0.58-TO3c9A/blib/lib
    /home/ack/testing/perl-5.8.9/.cpan/build/OLE-Storage_Lite-0.19-8HU0Zp/blib/arch
    /home/ack/testing/perl-5.8.9/.cpan/build/OLE-Storage_Lite-0.19-8HU0Zp/blib/lib
    /home/ack/testing/perl-5.8.9/.cpan/build/IO-stringy-2.110-XPuEOn/blib/arch
    /home/ack/testing/perl-5.8.9/.cpan/build/IO-stringy-2.110-XPuEOn/blib/lib
    /home/ack/testing/perl-5.8.9/lib/5.8.9/x86_64-linux
    /home/ack/testing/perl-5.8.9/lib/5.8.9
    /home/ack/testing/perl-5.8.9/lib/site_perl/5.8.9/x86_64-linux
    /home/ack/testing/perl-5.8.9/lib/site_perl/5.8.9
    .