Report for Task-Template-Benchmark-1.00_05

Back
From: metabase:user:320bfe00-2aae-11df-837a-5e0a49663a4f
Subject: PASS Task-Template-Benchmark-1.00_05 v5.13.6 GNU/Linux
Date: 2010-11-11T21:18:36Z

This distribution has been tested as part of the CPAN Testers
project, supporting the Perl programming language.  See
http://wiki.cpantesters.org/ for more information or email
questions to cpan-testers-discuss@perl.org


--
Dear Sam Graham,

This is a computer-generated report for Task-Template-Benchmark-1.00_05
on perl 5.13.6, created by CPAN-Reporter-1.1803.

Thank you for uploading your work to CPAN.  Congratulations!
All tests were successful.

Sections of this report:

    * Tester comments
    * Program output
    * Prerequisites
    * Environment and other context

------------------------------
TESTER COMMENTS
------------------------------

Additional comments from tester:

this report is from an automated smoke testing program
and was not reviewed by a human for accuracy

------------------------------
PROGRAM OUTPUT
------------------------------

Output from './Build test':

# Testing Task::Template::Benchmark 1.00_05, Perl 5.013006, /home/src/perl/repoperls/installed-perls/perl/v5.13.6-397-g523a494/bin/perl
t/00-load.t ....... ok
t/manifest.t ...... skipped: Author tests not required for installation
t/pod-coverage.t .. ok
t/pod.t ........... ok
All tests successful.
Files=4, Tests=3,  0 wallclock secs ( 0.03 usr  0.00 sys +  0.15 cusr  0.02 csys =  0.20 CPU)
Result: PASS

------------------------------
PREREQUISITES
------------------------------

Prerequisite modules loaded:

requires:

    Module                        Need        Have    
    ----------------------------- ----------- --------
    Cache::Cache                  0           1.06    
    Cache::CacheFactory           0           1.10    
    Cache::FastMemoryCache        0           0.01    
    Cache::FastMmap               0           1.36    
  ! Cache::Ref                    0           n/a     
    CHI                           0           0.36    
    Data::MessagePack             0.34        0.34    
    File::Spec                    0           3.33    
    HTML::Macro                   0           1.29    
    HTML::Mason                   0           1.45    
    HTML::Template                0           2.9     
  ! HTML::Template::Compiled      0           n/a     
    HTML::Template::Expr          0           0.07    
    HTML::Template::JIT           0           0.05    
    HTML::Template::Pro           0           0.9504  
    IO::File                      0           1.14    
    JSON::Any                     0           1.24    
    Mojo                          0           0       
    Mojo::Template                0           0       
    NTS::Template                 0           2.1     
    Parse::Template               0           3.07    
    Solution                      0.000000004 0.0004  
    Template                      0           2.22    
  ! Template::Alloy               0           n/a     
    Template::Benchmark           0           1.09    
  ! Template::Parser::CET         0           n/a     
    Template::Sandbox             0           1.04    
    Template::Stash::XS           0           0       
    Template::Tiny                0           0.11    
    Tenjin                        0.05        0.062   
  ! Term::ProgressBar::Simple     0           n/a     
    Text::ClearSilver             0           0.10.5.4
    Text::Clevery                 0           0.0003  
  ! Text::MicroMason              0           n/a     
    Text::MicroTemplate           0           0.18    
    Text::MicroTemplate::Extended 0           0.12    
    Text::Template                0           1.45    
    Text::Template::Simple        0           0.82    
    Text::Tmpl                    0           0.33    
    Text::Xslate                  0.2012      0.2014  
    Text::Xslate::Bridge::TT2     1.0002      1.0002  

build_requires:

    Module                        Need        Have    
    ----------------------------- ----------- --------
    Module::Build                 0.36        0.36_17 
    Test::More                    0           0.97_01 

configure_requires:

    Module                        Need        Have    
    ----------------------------- ----------- --------
    Module::Build                 0.36        0.36_17 


------------------------------
ENVIRONMENT AND OTHER CONTEXT
------------------------------

Environment variables:

    AUTOMATED_TESTING = 1
    LANG = en_US.UTF-8
    PATH = /home/sand/bin:/usr/local/bin:/usr/bin:/bin:/usr/bin/X11:/usr/games:/usr/local/perl/bin:/usr/X11/bin:/sbin:/usr/sbin
    PERL5LIB = 
    PERL5OPT = 
    PERL5_CPANPLUS_IS_RUNNING = 28369
    PERL5_CPAN_IS_RUNNING = 28369
    PERL_MM_USE_DEFAULT = 1
    SHELL = /usr/bin/zsh
    TERM = screen

Perl special variables (and OS-specific diagnostics, for MSWin32):

    $^X = /home/src/perl/repoperls/installed-perls/perl/v5.13.6-397-g523a494/bin/perl
    $UID/$EUID = 1001 / 1001
    $GID = 1001 1001
    $EGID = 1001 1001

Perl module toolchain versions installed:

    Module              Have   
    ------------------- -------
    CPAN                1.94_62
    Cwd                 3.34   
    ExtUtils::CBuilder  0.2703 
    ExtUtils::Command   1.16   
    ExtUtils::Install   1.55   
    ExtUtils::MakeMaker 6.57_05
    ExtUtils::Manifest  1.58   
    ExtUtils::ParseXS   2.2207 
    File::Spec          3.33   
    Module::Build       0.36_17
    Module::Signature   0.66   
    Test::Harness       3.22   
    Test::More          0.97_01
    YAML                0.72   
    YAML::Syck          1.15   
    version             0.82   


--

Summary of my perl5 (revision 5 version 13 subversion 6) configuration:
  Commit id: 523a494eb3412a908c247f751f623e722b0c2d40
  Platform:
    osname=linux, osvers=2.6.32-5-amd64, archname=x86_64-linux
    uname='linux k81 2.6.32-5-amd64 #1 smp sat oct 30 14:18:21 utc 2010 x86_64 gnulinux '
    config_args='-Dprefix=/home/src/perl/repoperls/installed-perls/perl/v5.13.6-397-g523a494 -Dinstallusrbinperl=n -Uversiononly -Dusedevel -des -Ui_db -Uuseithreads -Uuselongdouble'
    hint=recommended, useposix=true, d_sigaction=define
    useithreads=undef, usemultiplicity=undef
    useperlio=define, d_sfio=undef, uselargefiles=define, usesocks=undef
    use64bitint=define, use64bitall=define, uselongdouble=undef
    usemymalloc=n, bincompat5005=undef
  Compiler:
    cc='cc', ccflags ='-fno-strict-aliasing -pipe -fstack-protector -I/usr/local/include -D_LARGEFILE_SOURCE -D_FILE_OFFSET_BITS=64',
    optimize='-O2',
    cppflags='-fno-strict-aliasing -pipe -fstack-protector -I/usr/local/include'
    ccversion='', gccversion='4.4.5', gccosandvers=''
    intsize=4, longsize=8, ptrsize=8, doublesize=8, byteorder=12345678
    d_longlong=define, longlongsize=8, d_longdbl=define, longdblsize=16
    ivtype='long', ivsize=8, nvtype='double', nvsize=8, Off_t='off_t', lseeksize=8
    alignbytes=8, prototype=define
  Linker and Libraries:
    ld='cc', ldflags =' -fstack-protector -L/usr/local/lib'
    libpth=/usr/local/lib /lib /usr/lib /lib64 /usr/lib64
    libs=-lnsl -lgdbm -ldb -ldl -lm -lcrypt -lutil -lc -lgdbm_compat
    perllibs=-lnsl -ldl -lm -lcrypt -lutil -lc
    libc=/lib/libc-2.11.2.so, so=so, useshrplib=false, libperl=libperl.a
    gnulibc_version='2.11.2'
  Dynamic Linking:
    dlsrc=dl_dlopen.xs, dlext=so, d_dlsymun=undef, ccdlflags='-Wl,-E'
    cccdlflags='-fPIC', lddlflags='-shared -O2 -L/usr/local/lib -fstack-protector'


Characteristics of this binary (from libperl): 
  Compile-time options: PERL_DONT_CREATE_GVSV PERL_MALLOC_WRAP PERL_USE_DEVEL
                        USE_64_BIT_ALL USE_64_BIT_INT USE_LARGE_FILES
                        USE_PERLIO USE_PERL_ATOF
  Built under linux
  Compiled at Nov  6 2010 21:39:23
  %ENV:
    PERL5LIB=""
    PERL5OPT=""
    PERL5_CPANPLUS_IS_RUNNING="28369"
    PERL5_CPAN_IS_RUNNING="28369"
    PERL_MM_USE_DEFAULT="1"
  @INC:
    /home/src/perl/repoperls/installed-perls/perl/v5.13.6-397-g523a494/lib/site_perl/5.13.6/x86_64-linux
    /home/src/perl/repoperls/installed-perls/perl/v5.13.6-397-g523a494/lib/site_perl/5.13.6
    /home/src/perl/repoperls/installed-perls/perl/v5.13.6-397-g523a494/lib/5.13.6/x86_64-linux
    /home/src/perl/repoperls/installed-perls/perl/v5.13.6-397-g523a494/lib/5.13.6
    .