Report for XML-SemanticDiff-1.0000

Back
From: metabase:user:20a45eae-6c1a-1014-abaf-4bc2b30e56df
Subject: PASS XML-SemanticDiff-1.0000 v5.12.3 Windows (Cygwin)
Date: 2011-01-24T02:43:17Z

This distribution has been tested as part of the CPAN Testers
project, supporting the Perl programming language.  See
http://wiki.cpantesters.org/ for more information or email
questions to cpan-testers-discuss@perl.org


--
Dear Shlomi Fish,

This is a computer-generated report for XML-SemanticDiff-1.0000
on perl 5.12.3, created by CPAN-Reporter-1.1900.

Thank you for uploading your work to CPAN.  Congratulations!
All tests were successful.

Sections of this report:

    * Tester comments
    * Program output
    * Prerequisites
    * Environment and other context

------------------------------
TESTER COMMENTS
------------------------------

Additional comments from tester:

this report is from an automated smoke testing program
and was not reviewed by a human for accuracy

------------------------------
PROGRAM OUTPUT
------------------------------

Output from './Build test':

t/01basic.t ........................... ok
t/02load_xml.t ........................ ok
t/03simple_compare.t .................. ok
t/04namespaces.t ...................... ok
t/05simple_handler.t .................. ok
t/06pass_to_handler.t ................. ok
t/07pitest.t .......................... ok
t/08nonexist_ns.t ..................... ok
t/09two-tags.t ........................ ok
t/10wide-chars.t ...................... ok
t/11tag-in-different-locations.t ...... ok
t/12missing-element-has-o-as-cdata.t .. ok
t/13to-doc-read.t ..................... ok
t/14ignore_xpath.t .................... ok
t/15ignore_multi.t .................... ok
t/pod-coverage.t ...................... ok
t/pod.t ............................... ok
All tests successful.
Files=17, Tests=31, 27 wallclock secs ( 1.59 usr  0.17 sys +  4.75 cusr  4.88 csys = 11.39 CPU)
Result: PASS

------------------------------
PREREQUISITES
------------------------------

Prerequisite modules loaded:

requires:

    Module        Need  Have    
    ------------- ----- --------
    Digest::MD5   0     2.51    
    Encode        0     2.42    
    perl          5.006 5.012003
    XML::Parser   0     2.40    

configure_requires:

    Module        Need  Have    
    ------------- ----- --------
    Module::Build 0.34  0.3607  


------------------------------
ENVIRONMENT AND OTHER CONTEXT
------------------------------

Environment variables:

    AUTHOR_TEST = 1
    AUTHOR_TESTING = 1
    AUTHOR_TESTS = 1
    AUTOMATED_TESTING = 1
    COMSPEC = C:\WINDOWS\system32\cmd.exe
    NUMBER_OF_PROCESSORS = 4
    PATH = /opt/perl/inst/perl-5.12.3-cygwin-thread/local/bin:/opt/perl/inst/perl-5.12.3-cygwin-thread/bin:/usr/local/bin:/usr/bin
    PERL5LIB = /opt/perl/inst/perl-5.12.3-cygwin-thread/local/lib/site_perl:/opt/perl/inst/perl-5.12.3-cygwin-thread/local/lib/perl5:/opt/perl/inst/perl-5.12.3-cygwin-thread/local/lib
    PERL5OPT = 
    PERL5_CPANPLUS_IS_RUNNING = 2148
    PERL5_CPAN_IS_RUNNING = 2148
    PERL_CORE_MINITEST = 1
    PERL_EXTUTILS_AUTOINSTALL = 1
    PERL_MM_USE_DEFAULT = 1
    PERL_TEST_CRITIC = 1
    PROCESSOR_IDENTIFIER = x86 Family 6 Model 37 Stepping 5, GenuineIntel
    TEMP = /cygdrive/c/DOCUME~1/ospja/LOKALE~1/Temp
    TERM = cygwin

Perl special variables (and OS-specific diagnostics, for MSWin32):

    $^X = /opt/perl/inst/perl-5.12.3-cygwin-thread/bin/perl5.12.3
    $UID/$EUID = 22755 / 22755
    $GID = 10513 544 545 555 43588 44771 44776 47153 45205 10513 51781 18818 43044 30568 43061 36594 18761 56667 12652 12669 12778 42734 20077 51528 11073 51645 61702 17963 51289 43366 55368 57206 20667 20955 49381 50556 23333 65644 65646 51916 51926 51837 45099 30321 49625 31369 45094
    $EGID = 10513 544 545 555 43588 44771 44776 47153 45205 10513 51781 18818 43044 30568 43061 36594 18761 56667 12652 12669 12778 42734 20077 51528 11073 51645 61702 17963 51289 43366 55368 57206 20667 20955 49381 50556 23333 65644 65646 51916 51926 51837 45099 30321 49625 31369 45094

Perl module toolchain versions installed:

    Module              Have    
    ------------------- --------
    CPAN                1.94_56 
    Cwd                 3.33    
    ExtUtils::CBuilder  0.280201
    ExtUtils::Command   1.16    
    ExtUtils::Install   1.55    
    ExtUtils::MakeMaker 6.56    
    ExtUtils::Manifest  1.58    
    ExtUtils::ParseXS   2.2206  
    File::Spec          3.33    
    Module::Build       0.3607  
    Module::Signature   0.66    
    Test::Harness       3.22    
    Test::More          0.96    
    YAML                n/a     
    YAML::Syck          1.17    
    version             0.88    


--

Summary of my perl5 (revision 5 version 12 subversion 3) configuration:
   
  Platform:
    osname=cygwin, osvers=1.7.7(0.23053), archname=cygwin-thread
    uname='cygwin_nt-5.1 los116 1.7.7(0.23053) 2010-08-31 09:58 i686 cygwin '
    config_args='-de -Dcc=gcc -Dprefix=/opt/perl/inst/perl-5.12.3-cygwin-thread -Dperladmin=pjacklam@online.no -Dusedevel -Dmksymlinks -Dusethreads -Uusemultiplicity -Uuse64bitint'
    hint=recommended, useposix=true, d_sigaction=define
    useithreads=define, usemultiplicity=undef
    useperlio=define, d_sfio=undef, uselargefiles=define, usesocks=undef
    use64bitint=undef, use64bitall=undef, uselongdouble=undef
    usemymalloc=y, bincompat5005=undef
  Compiler:
    cc='gcc', ccflags ='-DPERL_USE_SAFE_PUTENV -U__STRICT_ANSI__ -fno-strict-aliasing -pipe -fstack-protector',
    optimize='-O3',
    cppflags='-DPERL_USE_SAFE_PUTENV -U__STRICT_ANSI__ -fno-strict-aliasing -pipe -fstack-protector'
    ccversion='', gccversion='4.3.4 20090804 (release) 1', gccosandvers=''
    intsize=4, longsize=4, ptrsize=4, doublesize=8, byteorder=1234
    d_longlong=define, longlongsize=8, d_longdbl=define, longdblsize=12
    ivtype='long', ivsize=4, nvtype='double', nvsize=8, Off_t='off_t', lseeksize=8
    alignbytes=8, prototype=define
  Linker and Libraries:
    ld='g++', ldflags =' -Wl,--enable-auto-import -Wl,--export-all-symbols -Wl,--stack,8388608 -Wl,--enable-auto-image-base -fstack-protector -L/usr/local/lib'
    libpth=/usr/local/lib /usr/lib /lib
    libs=-lgdbm -ldb -ldl -lcrypt -lgdbm_compat
    perllibs=-ldl -lcrypt
    libc=/usr/lib/libc.a, so=dll, useshrplib=true, libperl=cygperl5_12_3.dll
    gnulibc_version=''
  Dynamic Linking:
    dlsrc=dl_dlopen.xs, dlext=dll, d_dlsymun=undef, ccdlflags=' '
    cccdlflags=' ', lddlflags=' --shared  -Wl,--enable-auto-import -Wl,--export-all-symbols -Wl,--stack,8388608 -Wl,--enable-auto-image-base -L/usr/local/lib -fstack-protector'


Characteristics of this binary (from libperl): 
  Compile-time options: MULTIPLICITY MYMALLOC PERL_DONT_CREATE_GVSV
                        PERL_IMPLICIT_CONTEXT PERL_MALLOC_WRAP PERL_USE_DEVEL
                        PERL_USE_SAFE_PUTENV USE_ITHREADS USE_LARGE_FILES
                        USE_PERLIO USE_PERL_ATOF USE_REENTRANT_API
  Built under cygwin
  Compiled at Jan 22 2011 21:56:56
  %ENV:
    PERL5LIB="/opt/perl/inst/perl-5.12.3-cygwin-thread/local/lib/site_perl:/opt/perl/inst/perl-5.12.3-cygwin-thread/local/lib/perl5:/opt/perl/inst/perl-5.12.3-cygwin-thread/local/lib"
    PERL5OPT=""
    PERL5_CPANPLUS_IS_RUNNING="2148"
    PERL5_CPAN_IS_RUNNING="2148"
    PERL_CORE_MINITEST="1"
    PERL_EXTUTILS_AUTOINSTALL="1"
    PERL_MM_USE_DEFAULT="1"
    PERL_TEST_CRITIC="1"
    CYGWIN="codepage:utf8 nodosfilewarning"
  @INC:
    /opt/perl/inst/perl-5.12.3-cygwin-thread/local/lib/site_perl/5.12.3/cygwin-thread
    /opt/perl/inst/perl-5.12.3-cygwin-thread/local/lib/site_perl/5.12.3
    /opt/perl/inst/perl-5.12.3-cygwin-thread/local/lib/site_perl
    /opt/perl/inst/perl-5.12.3-cygwin-thread/local/lib/perl5/cygwin-thread
    /opt/perl/inst/perl-5.12.3-cygwin-thread/local/lib/perl5
    /opt/perl/inst/perl-5.12.3-cygwin-thread/local/lib/5.12.3/cygwin-thread
    /opt/perl/inst/perl-5.12.3-cygwin-thread/local/lib/5.12.3
    /opt/perl/inst/perl-5.12.3-cygwin-thread/local/lib
    /opt/perl/inst/perl-5.12.3-cygwin-thread/lib/site_perl/5.12.3/cygwin-thread
    /opt/perl/inst/perl-5.12.3-cygwin-thread/lib/site_perl/5.12.3
    /opt/perl/inst/perl-5.12.3-cygwin-thread/lib/5.12.3/cygwin-thread
    /opt/perl/inst/perl-5.12.3-cygwin-thread/lib/5.12.3
    .