Report for DBIx-Skinny-0.0742

Back
From: metabase:user:9820532a-708b-1014-9a05-b18a96298da1
Subject: PASS DBIx-Skinny-0.0742 v5.15.3 GNU/Linux
Date: 2011-10-02T11:47:04Z

This distribution has been tested as part of the CPAN Testers
project, supporting the Perl programming language.  See
http://wiki.cpantesters.org/ for more information or email
questions to cpan-testers-discuss@perl.org


--
Dear Atsushi Kobayashi,

This is a computer-generated report for DBIx-Skinny-0.0742
on perl 5.15.3, created by CPAN-Reporter-1.2002.

Thank you for uploading your work to CPAN.  Congratulations!
All tests were successful.

Sections of this report:

    * Tester comments
    * Program output
    * Prerequisites
    * Environment and other context

------------------------------
TESTER COMMENTS
------------------------------

Additional comments from tester:

this report is from an automated smoke testing program
and was not reviewed by a human for accuracy

------------------------------
PROGRAM OUTPUT
------------------------------

Output from '/usr/bin/make test':

PERL_DL_NONLAZY=1 /home/bri/perl5/perlbrew/perls/perl-5.15.3-ld/bin/perl5.15.3 "-MExtUtils::Command::MM" "-e" "test_harness(0, 'inc', 'blib/lib', 'blib/arch')" t/*.t t/*/*.t t/*/*/*.t
# DBD::SQLite versin is 1.34_01
t/001_basic/001_compile.t ............................................... ok
t/001_basic/002_schema_info.t ........................................... ok
t/001_basic/003_explicit_schema.t ....................................... ok
t/001_basic/004_sql.t ................................................... ok
t/001_basic/005_set_columns.t ........................................... ok
t/001_basic/006_all_in_one_file.t ....................................... ok
t/001_basic/007_connect_info.t .......................................... ok
t/001_basic/008_mixin.t ................................................. ok
t/001_basic/009_no_check_schema.t ....................................... ok
t/001_basic/010_dbh.t ................................................... ok
t/001_basic/011_inflate.t ............................................... ok
t/001_basic/012_trigger.t ............................................... ok
t/001_basic/013_common_trigger.t ........................................ ok
t/001_basic/014_utf8.t .................................................. ok
t/001_basic/015_row_class.t ............................................. ok
t/001_basic/016_row_exception.t ......................................... ok
t/001_basic/017_profile.t ............................................... ok
t/001_basic/018_custom_profiler.t ....................................... ok
t/001_basic/019_profiler_trace.t ........................................ ok
t/001_basic/020_on_connect_do.t ......................................... ok
t/001_basic/021_reconnect.t ............................................. ok
t/001_basic/022_transaction.t ........................................... ok
t/001_basic/023_bulk_insert.t ........................................... ok
t/001_basic/024_bind_column.t ........................................... ok
t/002_common/000_new.t .................................................. ok
t/002_common/001_insert.t ............................................... ok
t/002_common/002_update.t ............................................... ok
t/002_common/003_delete.t ............................................... ok
t/002_common/004_find_or_create.t ....................................... ok
t/002_common/005_count.t ................................................ ok
t/002_common/006_single.t ............................................... ok
t/002_common/007_search.t ............................................... ok
t/002_common/008_search_named.t ......................................... ok
t/002_common/009_search_by_sql.t ........................................ ok
t/002_common/010_resultset.t ............................................ ok
t/002_common/011_do.t ................................................... ok
t/002_common/012_replace.t .............................................. ok
t/002_common/014_find_or_new.t .......................................... ok
t/002_common/015_data2row.t ............................................. ok
t/002_common/016_hash_to_row.t .......................................... ok
t/002_common/017_iterator.t ............................................. ok
t/002_common/018_refetch.t .............................................. ok
t/002_common/019_get_columns.t .......................................... ok
t/002_common/020_get_column.t ........................................... ok
t/002_common/021_quote.t ................................................ ok
t/002_common/022_disconnect.t ........................................... ok
t/002_common/023_multi_pk.t ............................................. ok
t/002_common/024_txn_scope.t ............................................ ok
t/002_common/999_delete_by_sql.t ........................................ ok
t/002_common/999_update_by_sql.t ........................................ ok
t/500_deprecated/001_deprecated_setup.t ................................. ok
t/500_deprecated/002_deprecated_profiler.t .............................. ok
t/999_regression/bind_param.t ........................................... ok
t/999_regression/data2itr_objectarray.t ................................. ok
t/999_regression/dbh_and_txn_manager.t .................................. ok
t/999_regression/deflate_bug.t .......................................... ok
t/999_regression/deflate_scalarref.t .................................... ok
t/999_regression/duplicate_update.t ..................................... ok
t/999_regression/empty_update.t ......................................... ok
t/999_regression/get_row_class.t ........................................ ok
t/999_regression/guess_table_name.t ..................................... ok
t/999_regression/loose_connect_options_after_new.t ...................... ok
t/999_regression/new_attr.t ............................................. ok
t/999_regression/no_schema.t ............................................ ok
t/999_regression/prepare_error_handling.t ............................... ok
t/999_regression/row_update_by_scalarref.t .............................. ok
t/999_regression/transaction/call_txn_scope_after_fork.t ................ ok
t/999_regression/transaction/call_txn_scope_after_missing_connect.t ..... ok
t/999_regression/transaction/call_txn_scope_and_fork.t .................. ok
t/999_regression/transaction/call_txn_scope_before_fork.t ............... ok
t/999_regression/transaction/call_txn_scope_before_fork_and_rollback.t .. ok
t/999_regression/where_condition_in.t ................................... ok
All tests successful.
Files=72, Tests=280, 12 wallclock secs ( 0.28 usr  0.08 sys +  6.14 cusr  0.68 csys =  7.18 CPU)
Result: PASS

------------------------------
PREREQUISITES
------------------------------

Prerequisite modules loaded:

requires:

    Module                   Need Have   
    ------------------------ ---- -------
    Carp                     0    1.23   
    Class::Accessor::Lite    0    0.05   
    Class::Load              0    0.10   
    DBI                      0    1.616  
    DBIx::TransactionManager 1.07 1.09   
    IO::Handle               0    1.33   
    Scalar::Util             0    1.23   
    Try::Tiny                0    0.11   
    UNIVERSAL::require       0    0.13   

build_requires:

    Module                   Need Have   
    ------------------------ ---- -------
    ExtUtils::MakeMaker      6.42 6.61_01
    Test::More               0.96 0.98   
    Test::SharedFork         0.15 0.16   

configure_requires:

    Module                   Need Have   
    ------------------------ ---- -------
    ExtUtils::MakeMaker      6.42 6.61_01


------------------------------
ENVIRONMENT AND OTHER CONTEXT
------------------------------

Environment variables:

    AUTOMATED_TESTING = 1
    LANG = C
    LANGUAGE = en_GB:en
    LC_ALL = C
    PATH = /home/bri/bin:/home/bri/perl5/perlbrew/bin:/home/bri/perl5/perlbrew/perls/perl-5.15.3-ld/bin:~/bin:/usr/local/sbin:/usr/local/bin:/usr/sbin:/usr/bin:/sbin:/bin:/usr/games
    PATH_WITHOUT_PERLBREW = ~/bin:/usr/local/sbin:/usr/local/bin:/usr/sbin:/usr/bin:/sbin:/bin:/usr/games
    PERL5LIB = 
    PERL5OPT = 
    PERL5_CPANPLUS_IS_RUNNING = 10818
    PERL5_CPAN_IS_RUNNING = 10818
    PERL5_CPAN_IS_RUNNING_IN_RECURSION = 1885,10818
    PERLBREW_HOME = /home/bri/.perlbrew
    PERLBREW_PATH = /home/bri/perl5/perlbrew/bin:/home/bri/perl5/perlbrew/perls/perl-5.15.3-ld/bin
    PERLBREW_PERL = perl-5.15.3-ld
    PERLBREW_ROOT = /home/bri/perl5/perlbrew
    PERLBREW_VERSION = 0.29
    PERL_CPANM_OPT = --prompt --mirror http://172.16.1.3/cpan/
    PERL_CR_SMOKER_CURRENT = DBIx-Skinny-Pager-0.11
    PERL_EXTUTILS_AUTOINSTALL = --defaultdeps
    PERL_MM_USE_DEFAULT = 1
    SHELL = /bin/bash
    TERM = linux

Perl special variables (and OS-specific diagnostics, for MSWin32):

    $^X = /home/bri/perl5/perlbrew/perls/perl-5.15.3-ld/bin/perl5.15.3
    $UID/$EUID = 1000 / 1000
    $GID = 1000 4 20 24 46 112 120 122 1000
    $EGID = 1000 4 20 24 46 112 120 122 1000

Perl module toolchain versions installed:

    Module              Have    
    ------------------- --------
    CPAN                1.9800  
    CPAN::Meta          2.112621
    Cwd                 3.37    
    ExtUtils::CBuilder  0.280204
    ExtUtils::Command   1.17    
    ExtUtils::Install   1.57    
    ExtUtils::MakeMaker 6.61_01 
    ExtUtils::Manifest  1.60    
    ExtUtils::ParseXS   3.04_04 
    File::Spec          3.34    
    JSON                2.53    
    JSON::PP            2.27200 
    Module::Build       0.39_01 
    Module::Signature   n/a     
    Parse::CPAN::Meta   1.4401  
    Test::Harness       3.23    
    Test::More          0.98    
    YAML                0.77    
    YAML::Syck          n/a     
    version             0.94    


--

Summary of my perl5 (revision 5 version 15 subversion 3) configuration:
   
  Platform:
    osname=linux, osvers=2.6.38-11-generic, archname=i686-linux-ld
    uname='linux lappy 2.6.38-11-generic #48-ubuntu smp fri jul 29 19:05:14 utc 2011 i686 i686 i386 gnulinux '
    config_args='-de -Dprefix=/home/bri/perl5/perlbrew/perls/perl-5.15.3-ld -Duselongdouble -Dusedevel'
    hint=recommended, useposix=true, d_sigaction=define
    useithreads=undef, usemultiplicity=undef
    useperlio=define, d_sfio=undef, uselargefiles=define, usesocks=undef
    use64bitint=undef, use64bitall=undef, uselongdouble=define
    usemymalloc=n, bincompat5005=undef
  Compiler:
    cc='cc', ccflags ='-fno-strict-aliasing -pipe -fstack-protector -I/usr/local/include -D_LARGEFILE_SOURCE -D_FILE_OFFSET_BITS=64',
    optimize='-O2',
    cppflags='-fno-strict-aliasing -pipe -fstack-protector -I/usr/local/include'
    ccversion='', gccversion='4.5.2', gccosandvers=''
    intsize=4, longsize=4, ptrsize=4, doublesize=8, byteorder=1234
    d_longlong=define, longlongsize=8, d_longdbl=define, longdblsize=12
    ivtype='long', ivsize=4, nvtype='long double', nvsize=12, Off_t='off_t', lseeksize=8
    alignbytes=4, prototype=define
  Linker and Libraries:
    ld='cc', ldflags =' -fstack-protector -L/usr/local/lib'
    libpth=/usr/local/lib /lib /usr/lib /usr/lib/i386-linux-gnu /usr/lib64
    libs=-lnsl -ldl -lm -lcrypt -lutil -lc
    perllibs=-lnsl -ldl -lm -lcrypt -lutil -lc
    libc=, so=so, useshrplib=false, libperl=libperl.a
    gnulibc_version='2.13'
  Dynamic Linking:
    dlsrc=dl_dlopen.xs, dlext=so, d_dlsymun=undef, ccdlflags='-Wl,-E'
    cccdlflags='-fPIC', lddlflags='-shared -O2 -L/usr/local/lib -fstack-protector'


Characteristics of this binary (from libperl): 
  Compile-time options: HAS_TIMES PERLIO_LAYERS PERL_DONT_CREATE_GVSV
                        PERL_MALLOC_WRAP PERL_PRESERVE_IVUV PERL_USE_DEVEL
                        USE_LARGE_FILES USE_LOCALE USE_LOCALE_COLLATE
                        USE_LOCALE_CTYPE USE_LOCALE_NUMERIC USE_LONG_DOUBLE
                        USE_PERLIO USE_PERL_ATOF
  Built under linux
  Compiled at Oct  1 2011 14:44:24
  %ENV:
    PERL5LIB=""
    PERL5OPT=""
    PERL5_CPANPLUS_IS_RUNNING="10818"
    PERL5_CPAN_IS_RUNNING="10818"
    PERL5_CPAN_IS_RUNNING_IN_RECURSION="1885,10818"
    PERLBREW_HOME="/home/bri/.perlbrew"
    PERLBREW_PATH="/home/bri/perl5/perlbrew/bin:/home/bri/perl5/perlbrew/perls/perl-5.15.3-ld/bin"
    PERLBREW_PERL="perl-5.15.3-ld"
    PERLBREW_ROOT="/home/bri/perl5/perlbrew"
    PERLBREW_VERSION="0.29"
    PERL_CPANM_OPT="--prompt --mirror http://172.16.1.3/cpan/"
    PERL_CR_SMOKER_CURRENT="DBIx-Skinny-Pager-0.11"
    PERL_EXTUTILS_AUTOINSTALL="--defaultdeps"
    PERL_MM_USE_DEFAULT="1"
  @INC:
    /home/bri/perl5/perlbrew/perls/perl-5.15.3-ld/lib/site_perl/5.15.3/i686-linux-ld
    /home/bri/perl5/perlbrew/perls/perl-5.15.3-ld/lib/site_perl/5.15.3
    /home/bri/perl5/perlbrew/perls/perl-5.15.3-ld/lib/5.15.3/i686-linux-ld
    /home/bri/perl5/perlbrew/perls/perl-5.15.3-ld/lib/5.15.3
    .