HTML-Rebase v0.05 Perl 5 v5.10.1 x86_64-linux-thread-multi

Status
Pass
From
David Cantrell (DCANTRELL)
Dist
HTML-Rebase v0.05
Platform
Perl 5 v5.10.1 x86_64-linux-thread-multi
Date
2018-12-03 16:05:26
ID
3f810e8a-f715-11e8-9439-402e7347484a
This distribution has been tested as part of the CPAN Testers
project, supporting the Perl programming language.  See
http://wiki.cpantesters.org/ for more information or email
questions to cpan-testers-discuss@perl.org


--
Dear Max Maischein,

This is a computer-generated report for HTML-Rebase-0.05
on perl 5.10.1, created by CPAN-Reporter-1.2018.

Thank you for uploading your work to CPAN.  Congratulations!
All tests were successful.

Sections of this report:

    * Tester comments
    * Program output
    * Prerequisites
    * Environment and other context

------------------------------
TESTER COMMENTS
------------------------------

Additional comments from tester:

this report is from an automated smoke testing program
and was not reviewed by a human for accuracy

------------------------------
PROGRAM OUTPUT
------------------------------

Output from '/usr/bin/make test':

PERL_DL_NONLAZY=1 "/home/david/cpantesting/perl-5.10.1/bin/perl" "-MExtUtils::Command::MM" "-MTest::Harness" "-e" "undef *Test::Harness::Switches; test_harness(0, 'blib/lib', 'blib/arch')" t/00-load.t t/01-synopsis.t t/02-quotes.t t/03-base.t t/04-case.t t/05-rebase-css.t t/06-relative-url.t
# Testing HTML::Rebase 0.05, Perl 5.010001
# AutoLoader 5.68
# Carp 1.50
# Config <unknown>
# Cwd 3.3
# DynaLoader 1.10
# Encode 2.98
# Encode::Alias 2.24
# Encode::Config 2.05
# Encode::Encoding 2.08
# Encode::MIME::Name 1.03
# Exporter 5.63
# Exporter::Heavy 5.63
# ExtUtils::Liblist 7.34
# ExtUtils::Liblist::Kid 7.34
# ExtUtils::MM 7.34
# ExtUtils::MM_Any 7.34
# ExtUtils::MM_Unix 7.34
# ExtUtils::MY 7.34
# ExtUtils::MakeMaker 7.34
# ExtUtils::MakeMaker::Config 7.34
# ExtUtils::MakeMaker::Locale 7.34
# ExtUtils::MakeMaker::version 7.34
# Fcntl 1.06
# File::Basename 2.77
# File::Glob 1.06
# File::Path 2.16
# File::Spec 3.3
# File::Spec::Unix 3.3
# FileHandle 2.02
# HTML::Rebase 0.05
# I18N::Langinfo 0.02
# IO 1.25
# IO::File 1.14
# IO::Handle 1.28
# IO::Seekable 1.1
# List::Util 1.5
# POSIX 1.17
# PerlIO 1.06
# Scalar::Util 1.5
# SelectSaver 1.02
# Storable 2.20
# Symbol 1.07
# Test::Builder 1.302141
# Test::Builder::Formatter 1.302141
# Test::Builder::Module 1.302141
# Test::Builder::TodoDiag 1.302141
# Test::More 1.302141
# Test2::API 1.302141
# Test2::API::Context 1.302141
# Test2::API::Instance 1.302141
# Test2::API::Stack 1.302141
# Test2::Event 1.302141
# Test2::Event::Bail 1.302141
# Test2::Event::Diag 1.302141
# Test2::Event::Exception 1.302141
# Test2::Event::Fail 1.302141
# Test2::Event::Note 1.302141
# Test2::Event::Ok 1.302141
# Test2::Event::Pass 1.302141
# Test2::Event::Plan 1.302141
# Test2::Event::Skip 1.302141
# Test2::Event::Subtest 1.302141
# Test2::Event::V2 1.302141
# Test2::Event::Waiting 1.302141
# Test2::EventFacet 1.302141
# Test2::EventFacet::About 1.302141
# Test2::EventFacet::Amnesty 1.302141
# Test2::EventFacet::Assert 1.302141
# Test2::EventFacet::Control 1.302141
# Test2::EventFacet::Error 1.302141
# Test2::EventFacet::Hub 1.302141
# Test2::EventFacet::Info 1.302141
# Test2::EventFacet::Meta 1.302141
# Test2::EventFacet::Parent 1.302141
# Test2::EventFacet::Plan 1.302141
# Test2::EventFacet::Trace 1.302141
# Test2::Formatter 1.302141
# Test2::Formatter::TAP 1.302141
# Test2::Hub 1.302141
# Test2::Hub::Interceptor 1.302141
# Test2::Hub::Interceptor::Terminator 1.302141
# Test2::Hub::Subtest 1.302141
# Test2::Util 1.302141
# Test2::Util::ExternalMeta 1.302141
# Test2::Util::Facets2Legacy 1.302141
# Test2::Util::HashBase 1.302141
# Test2::Util::Trace 1.302141
# Tie::Hash 1.03
# URI 1.71
# URI::Escape 3.31
# URI::URL 5.04
# URI::WithBase 2.20
# XSLoader 0.24
# base 2.14
# bytes 1.03
# constant 1.17
# feature 1.13
# mro 1.01
# overload 1.07
# overloading 0.01
# parent 0.237
# re 0.09
# strict 1.04
# vars 1.01
# version 0.9917
# version::regex 0.9917
# version::vxs 0.9917
# warnings 1.06
# warnings::register 1.01
t/00-load.t .......... ok
t/01-synopsis.t ...... ok
t/02-quotes.t ........ ok
t/03-base.t .......... ok
t/04-case.t .......... ok
t/05-rebase-css.t .... ok
t/06-relative-url.t .. ok
All tests successful.
Files=7, Tests=12,  2 wallclock secs ( 0.02 usr  0.04 sys +  0.32 cusr  0.07 csys =  0.45 CPU)
Result: PASS

------------------------------
PREREQUISITES
------------------------------

Prerequisite modules loaded:

requires:

    Module              Need  Have    
    ------------------- ----- --------
    Carp                0     1.50    
    Exporter            5     5.63    
    perl                5.006 5.010001
    URI::URL            0     5.04    
    URI::WithBase       0     2.20    

build_requires:

    Module              Need  Have    
    ------------------- ----- --------
    ExtUtils::MakeMaker 0     7.34    
    Test::More          0     1.302141

configure_requires:

    Module              Need  Have    
    ------------------- ----- --------
    ExtUtils::MakeMaker 0     7.34    


------------------------------
ENVIRONMENT AND OTHER CONTEXT
------------------------------

Environment variables:

    AUTOMATED_TESTING = 1
    NONINTERACTIVE_TESTING = 1
    PATH = /usr/local/bin:/usr/bin:/bin:/usr/local/games:/usr/games
    PERL = 5.10.1
    PERL5LIB = 
    PERL5OPT = 
    PERL5_CPANPLUS_IS_RUNNING = 28787
    PERL5_CPAN_IS_RUNNING = 28787
    PERLVER = 5.10.1
    PERL_INLINE_DIRECTORY = /home/david/.Inline-5.10.1
    PERL_MM_USE_DEFAULT = 1
    PERL_USE_UNSAFE_INC = 0
    SHELL = /bin/bash
    TERM = screen

Perl special variables (and OS-specific diagnostics, for MSWin32):

    $^X = /home/david/cpantesting/perl-5.10.1/bin/perl
    $UID/$EUID = 1000 / 1000
    $GID = 1000 1000
    $EGID = 1000 1000

Perl module toolchain versions installed:

    Module              Have    
    ------------------- --------
    CPAN                1.9402  
    CPAN::Meta          2.143240
    Cwd                 3.30    
    ExtUtils::CBuilder  0.280224
    ExtUtils::Command   7.34    
    ExtUtils::Install   2.06    
    ExtUtils::MakeMaker 7.34    
    ExtUtils::Manifest  1.70    
    ExtUtils::ParseXS   3.35    
    File::Spec          3.30    
    JSON                2.90    
    JSON::PP            2.27400 
    Module::Build       0.4224  
    Module::Signature   n/a     
    Parse::CPAN::Meta   1.4414  
    Test::Harness       3.42    
    Test::More          1.302141
    YAML                1.18    
    YAML::Syck          n/a     
    version             0.9917  


--

Summary of my perl5 (revision 5 version 10 subversion 1) configuration:
   
  Platform:
    osname=linux, osvers=3.16.0-4-amd64, archname=x86_64-linux-thread-multi
    uname='linux pigsty.barnyard.co.uk 3.16.0-4-amd64 #1 smp debian 3.16.36-1+deb8u1 (2016-09-03) x86_64 gnulinux '
    config_args='-de -Duse64bitall -Dusethreads -Dprefix=/home/david/cpantesting/perl-5.10.1'
    hint=recommended, useposix=true, d_sigaction=define
    useithreads=define, usemultiplicity=define
    useperlio=define, d_sfio=undef, uselargefiles=define, usesocks=undef
    use64bitint=define, use64bitall=define, uselongdouble=undef
    usemymalloc=n, bincompat5005=undef
  Compiler:
    cc='cc', ccflags ='-D_REENTRANT -D_GNU_SOURCE -fno-strict-aliasing -pipe -fstack-protector -I/usr/local/include -D_LARGEFILE_SOURCE -D_FILE_OFFSET_BITS=64',
    optimize='-O2',
    cppflags='-D_REENTRANT -D_GNU_SOURCE -fno-strict-aliasing -pipe -fstack-protector -I/usr/local/include'
    ccversion='', gccversion='4.9.2', gccosandvers=''
    intsize=4, longsize=8, ptrsize=8, doublesize=8, byteorder=12345678
    d_longlong=define, longlongsize=8, d_longdbl=define, longdblsize=16
    ivtype='long', ivsize=8, nvtype='double', nvsize=8, Off_t='off_t', lseeksize=8
    alignbytes=8, prototype=define
  Linker and Libraries:
    ld='cc', ldflags =' -fstack-protector -L/usr/local/lib'
    libpth=/usr/local/lib /lib/x86_64-linux-gnu /lib/../lib /usr/lib/x86_64-linux-gnu /usr/lib/../lib /lib /usr/lib
    libs=-lnsl -ldb -ldl -lm -lcrypt -lutil -lpthread -lc
    perllibs=-lnsl -ldl -lm -lcrypt -lutil -lpthread -lc
    libc=libc-2.19.so, so=so, useshrplib=false, libperl=libperl.a
    gnulibc_version='2.19'
  Dynamic Linking:
    dlsrc=dl_dlopen.xs, dlext=so, d_dlsymun=undef, ccdlflags='-Wl,-E'
    cccdlflags='-fPIC', lddlflags='-shared -O2 -L/usr/local/lib -fstack-protector'


Characteristics of this binary (from libperl): 
  Compile-time options: MULTIPLICITY PERL_DONT_CREATE_GVSV
                        PERL_IMPLICIT_CONTEXT PERL_MALLOC_WRAP USE_64_BIT_ALL
                        USE_64_BIT_INT USE_ITHREADS USE_LARGE_FILES
                        USE_PERLIO USE_REENTRANT_API
  Locally applied patches:
	Devel::PatchPerl 1.44
  Built under linux
  Compiled at Oct 12 2016 15:01:35
  %ENV:
    PERL="5.10.1"
    PERL5LIB=""
    PERL5OPT=""
    PERL5_CPANPLUS_IS_RUNNING="28787"
    PERL5_CPAN_IS_RUNNING="28787"
    PERLVER="5.10.1"
    PERL_INLINE_DIRECTORY="/home/david/.Inline-5.10.1"
    PERL_MM_USE_DEFAULT="1"
    PERL_USE_UNSAFE_INC="0"
  @INC:
    /home/david/cpantesting/perl-5.10.1/lib/5.10.1/x86_64-linux-thread-multi
    /home/david/cpantesting/perl-5.10.1/lib/5.10.1
    /home/david/cpantesting/perl-5.10.1/lib/site_perl/5.10.1/x86_64-linux-thread-multi
    /home/david/cpantesting/perl-5.10.1/lib/site_perl/5.10.1
    .