Back
From: metabase:user:32904986-c427-11df-a07f-b497e104d833
Subject: PASS PadWalker-1.98 v5.16.2 Mac OS X
Date: 2013-12-28T16:29:39Z
This distribution has been tested as part of the CPAN Testers
project, supporting the Perl programming language. See
http://wiki.cpantesters.org/ for more information or email
questions to cpan-testers-discuss@perl.org
--
Dear Robin Houston,
This is a computer-generated report for PadWalker-1.98
on perl 5.16.2, created by CPAN-Reporter-1.2010.
Thank you for uploading your work to CPAN. Congratulations!
All tests were successful.
Sections of this report:
* Tester comments
* Program output
* Prerequisites
* Environment and other context
------------------------------
TESTER COMMENTS
------------------------------
Additional comments from tester:
none provided
------------------------------
PROGRAM OUTPUT
------------------------------
Output from '/usr/bin/make test':
Running Mkbootstrap for PadWalker ()
chmod 644 PadWalker.bs
PERL_DL_NONLAZY=1 /usr/bin/perl "-MExtUtils::Command::MM" "-MTest::Harness" "-e" "undef *Test::Harness::Switches; test_harness(0, 'blib/lib', 'blib/arch')" t/*.t
t/closure.t ... ok
t/dm.t ........ ok
t/foo.t ....... ok
t/our.t ....... ok
t/recurse.t ... ok
t/sub.t ....... ok
t/test.t ...... ok
t/tt.t ........ ok
t/var_name.t .. ok
All tests successful.
Files=9, Tests=81, 0 wallclock secs ( 0.05 usr 0.02 sys + 0.09 cusr 0.04 csys = 0.20 CPU)
Result: PASS
------------------------------
PREREQUISITES
------------------------------
Prerequisite modules loaded:
requires:
Module Need Have
------------------- -------- --------
perl 5.008001 5.016002
build_requires:
Module Need Have
------------------- -------- --------
ExtUtils::MakeMaker 0 6.84
configure_requires:
Module Need Have
------------------- -------- --------
ExtUtils::MakeMaker 0 6.84
------------------------------
ENVIRONMENT AND OTHER CONTEXT
------------------------------
Environment variables:
LANG = sv_SE.UTF-8
PATH = /usr/bin:/bin:/usr/sbin:/sbin:/usr/local/bin:/opt/X11/bin:/usr/local/MacGPG2/bin
PERL5LIB =
PERL5OPT =
PERL5_CPANPLUS_IS_RUNNING = 7080
PERL5_CPAN_IS_RUNNING = 7080
SHELL = /bin/bash
TERM = xterm-256color
TMPDIR = /var/folders/yf/r2yf5lh16hzgk8ccs7h1kwfm0000gn/T/
VERSIONER_PERL_PREFER_32_BIT = no
VERSIONER_PERL_VERSION = 5.16
Perl special variables (and OS-specific diagnostics, for MSWin32):
$^X = /usr/bin/perl
$UID/$EUID = 501 / 501
$GID = 20 20 12 61 79 80 81 98 33 100 204 398 399
$EGID = 20 20 12 61 79 80 81 98 33 100 204 398 399
Perl module toolchain versions installed:
Module Have
------------------- --------
CPAN 2.00
CPAN::Meta 2.133380
Cwd 3.40
ExtUtils::CBuilder 0.280212
ExtUtils::Command 1.17
ExtUtils::Install 1.58
ExtUtils::MakeMaker 6.84
ExtUtils::Manifest 1.61
ExtUtils::ParseXS 3.16
File::Spec 3.40
JSON 2.90
JSON::PP 2.27203
Module::Build 0.4203
Module::Signature 0.73
Parse::CPAN::Meta 1.4409
Test::Harness 3.30
Test::More 1.001002
YAML 0.88
YAML::Syck 1.27
version 0.9904
--
Summary of my perl5 (revision 5 version 16 subversion 2) configuration:
Platform:
osname=darwin, osvers=13.0, archname=darwin-thread-multi-2level
uname='darwin jackson.apple.com 13.0 darwin kernel version 13.0.0: tue jul 30 20:52:22 pdt 2013; root:xnu-2422.1.53~3release_x86_64 x86_64 '
config_args='-ds -e -Dprefix=/usr -Dccflags=-g -pipe -Dldflags= -Dman3ext=3pm -Duseithreads -Duseshrplib -Dinc_version_list=none -Dcc=cc'
hint=recommended, useposix=true, d_sigaction=define
useithreads=define, usemultiplicity=define
useperlio=define, d_sfio=undef, uselargefiles=define, usesocks=undef
use64bitint=define, use64bitall=define, uselongdouble=undef
usemymalloc=n, bincompat5005=undef
Compiler:
cc='cc', ccflags ='-arch x86_64 -arch i386 -g -pipe -fno-common -DPERL_DARWIN -fno-strict-aliasing -fstack-protector -I/usr/local/include',
optimize='-Os',
cppflags='-g -pipe -fno-common -DPERL_DARWIN -fno-strict-aliasing -fstack-protector -I/usr/local/include'
ccversion='', gccversion='4.2.1 Compatible Apple LLVM 5.0 (clang-500.0.68)', gccosandvers=''
intsize=4, longsize=8, ptrsize=8, doublesize=8, byteorder=12345678
d_longlong=define, longlongsize=8, d_longdbl=define, longdblsize=16
ivtype='long', ivsize=8, nvtype='double', nvsize=8, Off_t='off_t', lseeksize=8
alignbytes=8, prototype=define
Linker and Libraries:
ld='cc -mmacosx-version-min=10.9', ldflags ='-arch x86_64 -arch i386 -fstack-protector -L/usr/local/lib'
libpth=/usr/local/lib /usr/lib
libs=
perllibs=
libc=, so=dylib, useshrplib=true, libperl=libperl.dylib
gnulibc_version=''
Dynamic Linking:
dlsrc=dl_dlopen.xs, dlext=bundle, d_dlsymun=undef, ccdlflags=' '
cccdlflags=' ', lddlflags='-arch x86_64 -arch i386 -bundle -undefined dynamic_lookup -L/usr/local/lib -fstack-protector'
Characteristics of this binary (from libperl):
Compile-time options: HAS_TIMES MULTIPLICITY PERLIO_LAYERS
PERL_DONT_CREATE_GVSV PERL_IMPLICIT_CONTEXT
PERL_MALLOC_WRAP PERL_PRESERVE_IVUV USE_64_BIT_ALL
USE_64_BIT_INT USE_ITHREADS USE_LARGE_FILES
USE_LOCALE USE_LOCALE_COLLATE USE_LOCALE_CTYPE
USE_LOCALE_NUMERIC USE_PERLIO USE_PERL_ATOF
USE_REENTRANT_API
Locally applied patches:
/Library/Perl/Updates/<version> comes before system perl directories
installprivlib and installarchlib points to the Updates directory
CVE-2013-1667 hashtable DOS fix
Built under darwin
Compiled at Aug 25 2013 01:24:40
%ENV:
PERL5LIB=""
PERL5OPT=""
PERL5_CPANPLUS_IS_RUNNING="7080"
PERL5_CPAN_IS_RUNNING="7080"
@INC:
/Library/Perl/5.16/darwin-thread-multi-2level
/Library/Perl/5.16
/Network/Library/Perl/5.16/darwin-thread-multi-2level
/Network/Library/Perl/5.16
/Library/Perl/Updates/5.16.2/darwin-thread-multi-2level
/Library/Perl/Updates/5.16.2
/System/Library/Perl/5.16/darwin-thread-multi-2level
/System/Library/Perl/5.16
/System/Library/Perl/Extras/5.16/darwin-thread-multi-2level
/System/Library/Perl/Extras/5.16
.